BEGIN:VCALENDAR
VERSION:2.0
PRODID:-//Academie Kloster Eberbach - ECPv6.8.1//NONSGML v1.0//EN
CALSCALE:GREGORIAN
METHOD:PUBLISH
X-ORIGINAL-URL:https://kloster-academie.de
X-WR-CALDESC:Veranstaltungen für Academie Kloster Eberbach
REFRESH-INTERVAL;VALUE=DURATION:PT1H
X-Robots-Tag:noindex
X-PUBLISHED-TTL:PT1H
BEGIN:VTIMEZONE
TZID:Europe/Berlin
BEGIN:DAYLIGHT
TZOFFSETFROM:+0100
TZOFFSETTO:+0200
TZNAME:CEST
DTSTART:20260329T010000
END:DAYLIGHT
BEGIN:STANDARD
TZOFFSETFROM:+0200
TZOFFSETTO:+0100
TZNAME:CET
DTSTART:20261025T010000
END:STANDARD
END:VTIMEZONE
BEGIN:VEVENT
DTSTART;TZID=Europe/Berlin:20261202T180000
DTEND;TZID=Europe/Berlin:20261202T210000
DTSTAMP:20260422T122542
CREATED:20251215T103626Z
LAST-MODIFIED:20260109T154947Z
UID:6906-1796234400-1796245200@kloster-academie.de
SUMMARY:Wachsen wir aus der Krise - wie steht es wirtschafts- und gesellschaftspolitisch um unser Land zum Jahreswechsel?
DESCRIPTION:Wachsen wir aus der Krise – wie steht es wirtschafts- und gesellschaftspolitisch um unser Land zum Jahreswechsel?\nZum Inhalt des Vortrags am 02. Dezember: \nBewertung der Rahmenbedingungen am (Noch-) Industriestandort Deutschland: Wo sind wir gut aufgestellt und wo gibt es Handlungsbedarf? \nZur Person unserer Referentin: \n \nAstrid Hamker\nUnternehmerin\, Aufsichtsrätin sowie Präsidentin des Wirtschaftsrates der CDU\, Berlin \nFrau Hamker ist erfahrene Unternehmerin\, Aufsichtsrätin und Beraterin mit langjähriger Führungserfahrung in Familienunternehmen. Sie bekleidet zentrale Aufsichts- und Beiratsmandate u. a. bei Tengelmann Twenty-One\, Drägerwerk\, Schmitz Cargobull\, L. Possehl und der Felix Schoeller Gruppe. Schwerpunkt ihrer Arbeit sind Unternehmensstrategie\, Governance und Generationsnachfolge. Seit 2019 ist sie Präsidentin des Wirtschaftsrates und engagiert sich an der Schnittstelle von Wirtschaft und Politik für die Soziale Marktwirtschaft. Sie ist Gesellschafterin und Mitglied des Beirates der Piepenbrock Unternehmensgruppe GmbH & Co. KG und mit der KOMPASS-Beratung selbständig tätig \n\nWas Sie erwartet: \n\nVortrag: 60 Minuten\nAnschließende Begegnung & Austausch\nOptional: Schweige-Meditation um 18:30 Uhr\n(inkl. Vorgespräch für Neueinsteiger ab 18:00 Uhr)\n\nDie Struktur bleibt von Veranstaltung zu Veranstaltung gleich – der inhaltliche Schwerpunkt und der Referent wechseln. \nFür wen ist dieses Format gedacht? \nFür alle\, die geistige Anregung\, neue Perspektiven und einen bewussten Gegenpol zum Alltag suchen – unabhängig von Vorkenntnissen. \nRahmen & Teilnahme \nZeit: \n\n\n\n\n\n18:00 Uhr – 18:30 Uhr (Vorbesprechung zur Meditation)\n18:30 Uhr – 19:00 Uhr (Schweigemeditation)\n19:00 Uhr – 21:00 Uhr (Vortrag)\n\n\n\n\n\nOrt: Kloster Eberbach\, Raum „Hospitalstube“ (ausgeschildert) (unter der Vinothek)\nAnmeldung: Der Anmeldelink befindet sich am Ende der Seite \nTeilnahmebeitrag: \n\nFür Mitglieder der Academie Kloster Eberbach: kostenfrei\nFür Nicht-Mitglieder: 5\,- Euro Teilnahmebeitrag vor Ort\n\n\nAnfahrt\nDer Veranstaltungsraum befindet sich in der Regel im Raum „Hospitalstube“(unter der Vinothek). Der Weg ist vom Innenhof des Klosters aus beschildert. \n\n\n\n—–\n\nEine Veranstaltung mit Unterstützung der Stiftung Kloster Eberbach.
URL:https://kloster-academie.de/event/wachsen-wir-aus-der-krise-wie-steht-es-wirtschafts-und-gesellschaftspolitisch-um-unser-land-zum-jahreswechsel/
LOCATION:Kloster Eberbach\, Kloster-Eberbach-Str. 1\, Eltville am Rhein\, Hessen\, 65346
CATEGORIES:Eberbacher Impulse,Highlights
ATTACH;FMTTYPE=image/png:https://kloster-academie.de/wp-content/uploads/2020/06/Eberbacher-Impulse.png
ORGANIZER;CN="Academie Kloster Eberbach":MAILTO:info@kloster-academie.de
END:VEVENT
END:VCALENDAR