BEGIN:VCALENDAR
VERSION:2.0
PRODID:-//Academie Kloster Eberbach - ECPv6.8.1//NONSGML v1.0//EN
CALSCALE:GREGORIAN
METHOD:PUBLISH
X-WR-CALNAME:Academie Kloster Eberbach
X-ORIGINAL-URL:https://kloster-academie.de
X-WR-CALDESC:Veranstaltungen für Academie Kloster Eberbach
REFRESH-INTERVAL;VALUE=DURATION:PT1H
X-Robots-Tag:noindex
X-PUBLISHED-TTL:PT1H
BEGIN:VTIMEZONE
TZID:Europe/Berlin
BEGIN:DAYLIGHT
TZOFFSETFROM:+0100
TZOFFSETTO:+0200
TZNAME:CEST
DTSTART:20260329T010000
END:DAYLIGHT
BEGIN:STANDARD
TZOFFSETFROM:+0200
TZOFFSETTO:+0100
TZNAME:CET
DTSTART:20261025T010000
END:STANDARD
END:VTIMEZONE
BEGIN:VEVENT
DTSTART;TZID=Europe/Berlin:20261007T180000
DTEND;TZID=Europe/Berlin:20261007T210000
DTSTAMP:20260420T174346
CREATED:20251222T131732Z
LAST-MODIFIED:20260109T154930Z
UID:6980-1791396000-1791406800@kloster-academie.de
SUMMARY:Der 7. Oktober - drei Jahre danach… Wie steht es um den Nahen Osten?
DESCRIPTION:Der 7. Oktober – drei Jahre danach… Wie steht es um den Nahen Osten?\nEin Abend der Inspiration\, Reflexion und geistigen Weite. Die Eberbacher Impulse greifen Themen aus Kultur\, Geschichte\, Spiritualität und Gegenwart auf. \nZum Inhalt des Vortrags am 07. Oktober \nDrei Jahre nach dem größten Massaker an Juden seit der Shoa ist das Bild leider ein düsteres: Hunderte antisemitische Überfälle\, die versuchen jüdisches Leben weltweit zu eliminieren. Radikalisierte Stimmen von Islamisten und Linksextremisten vereinen sich in der Verherrlichung der nihilistischen Ideologie der „globalisierten Intifada“. Sie normalisieren Narrative\, die Gewalttaten glorifizieren\, und animieren zur Nachahmung. Die jüdische Gemeinschaft weltweit ist verunsichert\, jüdisches Leben wird unsichtbar. Zugleich leidet vor allem das Palästinensische Volk unter der noch immer Macht ausübenden Hamas\, die weder definanziert noch entmilitarisiert werden konnte. Welche Verantwortung trägt der Westen? Welche Wirkhebel haben wir\, unsere Politik? \nZur Person unserer Referentin: \n \nMirijam Rosenstein\n \nMirjam Rosenstein ist Expertin für Außen- und Sicherheitspolitik mit Fokus auf den Nahen Osten. Sie ist die Executive Director von NAFFO e.V. (NAHOST FRIEDENSFORUM). Davor war sie Senior Manager Governmental Affairs bei einem führenden internationalen Pharmaunternehmen und viele Jahre in verschiedenen Unternehmensberatungen als Expertin für Public Affairs tätig. Frau Rosenstein studierte Volkswirtschaftslehre und Soziologie an der Universität St. Gallen\, Schweiz. \n\nWas Sie erwartet: \n\nVortrag: 60 Minuten\nAnschließende Begegnung & Austausch\nOptional: Schweige-Meditation um 18:30 Uhr\n(inkl. Vorgespräch für Neueinsteiger ab 18:00 Uhr)\n\nDie Struktur bleibt von Veranstaltung zu Veranstaltung gleich – der inhaltliche Schwerpunkt und der Referent wechseln. \nFür wen ist dieses Format gedacht? \nFür alle\, die geistige Anregung\, neue Perspektiven und einen bewussten Gegenpol zum Alltag suchen – unabhängig von Vorkenntnissen. \nRahmen & Teilnahme \nZeit: \n\n\n\n\n\n18:00 Uhr – 18:30 Uhr (Vorbesprechung zur Meditation)\n18:30 Uhr – 19:00 Uhr (Schweigemeditation)\n19:00 Uhr – 21:00 Uhr (Vortrag)\n\n\n\n\n\nOrt: Kloster Eberbach\, Raum „Hospitalstube“ (ausgeschildert) (unter der Vinothek)\nAnmeldung: Der Anmeldelink befindet sich am Ende der Seite \nTeilnahmebeitrag: \n\nFür Mitglieder der Academie Kloster Eberbach: kostenfrei\nFür Nicht-Mitglieder: 5\,- Euro Teilnahmebeitrag vor Ort\n\n\nAnfahrt \nDer Veranstaltungsraum befindet sich in der Regel im Raum „Hospitalstube“(unter der Vinothek). Der Weg ist vom Innenhof des Klosters aus beschildert. \n\n\n\n—–\n\nEine Veranstaltung mit Unterstützung der Stiftung Kloster Eberbach.
URL:https://kloster-academie.de/event/der-7-oktober-drei-jahre-danach-wie-steht-es-um-den-nahen-osten/
LOCATION:Kloster Eberbach\, Kloster-Eberbach-Str. 1\, Eltville am Rhein\, Hessen\, 65346
CATEGORIES:Eberbacher Impulse,Highlights
ATTACH;FMTTYPE=image/png:https://kloster-academie.de/wp-content/uploads/2020/06/Eberbacher-Impulse.png
ORGANIZER;CN="Academie Kloster Eberbach":MAILTO:info@kloster-academie.de
END:VEVENT
END:VCALENDAR