BEGIN:VCALENDAR
VERSION:2.0
PRODID:-//Academie Kloster Eberbach - ECPv6.8.1//NONSGML v1.0//EN
CALSCALE:GREGORIAN
METHOD:PUBLISH
X-ORIGINAL-URL:https://kloster-academie.de
X-WR-CALDESC:Veranstaltungen für Academie Kloster Eberbach
REFRESH-INTERVAL;VALUE=DURATION:PT1H
X-Robots-Tag:noindex
X-PUBLISHED-TTL:PT1H
BEGIN:VTIMEZONE
TZID:Europe/Berlin
BEGIN:DAYLIGHT
TZOFFSETFROM:+0100
TZOFFSETTO:+0200
TZNAME:CEST
DTSTART:20260329T010000
END:DAYLIGHT
BEGIN:STANDARD
TZOFFSETFROM:+0200
TZOFFSETTO:+0100
TZNAME:CET
DTSTART:20261025T010000
END:STANDARD
END:VTIMEZONE
BEGIN:VEVENT
DTSTART;TZID=Europe/Berlin:20260204T180000
DTEND;TZID=Europe/Berlin:20260204T210000
DTSTAMP:20260420T142756
CREATED:20251209T142856Z
LAST-MODIFIED:20260119T190452Z
UID:6831-1770228000-1770238800@kloster-academie.de
SUMMARY:Der German Wings-Absturz 2015 - Umgang mit dem Unvorstellbaren: Persönliche Erfahrungen aus einer Katastrophe
DESCRIPTION:Der German Wings-Absturz 2015 – Umgang mit dem Unvorstellbaren: Persönliche Erfahrungen aus einer Katastrophe\nEin Abend der Inspiration\, Reflexion und geistigen Weite. Die Eberbacher Impulse greifen Themen aus Kultur\, Geschichte\, Spiritualität und Gegenwart auf. \nZum Inhalt des Vortrags am 04. Februar: \nDer German Wings-Absturz 2015 – Umgang mit dem Unvorstellbaren: Persönliche Erfahrungen aus einer Katastrophe Nach zehn Jahren ein Rückblick in eine Welt\, mit der man niemals glaubte\, umgehen\, ja leben zu müssen. Referent: Ulrich Link\, Luftfahrt Manager\, Leiter Abteilung \,\,Post-Emergency-Organisation“ im Auftrag der Lufthansa \nAufbau des Vortrages: \n\nSchilderung der Ereignisse\, Faktenlage. \nMein persönliches Involvement\, Rolle\, Aufgaben.\nDie Interaktion mit den zahlreichen\, unterschiedlichen Gruppen der Betroffenen.\nMenschliche Erfahrungen.\nWie geht man als nicht direkt Betroffener (also nicht Angehöriger eines Opfers) mit einer unvorhersehbaren Katastrophe um – die aber gemanagt werden muss.\nNachwirkungen – Schlussfolgerungen.  \n\nZur Person unseres Referenten: \n \nUlrich Link  \n\nAbi St. Blasien 1976\, Studium in Aachen\, Wirtschaftsingenieur (Chemie/BWL)\, 68 J alt.\n5 Jahre HENKEL KgaA\, Düsseldorf\, dann 30 Jahre Lufthansa\, in unterschiedlichen Töchtern der LH Group. Davon ca. 20 Jahre als LH-Regionaldirektor in den Auslandsniederlassungen Schweden\, Frankreich\, Ägypten\, Madagaskar gelebt u. gearbeitet.\nZahlreiche weitere Auslandseinsätze\, Middle-East\, arabische Welt\, Afrika.\nImmer international tätig gewesen. Fasziniert von anderen Ländern\, Kulturen\, Sprachen. \nLetzter Einsatz für Lufthansa: 2 ½ Jahre als Leiter des Außenpostens in Südfrankreich der sog. „Post-Emergency-Organisation“\, die mit der „Abwicklung“ des Absturzes der Germanwings vom 24.03.2015 betraut war.\nVor acht Jahren aus dem aktiven Berufsleben in ein ebenso aktives „Leben danach“ ausgeschieden: Tätigkeit als Trainer in Fitness\, Yoga. Jugendarbeit\, Französisch-Kurse… Familie\, Reisen. \n\n\nWas Sie erwartet: \n\nVortrag: 60 Minuten\nAnschließende Begegnung & Austausch\nOptional: Schweige-Meditation um 18:30 Uhr\n(inkl. Vorgespräch für Neueinsteiger ab 18:00 Uhr)\n\nDie Struktur bleibt von Veranstaltung zu Veranstaltung gleich – der inhaltliche Schwerpunkt und der Referent wechseln. \nFür wen ist dieses Format gedacht? \nFür alle\, die geistige Anregung\, neue Perspektiven und einen bewussten Gegenpol zum Alltag suchen – unabhängig von Vorkenntnissen. \nRahmen & Teilnahme \nZeit: \n\n\n\n\n\n18:00 Uhr – 18:30 Uhr (Vorbesprechung zur Meditation)\n18:30 Uhr – 19:00 Uhr (Schweigemeditation)\n19:00 Uhr – 21:00 Uhr (Vortrag)\n\n\n\n\n\nOrt: Kloster Eberbach\, Raum „Hospitalstube“ (ausgeschildert) (unter der Vinothek)\nAnmeldung: Der Anmeldelink befindet sich am Ende der Seite \nTeilnahmebeitrag: \n\nFür Mitglieder der Academie Kloster Eberbach: kostenfrei\nFür Nicht-Mitglieder: 5\,- Euro Teilnahmebeitrag vor Ort\n\n\nAnfahrt \nDer Veranstaltungsraum befindet sich in der Regel im Raum „Hospitalstube“(unter der Vinothek). Der Weg ist vom Innenhof des Klosters aus beschildert. \n\n\n\n—–\n\nEine Veranstaltung mit Unterstützung der Stiftung Kloster Eberbach.
URL:https://kloster-academie.de/event/eberbacher-impulse-der-german-wings-absturz-2015-umgang-mit-dem-unvorstellbaren-persoenliche-erfahrungen-aus-einer-katastrophe/
LOCATION:Kloster Eberbach\, Kloster-Eberbach-Str. 1\, Eltville am Rhein\, Hessen\, 65346
CATEGORIES:Eberbacher Impulse,Highlights
ATTACH;FMTTYPE=image/png:https://kloster-academie.de/wp-content/uploads/2020/06/Eberbacher-Impulse.png
ORGANIZER;CN="Academie Kloster Eberbach":MAILTO:info@kloster-academie.de
END:VEVENT
END:VCALENDAR