BEGIN:VCALENDAR
VERSION:2.0
PRODID:-//Academie Kloster Eberbach - ECPv6.8.1//NONSGML v1.0//EN
CALSCALE:GREGORIAN
METHOD:PUBLISH
X-WR-CALNAME:Academie Kloster Eberbach
X-ORIGINAL-URL:https://kloster-academie.de
X-WR-CALDESC:Veranstaltungen für Academie Kloster Eberbach
REFRESH-INTERVAL;VALUE=DURATION:PT1H
X-Robots-Tag:noindex
X-PUBLISHED-TTL:PT1H
BEGIN:VTIMEZONE
TZID:Europe/Berlin
BEGIN:DAYLIGHT
TZOFFSETFROM:+0100
TZOFFSETTO:+0200
TZNAME:CEST
DTSTART:20250330T010000
END:DAYLIGHT
BEGIN:STANDARD
TZOFFSETFROM:+0200
TZOFFSETTO:+0100
TZNAME:CET
DTSTART:20251026T010000
END:STANDARD
END:VTIMEZONE
BEGIN:VEVENT
DTSTART;TZID=Europe/Berlin:20250604T190000
DTEND;TZID=Europe/Berlin:20250604T210000
DTSTAMP:20260424T223755
CREATED:20241230T141616Z
LAST-MODIFIED:20250114T180018Z
UID:5899-1749063600-1749070800@kloster-academie.de
SUMMARY:Eberbacher Impulse: Die Bedeutung von Qualitätsmedien in Deutschland - warum es sich lohnt\, dafür einzustehen!
DESCRIPTION:Die Bedeutung von Qualitätsmedien in Deutschland – warum es sich lohnt\, dafür einzustehen! \nReferent: \nDr. Rainer Esser\, CEO ZEIT-Verlagsgruppe\, Hamburg \n———–\n\n\nZum Inhalt des Vortrags:\n\nInformationen folgen zeitnah \n  \n\n\n\nZur Person unseres Referenten\n\nFoto: Daniel Reiche\n\nDr. Rainer Esser\, Jahrgang 1957\, studierte nach einer Banklehre Jura in München\, Genf und London und machte danach einen Master of Law in den USA. Im Anschluss an das 2. Juristische Staatsexamen besuchte er die Deutsche Journalistenschule in München\, arbeitete mehrere Jahre lang als Anwalt und promovierte 1989. Seine erste Leitungsfunktion in den Medien übernahm er im selben Jahr bei der Verlagsgruppe Bertelsmann als Chefredakteur zweier juristischer Fachzeitschriften. 1992 wechselte er in die Position des Geschäftsführers des Spotlight-Verlags und war dort gleichzeitig Herausgeber mehrerer Zeitschriften. Nach vier Jahren als Geschäftsführer der »Main-Post« ging er 1999 zur ZEIT. Seit dem 1. Mai 2011 ist Rainer Esser neben seiner Position bei der ZEIT auch als Geschäftsführer für die DvH Medien GmbH tätig.\n\nhttp://www.zeit-verlagsgruppe.de/ \n\n\n\n\n\n—–\n\n\n\nAnmeldung und Kosten\nDie Teilnahme für Mitglieder der Academie Kloster Eberbach ist kostenlos. Von Nicht-Mitgliedern erbitten wir zur Deckung unserer Kosten einen Beitrag von 5\,- Euro vor Ort. Bitte melden Sie sich über untenstehenden Link an. \n\n\n—–\n\nAblauf\nDie Vorträge im Rahmen der Eberbacher Impulse beginnen um 19.00 Uhr und dauern ca. 1 Stunde. Anschließend gibt es die Möglichkeit zur Begegnung.\nVor den Vorträgen findet bei den Eberbacher Impulsen um 18.30 Uhr eine Schweige-Meditation statt\, ab 18.00 Uhr gibt es ein Vorgespräch zur Praxis der Meditation für Neueinsteiger oder generell an der Schweigemeditation Interessierte.\n\n\n—–\n\n\nAnfahrt\n\nDer Veranstaltungsraum ist in der Regel der Raum „Brauhaus“. Der Weg zum Veranstaltungsort ist vom Innenhof des Klosters aus beschildert. Die Anfahrt zum Innenhof finden Sie hier.\n\n\n—–\n\nEine Veranstaltung mit Unterstützung der Stiftung Kloster Eberbach.
URL:https://kloster-academie.de/event/eberbacher-impulse-2025-06-qualitaetsmedien/
LOCATION:Kloster Eberbach\, Kloster-Eberbach-Str. 1\, Eltville am Rhein\, Hessen\, 65346
CATEGORIES:Eberbacher Impulse,Highlights
ATTACH;FMTTYPE=image/png:https://kloster-academie.de/wp-content/uploads/2020/06/Eberbacher-Impulse.png
ORGANIZER;CN="Academie Kloster Eberbach":MAILTO:info@kloster-academie.de
END:VEVENT
END:VCALENDAR