BEGIN:VCALENDAR
VERSION:2.0
PRODID:-//Academie Kloster Eberbach - ECPv6.8.1//NONSGML v1.0//EN
CALSCALE:GREGORIAN
METHOD:PUBLISH
X-WR-CALNAME:Academie Kloster Eberbach
X-ORIGINAL-URL:https://kloster-academie.de
X-WR-CALDESC:Veranstaltungen für Academie Kloster Eberbach
REFRESH-INTERVAL;VALUE=DURATION:PT1H
X-Robots-Tag:noindex
X-PUBLISHED-TTL:PT1H
BEGIN:VTIMEZONE
TZID:Europe/Berlin
BEGIN:DAYLIGHT
TZOFFSETFROM:+0100
TZOFFSETTO:+0200
TZNAME:CEST
DTSTART:20250330T010000
END:DAYLIGHT
BEGIN:STANDARD
TZOFFSETFROM:+0200
TZOFFSETTO:+0100
TZNAME:CET
DTSTART:20251026T010000
END:STANDARD
END:VTIMEZONE
BEGIN:VEVENT
DTSTART;TZID=Europe/Berlin:20251218T193000
DTEND;TZID=Europe/Berlin:20251218T210000
DTSTAMP:20260422T141201
CREATED:20241229T094534Z
LAST-MODIFIED:20251105T085933Z
UID:5866-1766086200-1766091600@kloster-academie.de
SUMMARY:ACADEMIE to go: AUF DEN ARM GENOMMEN - Maria: Mutter Gottes\, Gottes Kind
DESCRIPTION:Diese Veranstaltung wird per Zoom stattfinden. Den Link finden Sie hier: \nhttps://zoom.us/j/94412478221?pwd=c2FYTitTMFRxTlRKOE5kYlhCdnIzdz09 \nMeeting-ID: 944 1247 8221\n \nMaria empfängt ihn\, trägt ihn herum. Er hüpft herunter und davon. Als sie lange nach ihm stirbt\, ist bei Gott alles anders: Jesus lebt und er nimmt sie auf – den Arm. \nKeine Anmeldung erforderlich\, Eintritt frei(willig) \n\n\nEine Veranstaltungsreihe der Academie Kloster Eberbach\n\nDauer: 90 Minuten
URL:https://kloster-academie.de/event/academie-to-go-2025-12-maria/
LOCATION:Online per Zoom
CATEGORIES:ACADEMIE to go,Highlights,Spiritualität & Gesellschaft
ATTACH;FMTTYPE=image/png:https://kloster-academie.de/wp-content/uploads/2020/06/Academie-to-go.png
ORGANIZER;CN="Academie Kloster Eberbach":MAILTO:info@kloster-academie.de
END:VEVENT
END:VCALENDAR