BEGIN:VCALENDAR
VERSION:2.0
PRODID:-//Academie Kloster Eberbach - ECPv6.8.1//NONSGML v1.0//EN
CALSCALE:GREGORIAN
METHOD:PUBLISH
X-WR-CALNAME:Academie Kloster Eberbach
X-ORIGINAL-URL:https://kloster-academie.de
X-WR-CALDESC:Veranstaltungen für Academie Kloster Eberbach
REFRESH-INTERVAL;VALUE=DURATION:PT1H
X-Robots-Tag:noindex
X-PUBLISHED-TTL:PT1H
BEGIN:VTIMEZONE
TZID:Europe/Berlin
BEGIN:DAYLIGHT
TZOFFSETFROM:+0100
TZOFFSETTO:+0200
TZNAME:CEST
DTSTART:20250330T010000
END:DAYLIGHT
BEGIN:STANDARD
TZOFFSETFROM:+0200
TZOFFSETTO:+0100
TZNAME:CET
DTSTART:20251026T010000
END:STANDARD
END:VTIMEZONE
BEGIN:VEVENT
DTSTART;TZID=Europe/Berlin:20251111T170000
DTEND;TZID=Europe/Berlin:20251111T180000
DTSTAMP:20260422T154410
CREATED:20250917T064914Z
LAST-MODIFIED:20251105T084426Z
UID:6546-1762880400-1762884000@kloster-academie.de
SUMMARY:Academie IM AUSTAUSCH - exklusiv für Mitglieder & Freunde
DESCRIPTION:„Bericht aus der kirchlichen Arbeit auf Kuba“\nIm Rahmen der Reihe ‚Academie IM AUSTAUSCH‘ wird uns der Priester und Seelsorger Radoslaw Lydkowski über ein Land mit vielen Gesichtern berichten. Wir laden ein zu einer spannenden Reise in eine andere Wirklichkeit! \nLassen Sie sich mitreißen! \n————- \nDer Referent schreibt zu seinem Vortrag: \n„Ich vermute\, dass für viele von Ihnen das Land Kuba\, eine Insel in der Karibik\, als ein touristisches Traumreiseziel gilt: 5 Sternehotels – all-inclusive. Ein Land mit exotischen Früchten und Getränken\, weißen Stränden mit Palmen\, alten Autos aus den 40er und 50er Jahren\, Zigarren und Rum. Man hört auf den Straßen und in den Hotels Musik und man sieht tanzende und lachende Menschen. Es ist ein schönes Bild\, das sich nach außen sehr gut verkauft. Leider ist es nur eine Seite des Lebens auf Kuba. \nWenn jemand sich traut\, die Touristenzone zu verlassen\, und eine Weile außerhalb dieser ‚Welt‘ verbringt\, wird er das ‚normale‘\, alltägliche Brot\, das Leben der Kubaner richtig kennenlernen. Ich werde darüber berichten: Wie lebe ich? Wie lebt der Kubaner? Wie lebt die Mehrheit der Menschen auf der Insel? \nMit einem Satz: Wir leben fast wie in einer Hölle auf der Erde. Wir leben mit einer Temperatur zwischen 30 und über 40 Grad\, sind meist ohne Strom – den gibt es nur 2×2 Stunden am Tag! Wir leben ohne Gas in der Küche\, sind ohne medizinische Versorgung\, und die Lebensmittel sind knapp. Darüber hinaus herrscht Angst\, öffentlich die eigene Meinung zu sagen. Nur wenige Kubaner haben Familienmitglieder im Ausland\, oder gehören der kommunistischen Partei an\, die zum Kreis der ‚Privilegierten‘ gehören. Wir versuchen\, unter diesen schwierigen Umständen zu überleben und zu arbeiten. \nMit der Zeit spüre ich den Schmerz und das leidende Herz der hoffnungslosen Kubaner und doch spüre ich gleichzeitig persönlich ein starkes Bedürfnis\, da zu sein\, um den Menschen vor Ort zu dienen. \nNehmen Sie sich die Zeit\, eine spannende Reise mit mir zu unternehmen und lernen Sie das Land außerhalb der Touristenzone kennen!“ \n  \n————- \nZum Referenten \nPfarrer Radoslaw Lydkowski\, Seelsorger in Bayamo\, Kuba wurde 1984 in Siedlce\, Polen geboren. Er studierte Philosophie und Theologie in Siedlce\, Polen (2004 – 2007) und an der Philosophisch-Theol. Hochschule St. Georgen in Frankfurt (2007 – 2012). Von 2012 – 2017 war er Kaplan in der Pfarrei St. Bonifatius\, Wiesbaden\, danach in der Pfarrei St. Peter u. Paul in Höhr-Grenzhausen (2017 – 2020). Nach seinem Pfarrexamen in 2020 war er Pfarrverwalter und absolvierte einen Vorbereitungskurs für die Missionsarbeit in Warschau (2020 – 2021).\nSeit 2021 ist er Pfarrer in der Pfarrei Allerheiligster Erlöser der Welt in Bayamo\, Kuba. \n————- \nDie Academie IM AUSTAUSCH wird einmal pro Quartal exklusiv für unsere Mitglieder & Freunde als Online–Veranstaltung über Zoom angeboten.  \nAlle sind herzlich eingeladen\, sich in diesem Rahmen über aktuelle Werte–Debatten zu informieren und auszutauschen. Jedes Mitglied kann gern einen weiteren Interessenten zu dieser Veranstaltung anmelden. \nDer Einwahl–Link wird den Mitgliedern separat zugeschickt. \nSie sind noch kein Mitglied und möchten an der Veranstaltung teilnehmen? Finden Sie alle Informationen über eine Mitgliedschaft\, dessen Vorteile und das Anmeldeformular hier. \nEine Veranstaltungsreihe der Academie Kloster Eberbach\n\nDauer: 60 Minuten
URL:https://kloster-academie.de/event/academie-im-austausch-exklusiv-fuer-mitglieder-freunde-2/
LOCATION:Online per Zoom
CATEGORIES:Highlights,Spiritualität & Gesellschaft
ATTACH;FMTTYPE=image/png:https://kloster-academie.de/wp-content/uploads/2022/01/Academie-im-Austauschv3.png
ORGANIZER;CN="Academie Kloster Eberbach":MAILTO:info@kloster-academie.de
END:VEVENT
BEGIN:VEVENT
DTSTART;TZID=Europe/Berlin:20251120T193000
DTEND;TZID=Europe/Berlin:20251120T210000
DTSTAMP:20260422T154410
CREATED:20241229T094428Z
LAST-MODIFIED:20251105T085023Z
UID:5869-1763667000-1763672400@kloster-academie.de
SUMMARY:ACADEMIE to go: MIT TÜREN LEBEN - Höllenpforte\, Himmelspforte
DESCRIPTION:Diese Veranstaltung wird per Zoom stattfinden. Den Link finden Sie hier: \nhttps://zoom.us/j/94412478221?pwd=c2FYTitTMFRxTlRKOE5kYlhCdnIzdz09 \nMeeting-ID: 944 1247 8221\n \nWenn ein Papst ins Gefängnis geht\, um dort eine Tür aufzumachen\, beweist er heiligen Humor und Lust am Leben. Damit rennt er keineswegs offene Türen ein. \nKeine Anmeldung erforderlich\, Eintritt frei(willig) \n\n\nEine Veranstaltungsreihe der Academie Kloster Eberbach\n\nDauer: 90 Minuten
URL:https://kloster-academie.de/event/academie-to-go-2025-11-tueren/
LOCATION:Online per Zoom
CATEGORIES:ACADEMIE to go,Highlights,Spiritualität & Gesellschaft
ATTACH;FMTTYPE=image/png:https://kloster-academie.de/wp-content/uploads/2020/06/Academie-to-go.png
ORGANIZER;CN="Academie Kloster Eberbach":MAILTO:info@kloster-academie.de
END:VEVENT
BEGIN:VEVENT
DTSTART;TZID=Europe/Berlin:20251126T180000
DTEND;TZID=Europe/Berlin:20251128T160000
DTSTAMP:20260422T154410
CREATED:20241229T095543Z
LAST-MODIFIED:20251106T095553Z
UID:5888-1764180000-1764345600@kloster-academie.de
SUMMARY:2½-Tages-Seminar für Führungskräfte: Mit Werten wirksam führen
DESCRIPTION:Zweitages-Seminar im Forum Vinzenz Pallotti\, 56179 Vallendar (bei Koblenz). \nDas 21. Jahrhundert stellt Führungskräfte in vielerlei Hinsicht vor komplexe Herausforderungen. Der Ruf nach werteorientierter Führung wird immer lauter und dringlicher. Dabei werden die Ansprüche an ein vitales und erfülltes Leben immer größer. \nIn den letzten Jahren wurde viel debattiert über das Krisenmanagement einzelner Unternehmen. Doch die Folgen der aktuellen Krisen weltweit stellen uns vor bisher ungekannte Herausforderungen. Gerade wir Führungskräfte müssen uns vollkommen neuen Fragestellungen widmen. Sind wir uns unserer Vorbildfunktion bewusst und bereit\, effektive Veränderungen zu initiieren? Eines scheint glasklar: Allein auf technisch-bürokratische Lösungen des Notfallmanagements setzen\, wird die Mitarbeiter und das Unternehmen langfristig nicht resilient machen. \nLassen Sie uns ins konstruktive Gespräch kommen! \nFührung mit Werten gestalten \nDas Seminar der Academie Kloster Eberbach findet bereits zum 4. Mal statt und bietet eine praktische Auseinandersetzung mit grundlegenden Werten und Überzeugungen. Es richtet sich an Führungskräfte in Wirtschaft\, Politik\, Medien oder Verwaltung\, die konkrete Impulse für ihre Führungsaufgaben speziell aus der abendländisch christlichen Tradition suchen. \nDie von den Referenten vorgestellten Angebote und Impulse werden gemeinsam mit den Teilnehmern reflektiert und diskutiert. Darüber hinaus werden Elemente der Besinnung sowie eine Einführung in die Meditationspraxis angeboten\, die zu intuitiv guten Entscheidungen gerade auch in der Führung beitragen. Auf Wunsch bleiben die Teilnehmer in einem Kommunikations-Netzwerk verbunden. \nFlyer mit Programm zum Download\n \nDie Teilnahmegebühr (inkl. Verpflegung/Übernachtung im Forum Vinzenz Pallotti in 56179 Vallendar) beträgt für Mitglieder der Academie Kloster Eberbach 543\,- €\, für Nicht-Mitglieder 643\,- €. Bei Anmeldung bis zum 12. Juli erhalten Sie einen Rabatt von 20%. \nWir bitten um verbindliche Anmeldung bis zum 25. November 2025 – bitte verwenden Sie dazu untenstehenden Anmeldebutton. \n  \n  \n \n \nTrailer zum Führungskräfteseminar: \n\n  \n  \n 
URL:https://kloster-academie.de/event/2-tages-seminar-fuer-fuehrungskraefte-mit-werten-wirksam-fuehren/
LOCATION:Forum Vinzenz Pallotti\, Vallendar\, Pallottistr. 3\, Vallendar\, Rheinland-Pfalz\, 56179\, Germany
CATEGORIES:Führung & Werte,Highlights
ATTACH;FMTTYPE=image/png:https://kloster-academie.de/wp-content/uploads/2022/02/2.png
ORGANIZER;CN="Academie Kloster Eberbach":MAILTO:info@kloster-academie.de
END:VEVENT
END:VCALENDAR