BEGIN:VCALENDAR
VERSION:2.0
PRODID:-//Academie Kloster Eberbach - ECPv6.8.1//NONSGML v1.0//EN
CALSCALE:GREGORIAN
METHOD:PUBLISH
X-ORIGINAL-URL:https://kloster-academie.de
X-WR-CALDESC:Veranstaltungen für Academie Kloster Eberbach
REFRESH-INTERVAL;VALUE=DURATION:PT1H
X-Robots-Tag:noindex
X-PUBLISHED-TTL:PT1H
BEGIN:VTIMEZONE
TZID:Europe/Berlin
BEGIN:DAYLIGHT
TZOFFSETFROM:+0100
TZOFFSETTO:+0200
TZNAME:CEST
DTSTART:20250330T010000
END:DAYLIGHT
BEGIN:STANDARD
TZOFFSETFROM:+0200
TZOFFSETTO:+0100
TZNAME:CET
DTSTART:20251026T010000
END:STANDARD
END:VTIMEZONE
BEGIN:VEVENT
DTSTART;TZID=Europe/Berlin:20251202T170000
DTEND;TZID=Europe/Berlin:20251202T173000
DTSTAMP:20260423T154853
CREATED:20250530T150413Z
LAST-MODIFIED:20251105T085254Z
UID:6181-1764694800-1764696600@kloster-academie.de
SUMMARY:Schweige-Meditation Wiesbaden
DESCRIPTION:Meditationsangebot im Herzen von Wiesbaden\nIm Therapie Kompetenzzentrum Weiten\, mitten in der Wiesbadener Innenstadt (Marktplatz 13)\, gibt es ein regelmäßiges Meditationsangebot. In Kooperation mit der Academie Kloster Eberbach gibt es jeden Dienstag um 17:00 Uhr eine stille 30-minütige Gruppenmeditation\, die auf der Tradition der Wüstenväter basiert – eine spirituelle Praxis des inneren Weges\, verwurzelt in der abendländisch-christlichen Mystik. \nDie Veranstaltung findet im 4. Stock unseres Hauses statt und ist ausgeschildert. \nDie Meditation unterstützt die Stabilisierung der psychischen\, seelischen und körperlichen Gesundheit. Sie ist einfach in der Ausführung – aber fordert die bewusste Hinwendung zur inneren Stille. Dieses Angebot richtet sich an Patient:innen des Hauses\, erfahrene Meditierende sowie alle\, die neugierig sind und sich auf die heilsame Kraft der Stille einlassen möchten. \nAnmeldung:Bitte melden Sie sich vorab an unter: info@therapie-wiesbaden.de \noder direkt am Empfang im Therapie Kompetenzzentrum Weiten. \nWir freuen uns auf Ihre Teilnahme – kommen Sie mit uns auf eine Reise zur eigenen Mitte!
URL:https://kloster-academie.de/event/schweige-meditation-wiesbaden-27/
LOCATION:Therapie Kompetenzzentrum Weiten\, Marktplatz 13\, Wiesbaden\, Hessen\, 65183\, Germany
CATEGORIES:Meditation & Achtsamkeit
ATTACH;FMTTYPE=image/jpeg:https://kloster-academie.de/wp-content/uploads/2025/05/SCHWEIGE-MEDITATION-WIESBADEN-1.jpg
ORGANIZER;CN="Academie Kloster Eberbach":MAILTO:info@kloster-academie.de
END:VEVENT
BEGIN:VEVENT
DTSTART;TZID=Europe/Berlin:20251203T183000
DTEND;TZID=Europe/Berlin:20251203T190000
DTSTAMP:20260423T154853
CREATED:20241227T124432Z
LAST-MODIFIED:20251105T085321Z
UID:5814-1764786600-1764788400@kloster-academie.de
SUMMARY:Schweige-Meditation
DESCRIPTION:„Aus dem Schweigen kommt alle Kraft.“\nBernhard von Clairvaux (1091 – 1153)\nKloster Eberbach ist auch ein Ort der Stille. Kommen Sie zur Ruhe in der abendlichen klösterlichen Abgeschiedenheit. \nMittwochs von 18.30 Uhr bis 19.00 Uhr bieten wir Ihnen nach einer kurzen Einführung eine Schweigemeditation im Geist des Klosters an. Hier öffnet sich die Tür zu einer Dimension\, die in unserem Alltag oft zu kurz kommt. \nMeditation ist nicht nur ein wirksames Mittel gegen\nStress. Sie kann Ihnen auch helfen:\n• wacher und achtsamer zu werden\,\n• klarer zu sehen\,\n• Selbsterkenntnis zu gewinnen\,\n• innere Stärke zu entfalten\n• und bewusster zu handeln\nVorerfahrungen sind nicht erforderlich\, es reicht ein offenes Herz und eine halbe Stunde Zeit in der neun Jahrhunderte alten Klosteranlage. Probieren Sie es aus! \nDer Weg zum Meditations-Raum ist vom Innenhof des Klosters aus beschildert. Eine Anfahrtsskizze finden Sie hier. \n  \nDie Teilnahme ist kostenfrei. Eine Anmeldung ist nicht erforderlich. \n 
URL:https://kloster-academie.de/event/schweige-meditation-93/
LOCATION:Kloster Eberbach\, Kloster-Eberbach-Str. 1\, Eltville am Rhein\, Hessen\, 65346
CATEGORIES:Meditation & Achtsamkeit
ATTACH;FMTTYPE=image/png:https://kloster-academie.de/wp-content/uploads/2020/06/Schweige-Meditation.png
ORGANIZER;CN="Academie Kloster Eberbach":MAILTO:info@kloster-academie.de
END:VEVENT
BEGIN:VEVENT
DTSTART;TZID=Europe/Berlin:20251203T190000
DTEND;TZID=Europe/Berlin:20251203T210000
DTSTAMP:20260423T154853
CREATED:20241230T140531Z
LAST-MODIFIED:20251103T174841Z
UID:5894-1764788400-1764795600@kloster-academie.de
SUMMARY:Eberbacher Impulse: Seltsame Heilige? Mosaiksteine zur Entschlüsselung kurioser Geschichten
DESCRIPTION:Seltsame Heilige? Mosaiksteine zur Entschlüsselung kurioser Geschichten \nReferent: Prof. em. Leo Gros\, Hochschule Fresenius \n———–\n\n\nZum Inhalt des Vortrags:\n\nAn ausgewählten Beispielen wird gezeigt\, warum und wie Menschen Heilige werden\, was Menschen sich aus ihnen machten\, und was sie für uns heute noch bedeuten können. \nSeltsam: Ein Relief zeigt den Bischof Urban\, darunter die Lebensdaten des gleichnamigen Papstes. \nZwei ihrerseits namensgleiche Männer unterscheidet man als Sommer- und Winterhannes. \nDa trägt einer seinen abgeschlagenen Kopf kilometerweit – seine Lebensgeschichte umspannt mehrere Jahrhunderte – und um seinen Schädel gibt es Streit. \nDa hängt eine bärtige Frau am Kreuz\, sie verdankt ihre Existenz dem Unverständnis frommer Menschen. \nDa wird einer zum Helfer der Aidskranken – warum sieht er immer aus wie ein junger Gott? \nEs gibt auch Heilige\, die es wohl nie gab\, und doch reicht ihr Einfluss weit. \n  \nDiese und manche anderen Geschichten sind\, einmal entschlüsselt\, lehr-reich\, spannend\, manchmal kurios und doch inhaltsschwer. \n  \n\n\n\nZur Person unseres Referenten:\n\n\n\nAbitur an der Rheingauschule in Geisenheim 1970. Zivildienst beim DRK Rheingau 1970-72. Studium der Chemie in Mainz\, Promotion\, Assistent im Fachbereich Chemie 1972-1981. 1981-2016 Hochschullehrer an der Hochschule Fresenius\, 1997-2013 deren Vizepräsident. \nTheologie im Fernkurs 1973-1978. Weinversteigerer des VDP und der Hessischen Staatsweingüter 1995-2020. Mitglied u.a. des Freundeskreises Kloster Eberbach\, des Rheingauer Weinkonvents\, der Gesellschaft für Geschichte des Weines (Beirat)\, des Burgvereins Eltville\, der Gesellschaft Deutscher Chemiker. \nLebenslange Beschäftigung mit Kunstgeschichte (Schwerpunkt Ikonographie)\, Theologie\, Geschichte des Rheingaus und des Weinbaus. \n\n\n\n\n\n\n—–\n\n\n\nAnmeldung und Kosten\nDie Teilnahme für Mitglieder der Academie Kloster Eberbach ist kostenlos. Von Nicht-Mitgliedern erbitten wir zur Deckung unserer Kosten einen Beitrag von 5\,- Euro vor Ort. Bitte melden Sie sich über untenstehenden Link an. \n\n\n—–\n\nAblauf\nDie Vorträge im Rahmen der Eberbacher Impulse beginnen um 19.00 Uhr und dauern ca. 1 Stunde. Anschließend gibt es die Möglichkeit zur Begegnung.\nVor den Vorträgen findet bei den Eberbacher Impulsen um 18.30 Uhr eine Schweige-Meditation statt\, ab 18.00 Uhr gibt es ein Vorgespräch zur Praxis der Meditation für Neueinsteiger oder generell an der Schweigemeditation Interessierte.\n\n\n—–\n\n\nAnfahrt\n\nDer Veranstaltungsraum ist in der Regel der Raum „Brauhaus“. Der Weg zum Veranstaltungsort ist vom Innenhof des Klosters aus beschildert. Die Anfahrt zum Innenhof finden Sie hier.\n\n\n—–\n\nEine Veranstaltung mit Unterstützung der Stiftung Kloster Eberbach.
URL:https://kloster-academie.de/event/eberbacher-impulse-2025-12-heiligengeschichten/
LOCATION:Kloster Eberbach\, Kloster-Eberbach-Str. 1\, Eltville am Rhein\, Hessen\, 65346
CATEGORIES:Eberbacher Impulse,Highlights
ATTACH;FMTTYPE=image/png:https://kloster-academie.de/wp-content/uploads/2020/06/Eberbacher-Impulse.png
ORGANIZER;CN="Academie Kloster Eberbach":MAILTO:info@kloster-academie.de
END:VEVENT
BEGIN:VEVENT
DTSTART;TZID=Europe/Berlin:20251204T183000
DTEND;TZID=Europe/Berlin:20251204T190000
DTSTAMP:20260423T154853
CREATED:20241227T121954Z
LAST-MODIFIED:20251105T091047Z
UID:5701-1764873000-1764874800@kloster-academie.de
SUMMARY:Online-Meditation
DESCRIPTION:Wir bieten Interessierten JEDEN Donnerstag um 18.30 Uhr die Gelegenheit zur Teilnahme an einer Online-Meditation. Sie soll in der gleichen\, schlichten Form wie die Meditationen im Kloster Eberbach stattfinden: Kurze Einführung (ca. 5 Minuten) und Meditationszeit von gut 20 Minuten\, sodass jeder nach einer halben Stunde wieder „frei“ ist. \nWir sind Michael Hüttner sehr dankbar\, dass er diese Treffen leiten wird. Er ist Gründungsmitglied der Academie und dem Thema „Meditation“ schon seit langer Zeit verbunden. Nach seiner Tätigkeit bei der Commerzbank in Frankfurt ist er schwerpunktmäßig auch mit dem Thema „Coaching“ befasst. \nWir bitten darum\, so zeitig beizutreten\, dass die Zeit der Schweigemeditation nicht gestört wird.\nDen Zugang hierzu finden Sie über den folgenden Link\, der für die Online-Meditationen auch künftig gelten wird: \nhttps://zoom.us/j/98374369404?pwd=aDZKNStZTFR1WjNvZTVVQTZkVmpLdz09\nMeeting-ID: 983 7436 9404\nKenncode: 846603
URL:https://kloster-academie.de/event/online-meditation-80/
LOCATION:Online per Zoom
CATEGORIES:Meditation & Achtsamkeit
ATTACH;FMTTYPE=image/png:https://kloster-academie.de/wp-content/uploads/2021/06/oeffentlicher-vortrag-1.png
ORGANIZER;CN="Academie Kloster Eberbach":MAILTO:info@kloster-academie.de
END:VEVENT
BEGIN:VEVENT
DTSTART;TZID=Europe/Berlin:20251209T170000
DTEND;TZID=Europe/Berlin:20251209T173000
DTSTAMP:20260423T154853
CREATED:20250530T150420Z
LAST-MODIFIED:20251105T085418Z
UID:6182-1765299600-1765301400@kloster-academie.de
SUMMARY:Schweige-Meditation Wiesbaden
DESCRIPTION:Meditationsangebot im Herzen von Wiesbaden\nIm Therapie Kompetenzzentrum Weiten\, mitten in der Wiesbadener Innenstadt (Marktplatz 13)\, gibt es ein regelmäßiges Meditationsangebot. In Kooperation mit der Academie Kloster Eberbach gibt es jeden Dienstag um 17:00 Uhr eine stille 30-minütige Gruppenmeditation\, die auf der Tradition der Wüstenväter basiert – eine spirituelle Praxis des inneren Weges\, verwurzelt in der abendländisch-christlichen Mystik. \nDie Veranstaltung findet im 4. Stock unseres Hauses statt und ist ausgeschildert. \nDie Meditation unterstützt die Stabilisierung der psychischen\, seelischen und körperlichen Gesundheit. Sie ist einfach in der Ausführung – aber fordert die bewusste Hinwendung zur inneren Stille. Dieses Angebot richtet sich an Patient:innen des Hauses\, erfahrene Meditierende sowie alle\, die neugierig sind und sich auf die heilsame Kraft der Stille einlassen möchten. \nAnmeldung:Bitte melden Sie sich vorab an unter: info@therapie-wiesbaden.de \noder direkt am Empfang im Therapie Kompetenzzentrum Weiten. \nWir freuen uns auf Ihre Teilnahme – kommen Sie mit uns auf eine Reise zur eigenen Mitte!
URL:https://kloster-academie.de/event/schweige-meditation-wiesbaden-28/
LOCATION:Therapie Kompetenzzentrum Weiten\, Marktplatz 13\, Wiesbaden\, Hessen\, 65183\, Germany
CATEGORIES:Meditation & Achtsamkeit
ATTACH;FMTTYPE=image/jpeg:https://kloster-academie.de/wp-content/uploads/2025/05/SCHWEIGE-MEDITATION-WIESBADEN-1.jpg
ORGANIZER;CN="Academie Kloster Eberbach":MAILTO:info@kloster-academie.de
END:VEVENT
BEGIN:VEVENT
DTSTART;TZID=Europe/Berlin:20251210T183000
DTEND;TZID=Europe/Berlin:20251210T190000
DTSTAMP:20260423T154853
CREATED:20241227T124439Z
LAST-MODIFIED:20251105T085446Z
UID:5812-1765391400-1765393200@kloster-academie.de
SUMMARY:Schweige-Meditation
DESCRIPTION:„Aus dem Schweigen kommt alle Kraft.“\nBernhard von Clairvaux (1091 – 1153)\nKloster Eberbach ist auch ein Ort der Stille. Kommen Sie zur Ruhe in der abendlichen klösterlichen Abgeschiedenheit. \nMittwochs von 18.30 Uhr bis 19.00 Uhr bieten wir Ihnen nach einer kurzen Einführung eine Schweigemeditation im Geist des Klosters an. Hier öffnet sich die Tür zu einer Dimension\, die in unserem Alltag oft zu kurz kommt. \nMeditation ist nicht nur ein wirksames Mittel gegen\nStress. Sie kann Ihnen auch helfen:\n• wacher und achtsamer zu werden\,\n• klarer zu sehen\,\n• Selbsterkenntnis zu gewinnen\,\n• innere Stärke zu entfalten\n• und bewusster zu handeln\nVorerfahrungen sind nicht erforderlich\, es reicht ein offenes Herz und eine halbe Stunde Zeit in der neun Jahrhunderte alten Klosteranlage. Probieren Sie es aus! \nDer Weg zum Meditations-Raum ist vom Innenhof des Klosters aus beschildert. Eine Anfahrtsskizze finden Sie hier. \n  \nDie Teilnahme ist kostenfrei. Eine Anmeldung ist nicht erforderlich. \n 
URL:https://kloster-academie.de/event/schweige-meditation-94/
LOCATION:Kloster Eberbach\, Kloster-Eberbach-Str. 1\, Eltville am Rhein\, Hessen\, 65346
CATEGORIES:Meditation & Achtsamkeit
ATTACH;FMTTYPE=image/png:https://kloster-academie.de/wp-content/uploads/2020/06/Schweige-Meditation.png
ORGANIZER;CN="Academie Kloster Eberbach":MAILTO:info@kloster-academie.de
END:VEVENT
BEGIN:VEVENT
DTSTART;TZID=Europe/Berlin:20251211T183000
DTEND;TZID=Europe/Berlin:20251211T190000
DTSTAMP:20260423T154853
CREATED:20241227T122004Z
LAST-MODIFIED:20260119T190131Z
UID:5702-1765477800-1765479600@kloster-academie.de
SUMMARY:Online-Meditation
DESCRIPTION:Online-Meditation – jeden Donnerstag    18:30–19:00 Uhr\nTauchen Sie ein in einen Moment der Ruhe\, Präsenz und inneren Klarheit – direkt von Ihrem Arbeitsplatz oder Ihrem Zuhause aus. \nWas Sie erwartet\n•  Ankommen\, kurze Einführung\, Impuls (10 Min.)\n•  Sitzen in Stille (20 Min.) \nDiese Struktur bleibt Woche für Woche gleich – so entsteht ein vertrautes Ritual in Ihrem Kalender. \nFür wen ist dieses Format gedacht?\nFür alle\, die in ihrem beruflichen oder privaten Alltag einen verlässlichen Ruhepunkt einfügen möchten. \nRahmen & Teilnahme\n• Jeden Donnerstag um 18:30 Uhr\n• Ort: Online via Zoom (Link & Meeting-ID unten)\n• Dauer: 30 Min\n• Keine Anmeldung erforderlich – Eintritt frei\n• Bitte treten Sie möglichst pünktlich bei\, damit die Schweigephase ungestört beginnen kann. \nIhre Leitung\nMichael Hüttner\, Gründungsmitglied der Academie\, ausgebildet und langjährig erfahren im Bereich der Meditation – nach seiner Tätigkeit in der Finanzwelt begleitet er Menschen in ihrer persönlichen und beruflichen Ausrichtung in Klarheit und Achtsamkeit. \nZugang\nhttps://zoom.us/j/98374369404?pwd=aDZKNStZTFR1WjNvZTVVQTZkVmpLdz09\nMeeting-ID: 983 7436 9404\nKenncode: 846603 \nWir freuen uns auf Ihre Teilnahme.
URL:https://kloster-academie.de/event/online-meditation-81/
LOCATION:Online per Zoom
CATEGORIES:Meditation & Achtsamkeit
ATTACH;FMTTYPE=image/png:https://kloster-academie.de/wp-content/uploads/2021/06/oeffentlicher-vortrag-1.png
ORGANIZER;CN="Academie Kloster Eberbach":MAILTO:info@kloster-academie.de
END:VEVENT
BEGIN:VEVENT
DTSTART;TZID=Europe/Berlin:20251213T100000
DTEND;TZID=Europe/Berlin:20251213T170000
DTSTAMP:20260423T154853
CREATED:20250726T115053Z
LAST-MODIFIED:20251017T175043Z
UID:6406-1765620000-1765645200@kloster-academie.de
SUMMARY:Reflexionstag: Mut zu uns selber und zu unserer persönlichen Identität
DESCRIPTION:Zu unseren Fehlern stehen (die wir oft wiederholen) – unsere sympathischen Seiten sehen (die wir oft unterschätzen) \nEs geht an diesem Tag darum\, wie wir mit unseren Eigenheiten\, unseren Stärken und Schwächen\, offener auseinandersetzen und\, besonders in Krisen- und Konfliktsituationen\, besser umgehen können. \n\nReferent: Dr. phil. Peter Conzen\, Ehemaliger Leiter der Erziehungs- und Familienberatungsstelle des Caritasverbandes der Stadt Bonn\n\n\n\n———–\n\nAusführliche Informationen zum Reflexionstag\n\nWie schwierig und dornenreich der Weg der Selbsterkenntnis ist\, wie teilweise lückenhaft\, retuschiert und verzerrt unser Selbstbild\, beschäftigt die Menschheit von den Zeiten des antiken Mythos bis hin zu modernen Formen der Psychotherapie und Gruppenerfahrung.  Manche unserer Eigenheiten und Schwächen\, die anderen rasch ins Auge fallen\, bleiben nicht selten blinde Flecke unserer Selbstwahrnehmung. Aber auch unsere Vorzüge und Stärken\, das\, was uns sympathisch und liebenswert macht\, bleibt oft in unserer Selbstreflexion und im Gespräch mit anderen merkwürdig unterbelichtet. \nWie entwickeln und verändern sich die vielen Facetten unserer Identität im Lauf des Lebens? In welchem Maße prägen frühe Familienerfahrungen nach wie vor unser aktuelles Selbsterleben und Kontaktverhalten? Und wie können wir in unseren Begegnungen und Gesprächen ein wenig offener mit unseren Licht- und Schattenseiten umgehen\, ohne rasch in Projektion und Beschuldigungen oder Narzissmus und unkritische Idealisierung zu verfallen? \nDiesen Fragen will der Reflexionstag in einer Mischung aus fachlichem Input\, Gruppen-Diskussion und Beiträgen aus persönlichen Erfahrungen nachgehen. \nAblauf: \n\n\n10.00 Uhr: Begrüßung und Vorstellungrunde \n10.30 Uhr: Einführung in das Thema \n11.00 Uhr: Gruppengespräch / Austausch \n12.00 Uhr: Weiterer theoretischer Input \n13.00 Uhr: Mittagspause / Imbiss \n14.00 Uhr: Reflexion \n14.30 Uhr: Austausch in Kleingruppen \n15.15 Uhr: Rückmeldung im Plenum \n16.00 Uhr: Vertiefung persönlicher Erfahrungen / Persönliche Selbstreflexion \n16.45 Uhr: Was nehmen wir mit? \n17.00 Uhr: Ende des Reflexionstages \n\n\n\n\nZur Person unseres Referenten:\n\n\nStudium der Psychologie in Bonn; Promotion über das Werk des Psychoanalytikers Erik H. Erikson; seit 1985 Mitarbeiter in der Erziehungs- und Familienberatungsstelle des Bonner Caritasverbandes\, von 2005 bis zum Ruhestand im Jahre 2021 Leiter der Stelle; Wissenschaftliche Veröffentlichungen zum Werk Erik H. Eriksons\, zur Identitäts- und Fanatismusforschung. \nLetzte Buchveröffentlichungen: „Die bedrängte Seele. Identitätsprobleme in Zeiten der Verunsicherung“\, Stuttgart 2017\, Kohlhammer; „Erik H. Erikson. Grundpositionen seines Werkes“\, 2. Auflage\, Stuttgart 2021\, Kohlhammer \n\n\n\n\n—–\n\n\n\nAnmeldung und Kosten\n45\,00 Euro für Nicht-Mitglieder\, 35\,00 Euro für Mitglieder. Bitte melden Sie sich über untenstehenden Link an.
URL:https://kloster-academie.de/event/reflexionstag-mut-zu-uns-selber-und-zu-unserer-persoenlichen-identitaet/
LOCATION:Katholische Kirche St. Bonifatius Wiesbaden\, Luisenstraße 33\, Wiesbaden\, Hessen\, 65185\, Germany
CATEGORIES:Führung & Werte,Highlights
ATTACH;FMTTYPE=image/jpeg:https://kloster-academie.de/wp-content/uploads/2025/07/Reflexionstag.jpg
ORGANIZER;CN="Academie Kloster Eberbach":MAILTO:info@kloster-academie.de
END:VEVENT
BEGIN:VEVENT
DTSTART;TZID=Europe/Berlin:20251216T170000
DTEND;TZID=Europe/Berlin:20251216T173000
DTSTAMP:20260423T154853
CREATED:20250530T150429Z
LAST-MODIFIED:20251105T085649Z
UID:6180-1765904400-1765906200@kloster-academie.de
SUMMARY:Schweige-Meditation Wiesbaden
DESCRIPTION:Meditationsangebot im Herzen von Wiesbaden\nIm Therapie Kompetenzzentrum Weiten\, mitten in der Wiesbadener Innenstadt (Marktplatz 13)\, gibt es ein regelmäßiges Meditationsangebot. In Kooperation mit der Academie Kloster Eberbach gibt es jeden Dienstag um 17:00 Uhr eine stille 30-minütige Gruppenmeditation\, die auf der Tradition der Wüstenväter basiert – eine spirituelle Praxis des inneren Weges\, verwurzelt in der abendländisch-christlichen Mystik. \nDie Veranstaltung findet im 4. Stock unseres Hauses statt und ist ausgeschildert. \nDie Meditation unterstützt die Stabilisierung der psychischen\, seelischen und körperlichen Gesundheit. Sie ist einfach in der Ausführung – aber fordert die bewusste Hinwendung zur inneren Stille. Dieses Angebot richtet sich an Patient:innen des Hauses\, erfahrene Meditierende sowie alle\, die neugierig sind und sich auf die heilsame Kraft der Stille einlassen möchten. \nAnmeldung:Bitte melden Sie sich vorab an unter: info@therapie-wiesbaden.de \noder direkt am Empfang im Therapie Kompetenzzentrum Weiten. \nWir freuen uns auf Ihre Teilnahme – kommen Sie mit uns auf eine Reise zur eigenen Mitte!
URL:https://kloster-academie.de/event/schweige-meditation-wiesbaden-29/
LOCATION:Therapie Kompetenzzentrum Weiten\, Marktplatz 13\, Wiesbaden\, Hessen\, 65183\, Germany
CATEGORIES:Meditation & Achtsamkeit
ATTACH;FMTTYPE=image/jpeg:https://kloster-academie.de/wp-content/uploads/2025/05/SCHWEIGE-MEDITATION-WIESBADEN-1.jpg
ORGANIZER;CN="Academie Kloster Eberbach":MAILTO:info@kloster-academie.de
END:VEVENT
BEGIN:VEVENT
DTSTART;TZID=Europe/Berlin:20251217T183000
DTEND;TZID=Europe/Berlin:20251217T190000
DTSTAMP:20260423T154853
CREATED:20241227T124447Z
LAST-MODIFIED:20251212T092724Z
UID:5813-1765996200-1765998000@kloster-academie.de
SUMMARY:Schweige-Meditation
DESCRIPTION:Meditation – jeden Mittwoch um 18:30 Uhr \nEin Raum der Stille\, Klarheit und inneren Ausrichtung – im historischen Ambiente des Klosters Eberbach. Die Schweige-Meditation lädt dazu ein\, bewusst in eine kontemplative Tiefe einzutauchen. \nWas Sie erwartet \n\nAnkommen & kurze Einführung (ca. 5 Min.)\nSitzen in Stille – basierend auf der Tradition der Wüstenväter\, verwurzelt in der abendländisch-christlichen Mystik (ca. 20 Min.)\nAusklang & Verabschiedung (ca. 5 Min.)\n\nDiese Struktur bleibt Woche für Woche gleich – so entsteht ein vertrautes Ritual in Ihrem Kalender. \nFür wen ist dieses Format gedacht? \nFür alle Interessierten\, die einen stabilen Ruhepunkt suchen und sich auf die heilsame Kraft der Stille einlassen möchten. \nRahmen & Teilnahme \n\nJeden Mittwoch um 18:30 Uhr\nOrt: Kloster Eberbach\, Raum i. d. R. Hospitalstube oder gemäß Ausschilderung\nDauer: 30 Min.\nAnmeldung: Nicht notwendig\nHinweis: Bitte pünktlich erscheinen – die Schweigephase beginnt ohne weitere Unterbrechung.\n\nIhre Leitung \nIm Wechsel: Rebecca Thurmann-Britz\, Gerda Russler & Marcus M. Lübbering \nRebecca-Thurmann Britz: langjährige Erfahrung in Einzel- und Gruppenmeditation \,regelmäßige  Seminarteilnehmerin im Rahmen der Academie und der WCCM\, auch online international \,regelmäßiger Austausch mit anderen Gruppenleitenden zu Meditation mit Erwachsenen und mit Kindern \nGerda Russler: Senior-Lehrerin u.a. mit der Fachrichtung Religion. 2011 Ausbildung zur Begleiterin für „Exerzitien im Alltag“ (diese Ausbildung umfasste u.a.  die Praxis verschiedener christlicher Meditationsformen). Seitdem: Meditationsangebote in verschiedenen Kirchengemeinden sowie Begleitung von Schweigemeditationen im damaligen Exerzitien- und Bildungshaus Kloster Tiefenthal Eltville. Meditationsbegleitung in der Tradition der christlichen Wüstenväter (WCCM)  in der Academie Kloster Eberbach seit ca 4 Jahren. \nMarcus M. Lübbering: Meditationserfahrung seit Beginn der 80er Jahre\, zahlreiche Vorträge\, Workshops und Seminare zum Thema „Meditation“\, vor allem in der Tradition der christlichen Wüstenväter nach John Main (Weltgemeinschaft für Christliche Meditation)\, Verfasser des jeweils am Sonntag erscheinenden Meditations-Wochentextes. \nWir freuen uns auf Ihre Teilnahme. \nDie Zeit der gemeinsamen Stille kann ein erfrischender Neubeginn sein. Wir empfehlen eine Meditationspraxis auch allein während der übrigen Wochentage. \nWeiterführender Hinweis zur Meditation:  \nEine Einführung in die Meditation im abendländisch-christlichen Kontext findet an jedem zweiten Samstag im Quartal in einem Kurz-Seminar von 9.30 Uhr bis 13.00 Uhr im Kloster Eberbach statt\, ebenso gibt es eine Kurz-Einführung dazu vor jedem „Eberbacher Impuls“ i. d. R. an jedem ersten Mittwoch im Monat um 18.00 Uhr. Weitere Hinweise zur Meditation und zu entsprechenden Veranstaltungen erhalten Sie\, wenn Sie sich in den Interessentenverteiler eintragen: \nEine Anfahrtsskizze finden Sie hier.
URL:https://kloster-academie.de/event/schweige-meditation-95/
LOCATION:Kloster Eberbach\, Kloster-Eberbach-Str. 1\, Eltville am Rhein\, Hessen\, 65346
CATEGORIES:Meditation & Achtsamkeit
ATTACH;FMTTYPE=image/png:https://kloster-academie.de/wp-content/uploads/2020/06/Schweige-Meditation.png
ORGANIZER;CN="Academie Kloster Eberbach":MAILTO:info@kloster-academie.de
END:VEVENT
BEGIN:VEVENT
DTSTART;TZID=Europe/Berlin:20251218T183000
DTEND;TZID=Europe/Berlin:20251218T190000
DTSTAMP:20260423T154853
CREATED:20241227T122014Z
LAST-MODIFIED:20251205T143141Z
UID:5699-1766082600-1766084400@kloster-academie.de
SUMMARY:Online-Meditation
DESCRIPTION:Online-Meditation – jeden Donnerstag    18:30–19:00 Uhr\nTauchen Sie ein in einen Moment der Ruhe\, Präsenz und inneren Klarheit – direkt von Ihrem Arbeitsplatz oder Ihrem Zuhause aus. \nWas Sie erwartet\n•  Ankommen\, kurze Einführung\, Impuls (10 Min.)\n•  Sitzen in Stille (20 Min.) \nDiese Struktur bleibt Woche für Woche gleich – so entsteht ein vertrautes Ritual in Ihrem Kalender. \nFür wen ist dieses Format gedacht?\nFür alle\, die in ihrem beruflichen oder privaten Alltag einen verlässlichen Ruhepunkt einfügen möchten. \nRahmen & Teilnahme\n• Jeden Donnerstag um 18:30 Uhr\n• Ort: Online via Zoom (Link & Meeting-ID unten)\n• Dauer: 30 Min\n• Keine Anmeldung erforderlich – Eintritt frei\n• Bitte treten Sie möglichst pünktlich bei\, damit die Schweigephase ungestört beginnen kann. \nIhre Leitung\nMichael Hüttner\, Gründungsmitglied der Academie\, ausgebildet und langjährig erfahren im Bereich der Meditation – nach seiner Tätigkeit in der Finanzwelt begleitet er Menschen in ihrer persönlichen und beruflichen Ausrichtung in Klarheit und Achtsamkeit. \nZugang\nhttps://zoom.us/j/98374369404?pwd=aDZKNStZTFR1WjNvZTVVQTZkVmpLdz09\nMeeting-ID: 983 7436 9404\nKenncode: 846603 \nWir freuen uns auf Ihre Teilnahme.
URL:https://kloster-academie.de/event/online-meditation-82/
LOCATION:Online per Zoom
CATEGORIES:Meditation & Achtsamkeit
ATTACH;FMTTYPE=image/png:https://kloster-academie.de/wp-content/uploads/2021/06/oeffentlicher-vortrag-1.png
ORGANIZER;CN="Academie Kloster Eberbach":MAILTO:info@kloster-academie.de
END:VEVENT
BEGIN:VEVENT
DTSTART;TZID=Europe/Berlin:20251218T193000
DTEND;TZID=Europe/Berlin:20251218T210000
DTSTAMP:20260423T154853
CREATED:20241229T094534Z
LAST-MODIFIED:20251105T085933Z
UID:5866-1766086200-1766091600@kloster-academie.de
SUMMARY:ACADEMIE to go: AUF DEN ARM GENOMMEN - Maria: Mutter Gottes\, Gottes Kind
DESCRIPTION:Diese Veranstaltung wird per Zoom stattfinden. Den Link finden Sie hier: \nhttps://zoom.us/j/94412478221?pwd=c2FYTitTMFRxTlRKOE5kYlhCdnIzdz09 \nMeeting-ID: 944 1247 8221\n \nMaria empfängt ihn\, trägt ihn herum. Er hüpft herunter und davon. Als sie lange nach ihm stirbt\, ist bei Gott alles anders: Jesus lebt und er nimmt sie auf – den Arm. \nKeine Anmeldung erforderlich\, Eintritt frei(willig) \n\n\nEine Veranstaltungsreihe der Academie Kloster Eberbach\n\nDauer: 90 Minuten
URL:https://kloster-academie.de/event/academie-to-go-2025-12-maria/
LOCATION:Online per Zoom
CATEGORIES:ACADEMIE to go,Highlights,Spiritualität & Gesellschaft
ATTACH;FMTTYPE=image/png:https://kloster-academie.de/wp-content/uploads/2020/06/Academie-to-go.png
ORGANIZER;CN="Academie Kloster Eberbach":MAILTO:info@kloster-academie.de
END:VEVENT
END:VCALENDAR