BEGIN:VCALENDAR
VERSION:2.0
PRODID:-//Academie Kloster Eberbach - ECPv6.8.1//NONSGML v1.0//EN
CALSCALE:GREGORIAN
METHOD:PUBLISH
X-ORIGINAL-URL:https://kloster-academie.de
X-WR-CALDESC:Veranstaltungen für Academie Kloster Eberbach
REFRESH-INTERVAL;VALUE=DURATION:PT1H
X-Robots-Tag:noindex
X-PUBLISHED-TTL:PT1H
BEGIN:VTIMEZONE
TZID:Europe/Berlin
BEGIN:DAYLIGHT
TZOFFSETFROM:+0100
TZOFFSETTO:+0200
TZNAME:CEST
DTSTART:20250330T010000
END:DAYLIGHT
BEGIN:STANDARD
TZOFFSETFROM:+0200
TZOFFSETTO:+0100
TZNAME:CET
DTSTART:20251026T010000
END:STANDARD
END:VTIMEZONE
BEGIN:VEVENT
DTSTART;TZID=Europe/Berlin:20250805T170000
DTEND;TZID=Europe/Berlin:20250805T173000
DTSTAMP:20260421T171637
CREATED:20250530T145818Z
LAST-MODIFIED:20250530T145818Z
UID:6160-1754413200-1754415000@kloster-academie.de
SUMMARY:Schweige-Meditation Wiesbaden
DESCRIPTION:Meditationsangebot im Herzen von Wiesbaden\nIm Therapie Kompetenzzentrum Weiten\, mitten in der Wiesbadener Innenstadt (Marktplatz 13)\, gibt es ein regelmäßiges Meditationsangebot. In Kooperation mit der Academie Kloster Eberbach gibt es jeden Dienstag um 17:00 Uhr eine stille 30-minütige Gruppenmeditation\, die auf der Tradition der Wüstenväter basiert – eine spirituelle Praxis des inneren Weges\, verwurzelt in der abendländisch-christlichen Mystik. \nDie Veranstaltung findet im 4. Stock unseres Hauses statt und ist ausgeschildert. \nDie Meditation unterstützt die Stabilisierung der psychischen\, seelischen und körperlichen Gesundheit. Sie ist einfach in der Ausführung – aber fordert die bewusste Hinwendung zur inneren Stille. Dieses Angebot richtet sich an Patient:innen des Hauses\, erfahrene Meditierende sowie alle\, die neugierig sind und sich auf die heilsame Kraft der Stille einlassen möchten. \nAnmeldung:Bitte melden Sie sich vorab an unter: info@therapie-wiesbaden.de \noder direkt am Empfang im Therapie Kompetenzzentrum Weiten. \nWir freuen uns auf Ihre Teilnahme – kommen Sie mit uns auf eine Reise zur eigenen Mitte!
URL:https://kloster-academie.de/event/schweige-meditation-wiesbaden-10/
LOCATION:Therapie Kompetenzzentrum Weiten\, Marktplatz 13\, Wiesbaden\, Hessen\, 65183\, Germany
CATEGORIES:Meditation & Achtsamkeit
ATTACH;FMTTYPE=image/jpeg:https://kloster-academie.de/wp-content/uploads/2025/05/SCHWEIGE-MEDITATION-WIESBADEN-1.jpg
ORGANIZER;CN="Academie Kloster Eberbach":MAILTO:info@kloster-academie.de
END:VEVENT
BEGIN:VEVENT
DTSTART;TZID=Europe/Berlin:20250806T183000
DTEND;TZID=Europe/Berlin:20250806T190000
DTSTAMP:20260421T171637
CREATED:20241227T123829Z
LAST-MODIFIED:20241227T123829Z
UID:5769-1754505000-1754506800@kloster-academie.de
SUMMARY:Schweige-Meditation
DESCRIPTION:„Aus dem Schweigen kommt alle Kraft.“\nBernhard von Clairvaux (1091 – 1153)\nKloster Eberbach ist auch ein Ort der Stille. Kommen Sie zur Ruhe in der abendlichen klösterlichen Abgeschiedenheit. \nMittwochs von 18.30 Uhr bis 19.00 Uhr bieten wir Ihnen nach einer kurzen Einführung eine Schweigemeditation im Geist des Klosters an. Hier öffnet sich die Tür zu einer Dimension\, die in unserem Alltag oft zu kurz kommt. \nMeditation ist nicht nur ein wirksames Mittel gegen\nStress. Sie kann Ihnen auch helfen:\n• wacher und achtsamer zu werden\,\n• klarer zu sehen\,\n• Selbsterkenntnis zu gewinnen\,\n• innere Stärke zu entfalten\n• und bewusster zu handeln\nVorerfahrungen sind nicht erforderlich\, es reicht ein offenes Herz und eine halbe Stunde Zeit in der neun Jahrhunderte alten Klosteranlage. Probieren Sie es aus! \nDer Weg zum Meditations-Raum ist vom Innenhof des Klosters aus beschildert. Eine Anfahrtsskizze finden Sie hier. \n  \nDie Teilnahme ist kostenfrei. Eine Anmeldung ist nicht erforderlich. \n 
URL:https://kloster-academie.de/event/schweige-meditation-76/
LOCATION:Kloster Eberbach\, Kloster-Eberbach-Str. 1\, Eltville am Rhein\, Hessen\, 65346
CATEGORIES:Meditation & Achtsamkeit
ATTACH;FMTTYPE=image/png:https://kloster-academie.de/wp-content/uploads/2020/06/Schweige-Meditation.png
ORGANIZER;CN="Academie Kloster Eberbach":MAILTO:info@kloster-academie.de
END:VEVENT
BEGIN:VEVENT
DTSTART;TZID=Europe/Berlin:20250807T183000
DTEND;TZID=Europe/Berlin:20250807T190000
DTSTAMP:20260421T171637
CREATED:20241227T121433Z
LAST-MODIFIED:20250603T160350Z
UID:5665-1754591400-1754593200@kloster-academie.de
SUMMARY:Online-Meditation
DESCRIPTION:Wir bieten Interessierten JEDEN Donnerstag um 18.30 Uhr die Gelegenheit zur Teilnahme an einer Online-Meditation anbieten. Sie soll in der gleichen\, schlichten Form wie die Meditationen im Kloster Eberbach stattfinden: Kurze Einführung (ca. 5 Minuten) und Meditationszeit von gut 20 Minuten\, sodass jeder nach einer halben Stunde wieder „frei“ ist. \nWir sind Michael Hüttner sehr dankbar\, dass er diese Treffen leiten wird. Er ist Gründungsmitglied der Academie und dem Thema „Meditation“ schon seit langer Zeit verbunden. Nach seiner Tätigkeit bei der Commerzbank in Frankfurt ist er schwerpunktmäßig auch mit dem Thema „Coaching“ befasst. \nWir bitten darum\, so zeitig beizutreten\, dass die Zeit der Schweigemeditation nicht gestört wird.\nDen Zugang hierzu finden Sie über den folgenden Link\, der für die Online-Meditationen auch künftig gelten wird: \nhttps://zoom.us/j/98374369404?pwd=aDZKNStZTFR1WjNvZTVVQTZkVmpLdz09\nMeeting-ID: 983 7436 9404\nKenncode: 846603
URL:https://kloster-academie.de/event/online-meditation-63/
LOCATION:Online per Zoom
CATEGORIES:Meditation & Achtsamkeit
ATTACH;FMTTYPE=image/png:https://kloster-academie.de/wp-content/uploads/2021/06/oeffentlicher-vortrag-1.png
ORGANIZER;CN="Academie Kloster Eberbach":MAILTO:info@kloster-academie.de
END:VEVENT
BEGIN:VEVENT
DTSTART;TZID=Europe/Berlin:20250812T170000
DTEND;TZID=Europe/Berlin:20250812T173000
DTSTAMP:20260421T171637
CREATED:20250530T145829Z
LAST-MODIFIED:20250530T145829Z
UID:6161-1755018000-1755019800@kloster-academie.de
SUMMARY:Schweige-Meditation Wiesbaden
DESCRIPTION:Meditationsangebot im Herzen von Wiesbaden\nIm Therapie Kompetenzzentrum Weiten\, mitten in der Wiesbadener Innenstadt (Marktplatz 13)\, gibt es ein regelmäßiges Meditationsangebot. In Kooperation mit der Academie Kloster Eberbach gibt es jeden Dienstag um 17:00 Uhr eine stille 30-minütige Gruppenmeditation\, die auf der Tradition der Wüstenväter basiert – eine spirituelle Praxis des inneren Weges\, verwurzelt in der abendländisch-christlichen Mystik. \nDie Veranstaltung findet im 4. Stock unseres Hauses statt und ist ausgeschildert. \nDie Meditation unterstützt die Stabilisierung der psychischen\, seelischen und körperlichen Gesundheit. Sie ist einfach in der Ausführung – aber fordert die bewusste Hinwendung zur inneren Stille. Dieses Angebot richtet sich an Patient:innen des Hauses\, erfahrene Meditierende sowie alle\, die neugierig sind und sich auf die heilsame Kraft der Stille einlassen möchten. \nAnmeldung:Bitte melden Sie sich vorab an unter: info@therapie-wiesbaden.de \noder direkt am Empfang im Therapie Kompetenzzentrum Weiten. \nWir freuen uns auf Ihre Teilnahme – kommen Sie mit uns auf eine Reise zur eigenen Mitte!
URL:https://kloster-academie.de/event/schweige-meditation-wiesbaden-11/
LOCATION:Therapie Kompetenzzentrum Weiten\, Marktplatz 13\, Wiesbaden\, Hessen\, 65183\, Germany
CATEGORIES:Meditation & Achtsamkeit
ATTACH;FMTTYPE=image/jpeg:https://kloster-academie.de/wp-content/uploads/2025/05/SCHWEIGE-MEDITATION-WIESBADEN-1.jpg
ORGANIZER;CN="Academie Kloster Eberbach":MAILTO:info@kloster-academie.de
END:VEVENT
BEGIN:VEVENT
DTSTART;TZID=Europe/Berlin:20250813T183000
DTEND;TZID=Europe/Berlin:20250813T190000
DTSTAMP:20260421T171637
CREATED:20241227T123836Z
LAST-MODIFIED:20241227T123836Z
UID:5768-1755109800-1755111600@kloster-academie.de
SUMMARY:Schweige-Meditation
DESCRIPTION:„Aus dem Schweigen kommt alle Kraft.“\nBernhard von Clairvaux (1091 – 1153)\nKloster Eberbach ist auch ein Ort der Stille. Kommen Sie zur Ruhe in der abendlichen klösterlichen Abgeschiedenheit. \nMittwochs von 18.30 Uhr bis 19.00 Uhr bieten wir Ihnen nach einer kurzen Einführung eine Schweigemeditation im Geist des Klosters an. Hier öffnet sich die Tür zu einer Dimension\, die in unserem Alltag oft zu kurz kommt. \nMeditation ist nicht nur ein wirksames Mittel gegen\nStress. Sie kann Ihnen auch helfen:\n• wacher und achtsamer zu werden\,\n• klarer zu sehen\,\n• Selbsterkenntnis zu gewinnen\,\n• innere Stärke zu entfalten\n• und bewusster zu handeln\nVorerfahrungen sind nicht erforderlich\, es reicht ein offenes Herz und eine halbe Stunde Zeit in der neun Jahrhunderte alten Klosteranlage. Probieren Sie es aus! \nDer Weg zum Meditations-Raum ist vom Innenhof des Klosters aus beschildert. Eine Anfahrtsskizze finden Sie hier. \n  \nDie Teilnahme ist kostenfrei. Eine Anmeldung ist nicht erforderlich. \n 
URL:https://kloster-academie.de/event/schweige-meditation-77/
LOCATION:Kloster Eberbach\, Kloster-Eberbach-Str. 1\, Eltville am Rhein\, Hessen\, 65346
CATEGORIES:Meditation & Achtsamkeit
ATTACH;FMTTYPE=image/png:https://kloster-academie.de/wp-content/uploads/2020/06/Schweige-Meditation.png
ORGANIZER;CN="Academie Kloster Eberbach":MAILTO:info@kloster-academie.de
END:VEVENT
BEGIN:VEVENT
DTSTART;TZID=Europe/Berlin:20250814T183000
DTEND;TZID=Europe/Berlin:20250814T190000
DTSTAMP:20260421T171637
CREATED:20241227T121443Z
LAST-MODIFIED:20250603T160341Z
UID:5666-1755196200-1755198000@kloster-academie.de
SUMMARY:Online-Meditation
DESCRIPTION:Wir bieten Interessierten JEDEN Donnerstag um 18.30 Uhr die Gelegenheit zur Teilnahme an einer Online-Meditation anbieten. Sie soll in der gleichen\, schlichten Form wie die Meditationen im Kloster Eberbach stattfinden: Kurze Einführung (ca. 5 Minuten) und Meditationszeit von gut 20 Minuten\, sodass jeder nach einer halben Stunde wieder „frei“ ist. \nWir sind Michael Hüttner sehr dankbar\, dass er diese Treffen leiten wird. Er ist Gründungsmitglied der Academie und dem Thema „Meditation“ schon seit langer Zeit verbunden. Nach seiner Tätigkeit bei der Commerzbank in Frankfurt ist er schwerpunktmäßig auch mit dem Thema „Coaching“ befasst. \nWir bitten darum\, so zeitig beizutreten\, dass die Zeit der Schweigemeditation nicht gestört wird.\nDen Zugang hierzu finden Sie über den folgenden Link\, der für die Online-Meditationen auch künftig gelten wird: \nhttps://zoom.us/j/98374369404?pwd=aDZKNStZTFR1WjNvZTVVQTZkVmpLdz09\nMeeting-ID: 983 7436 9404\nKenncode: 846603
URL:https://kloster-academie.de/event/online-meditation-64/
LOCATION:Online per Zoom
CATEGORIES:Meditation & Achtsamkeit
ATTACH;FMTTYPE=image/png:https://kloster-academie.de/wp-content/uploads/2021/06/oeffentlicher-vortrag-1.png
ORGANIZER;CN="Academie Kloster Eberbach":MAILTO:info@kloster-academie.de
END:VEVENT
BEGIN:VEVENT
DTSTART;TZID=Europe/Berlin:20250819T170000
DTEND;TZID=Europe/Berlin:20250819T173000
DTSTAMP:20260421T171637
CREATED:20250530T145838Z
LAST-MODIFIED:20250530T145838Z
UID:6158-1755622800-1755624600@kloster-academie.de
SUMMARY:Schweige-Meditation Wiesbaden
DESCRIPTION:Meditationsangebot im Herzen von Wiesbaden\nIm Therapie Kompetenzzentrum Weiten\, mitten in der Wiesbadener Innenstadt (Marktplatz 13)\, gibt es ein regelmäßiges Meditationsangebot. In Kooperation mit der Academie Kloster Eberbach gibt es jeden Dienstag um 17:00 Uhr eine stille 30-minütige Gruppenmeditation\, die auf der Tradition der Wüstenväter basiert – eine spirituelle Praxis des inneren Weges\, verwurzelt in der abendländisch-christlichen Mystik. \nDie Veranstaltung findet im 4. Stock unseres Hauses statt und ist ausgeschildert. \nDie Meditation unterstützt die Stabilisierung der psychischen\, seelischen und körperlichen Gesundheit. Sie ist einfach in der Ausführung – aber fordert die bewusste Hinwendung zur inneren Stille. Dieses Angebot richtet sich an Patient:innen des Hauses\, erfahrene Meditierende sowie alle\, die neugierig sind und sich auf die heilsame Kraft der Stille einlassen möchten. \nAnmeldung:Bitte melden Sie sich vorab an unter: info@therapie-wiesbaden.de \noder direkt am Empfang im Therapie Kompetenzzentrum Weiten. \nWir freuen uns auf Ihre Teilnahme – kommen Sie mit uns auf eine Reise zur eigenen Mitte!
URL:https://kloster-academie.de/event/schweige-meditation-wiesbaden-12/
LOCATION:Therapie Kompetenzzentrum Weiten\, Marktplatz 13\, Wiesbaden\, Hessen\, 65183\, Germany
CATEGORIES:Meditation & Achtsamkeit
ATTACH;FMTTYPE=image/jpeg:https://kloster-academie.de/wp-content/uploads/2025/05/SCHWEIGE-MEDITATION-WIESBADEN-1.jpg
ORGANIZER;CN="Academie Kloster Eberbach":MAILTO:info@kloster-academie.de
END:VEVENT
BEGIN:VEVENT
DTSTART;TZID=Europe/Berlin:20250820T183000
DTEND;TZID=Europe/Berlin:20250820T190000
DTSTAMP:20260421T171637
CREATED:20241227T123843Z
LAST-MODIFIED:20241227T123843Z
UID:5770-1755714600-1755716400@kloster-academie.de
SUMMARY:Schweige-Meditation
DESCRIPTION:„Aus dem Schweigen kommt alle Kraft.“\nBernhard von Clairvaux (1091 – 1153)\nKloster Eberbach ist auch ein Ort der Stille. Kommen Sie zur Ruhe in der abendlichen klösterlichen Abgeschiedenheit. \nMittwochs von 18.30 Uhr bis 19.00 Uhr bieten wir Ihnen nach einer kurzen Einführung eine Schweigemeditation im Geist des Klosters an. Hier öffnet sich die Tür zu einer Dimension\, die in unserem Alltag oft zu kurz kommt. \nMeditation ist nicht nur ein wirksames Mittel gegen\nStress. Sie kann Ihnen auch helfen:\n• wacher und achtsamer zu werden\,\n• klarer zu sehen\,\n• Selbsterkenntnis zu gewinnen\,\n• innere Stärke zu entfalten\n• und bewusster zu handeln\nVorerfahrungen sind nicht erforderlich\, es reicht ein offenes Herz und eine halbe Stunde Zeit in der neun Jahrhunderte alten Klosteranlage. Probieren Sie es aus! \nDer Weg zum Meditations-Raum ist vom Innenhof des Klosters aus beschildert. Eine Anfahrtsskizze finden Sie hier. \n  \nDie Teilnahme ist kostenfrei. Eine Anmeldung ist nicht erforderlich. \n 
URL:https://kloster-academie.de/event/schweige-meditation-78/
LOCATION:Kloster Eberbach\, Kloster-Eberbach-Str. 1\, Eltville am Rhein\, Hessen\, 65346
CATEGORIES:Meditation & Achtsamkeit
ATTACH;FMTTYPE=image/png:https://kloster-academie.de/wp-content/uploads/2020/06/Schweige-Meditation.png
ORGANIZER;CN="Academie Kloster Eberbach":MAILTO:info@kloster-academie.de
END:VEVENT
BEGIN:VEVENT
DTSTART;TZID=Europe/Berlin:20250821T183000
DTEND;TZID=Europe/Berlin:20250821T190000
DTSTAMP:20260421T171637
CREATED:20241227T121451Z
LAST-MODIFIED:20250603T160334Z
UID:5669-1755801000-1755802800@kloster-academie.de
SUMMARY:Online-Meditation
DESCRIPTION:Wir bieten Interessierten JEDEN Donnerstag um 18.30 Uhr die Gelegenheit zur Teilnahme an einer Online-Meditation anbieten. Sie soll in der gleichen\, schlichten Form wie die Meditationen im Kloster Eberbach stattfinden: Kurze Einführung (ca. 5 Minuten) und Meditationszeit von gut 20 Minuten\, sodass jeder nach einer halben Stunde wieder „frei“ ist. \nWir sind Michael Hüttner sehr dankbar\, dass er diese Treffen leiten wird. Er ist Gründungsmitglied der Academie und dem Thema „Meditation“ schon seit langer Zeit verbunden. Nach seiner Tätigkeit bei der Commerzbank in Frankfurt ist er schwerpunktmäßig auch mit dem Thema „Coaching“ befasst. \nWir bitten darum\, so zeitig beizutreten\, dass die Zeit der Schweigemeditation nicht gestört wird.\nDen Zugang hierzu finden Sie über den folgenden Link\, der für die Online-Meditationen auch künftig gelten wird: \nhttps://zoom.us/j/98374369404?pwd=aDZKNStZTFR1WjNvZTVVQTZkVmpLdz09\nMeeting-ID: 983 7436 9404\nKenncode: 846603
URL:https://kloster-academie.de/event/online-meditation-65/
LOCATION:Online per Zoom
CATEGORIES:Meditation & Achtsamkeit
ATTACH;FMTTYPE=image/png:https://kloster-academie.de/wp-content/uploads/2021/06/oeffentlicher-vortrag-1.png
ORGANIZER;CN="Academie Kloster Eberbach":MAILTO:info@kloster-academie.de
END:VEVENT
BEGIN:VEVENT
DTSTART;TZID=Europe/Berlin:20250823T100000
DTEND;TZID=Europe/Berlin:20250823T170000
DTSTAMP:20260421T171637
CREATED:20241219T075317Z
LAST-MODIFIED:20250810T124713Z
UID:5596-1755943200-1755968400@kloster-academie.de
SUMMARY:Beten mit den Füßen –  eine spirituelle Pilgerwanderung zum Kloster Eberbach
DESCRIPTION: \n\n\n„Langsamkeit tut gut in einer Zeit ständiger Beschleunigung.“\n„Der Weg zu Fuß bringt auch die Seele in Bewegung.“ \n„Beim Beten mit den Füßen wird der Glaube vom Kopf auf die Füße gestellt\, bekommt eine leibhafte Dimension\, wird einfacher und persönlich erfahrbar.“\n  \n  \n  \n  \nGemeinsam begeben wir uns in der „Ursprungsgeschwindigkeit“ des Menschen auf eine halbtägige Wanderung von der Bubenhäuser Höhe zum Kloster Eberbach. Auf dem Weg wird es Zeiten der Stille und Gebete aber natürlich auch Austausch und Rast zur Stärkung geben. \n\nAm Ende des Weges werden wir im Kloster Eberbach – nach einer Klosterführung – zu einer kleinen Abschluss-Meditation zusammenkommen und den Nachmittag im Landcafé Wacholderhof ausklingen lassen. \n \n  \n  \n  \n  \n  \n  \n  \nDie ca. 6 km lange Wegstrecke führt uns von Rauenthal und die Bubenhäuser Höhe über Kiedrich zum Kloster Eberbach. Mitzubringen sind Freude am Wandern\, Wanderschuhe\, wetterfeste Bekleidung\, Getränke und Proviant für unterwegs – das Frühstück zu Beginn spendieren wir. \n\n\n \nUnd so wird unser Tag aussehen: \n10.00 Uhr       Kennenlernen mit Frühstück an der Bubenhäuser Höhe\n10.45 Uhr        Start „Beten mit den Füßen“\, ca. 3 Std. mit Pausen und geistl. Impulsen\nca. 14.45 Uhr  Ankunft im Kloster Eberbach\n15.00 Uhr        Klosterführung und anschließend Meditation im Rheingausalon \nca. 16.30 Uhr  Abschluss und Einkehr im Landcafé Wachholderhof \n—– \n\n\n\n\nAnmeldung und Kosten\nDiese Veranstaltung ist für Mitglieder & Freunde der Academie Kloster Eberbach – die Teilnahme ist kostenlos.\nFür unsere Planungen benötigen wir genaue Teilnehmerzahlen – bitte melden Sie sich daher unbedingt über untenstehenden Link an.\n\n—–
URL:https://kloster-academie.de/event/beten-mit-den-fuessen-spirituelle-pilgerwanderung/
LOCATION:Kloster Eberbach\, Kloster-Eberbach-Str. 1\, Eltville am Rhein\, Hessen\, 65346
CATEGORIES:Highlights,Meditation & Achtsamkeit
ATTACH;FMTTYPE=image/png:https://kloster-academie.de/wp-content/uploads/2022/01/Beten-mit-den-Fuessen.png
ORGANIZER;CN="Academie Kloster Eberbach":MAILTO:info@kloster-academie.de
END:VEVENT
BEGIN:VEVENT
DTSTART;TZID=Europe/Berlin:20250826T170000
DTEND;TZID=Europe/Berlin:20250826T173000
DTSTAMP:20260421T171637
CREATED:20250530T145847Z
LAST-MODIFIED:20250530T145847Z
UID:6155-1756227600-1756229400@kloster-academie.de
SUMMARY:Schweige-Meditation Wiesbaden
DESCRIPTION:Meditationsangebot im Herzen von Wiesbaden\nIm Therapie Kompetenzzentrum Weiten\, mitten in der Wiesbadener Innenstadt (Marktplatz 13)\, gibt es ein regelmäßiges Meditationsangebot. In Kooperation mit der Academie Kloster Eberbach gibt es jeden Dienstag um 17:00 Uhr eine stille 30-minütige Gruppenmeditation\, die auf der Tradition der Wüstenväter basiert – eine spirituelle Praxis des inneren Weges\, verwurzelt in der abendländisch-christlichen Mystik. \nDie Veranstaltung findet im 4. Stock unseres Hauses statt und ist ausgeschildert. \nDie Meditation unterstützt die Stabilisierung der psychischen\, seelischen und körperlichen Gesundheit. Sie ist einfach in der Ausführung – aber fordert die bewusste Hinwendung zur inneren Stille. Dieses Angebot richtet sich an Patient:innen des Hauses\, erfahrene Meditierende sowie alle\, die neugierig sind und sich auf die heilsame Kraft der Stille einlassen möchten. \nAnmeldung:Bitte melden Sie sich vorab an unter: info@therapie-wiesbaden.de \noder direkt am Empfang im Therapie Kompetenzzentrum Weiten. \nWir freuen uns auf Ihre Teilnahme – kommen Sie mit uns auf eine Reise zur eigenen Mitte!
URL:https://kloster-academie.de/event/schweige-meditation-wiesbaden-13/
LOCATION:Therapie Kompetenzzentrum Weiten\, Marktplatz 13\, Wiesbaden\, Hessen\, 65183\, Germany
CATEGORIES:Meditation & Achtsamkeit
ATTACH;FMTTYPE=image/jpeg:https://kloster-academie.de/wp-content/uploads/2025/05/SCHWEIGE-MEDITATION-WIESBADEN-1.jpg
ORGANIZER;CN="Academie Kloster Eberbach":MAILTO:info@kloster-academie.de
END:VEVENT
BEGIN:VEVENT
DTSTART;TZID=Europe/Berlin:20250827T183000
DTEND;TZID=Europe/Berlin:20250827T190000
DTSTAMP:20260421T171637
CREATED:20241227T123852Z
LAST-MODIFIED:20241227T123852Z
UID:5771-1756319400-1756321200@kloster-academie.de
SUMMARY:Schweige-Meditation
DESCRIPTION:„Aus dem Schweigen kommt alle Kraft.“\nBernhard von Clairvaux (1091 – 1153)\nKloster Eberbach ist auch ein Ort der Stille. Kommen Sie zur Ruhe in der abendlichen klösterlichen Abgeschiedenheit. \nMittwochs von 18.30 Uhr bis 19.00 Uhr bieten wir Ihnen nach einer kurzen Einführung eine Schweigemeditation im Geist des Klosters an. Hier öffnet sich die Tür zu einer Dimension\, die in unserem Alltag oft zu kurz kommt. \nMeditation ist nicht nur ein wirksames Mittel gegen\nStress. Sie kann Ihnen auch helfen:\n• wacher und achtsamer zu werden\,\n• klarer zu sehen\,\n• Selbsterkenntnis zu gewinnen\,\n• innere Stärke zu entfalten\n• und bewusster zu handeln\nVorerfahrungen sind nicht erforderlich\, es reicht ein offenes Herz und eine halbe Stunde Zeit in der neun Jahrhunderte alten Klosteranlage. Probieren Sie es aus! \nDer Weg zum Meditations-Raum ist vom Innenhof des Klosters aus beschildert. Eine Anfahrtsskizze finden Sie hier. \n  \nDie Teilnahme ist kostenfrei. Eine Anmeldung ist nicht erforderlich. \n 
URL:https://kloster-academie.de/event/schweige-meditation-79/
LOCATION:Kloster Eberbach\, Kloster-Eberbach-Str. 1\, Eltville am Rhein\, Hessen\, 65346
CATEGORIES:Meditation & Achtsamkeit
ATTACH;FMTTYPE=image/png:https://kloster-academie.de/wp-content/uploads/2020/06/Schweige-Meditation.png
ORGANIZER;CN="Academie Kloster Eberbach":MAILTO:info@kloster-academie.de
END:VEVENT
BEGIN:VEVENT
DTSTART;TZID=Europe/Berlin:20250828T183000
DTEND;TZID=Europe/Berlin:20250828T190000
DTSTAMP:20260421T171637
CREATED:20241227T121459Z
LAST-MODIFIED:20250603T160326Z
UID:5668-1756405800-1756407600@kloster-academie.de
SUMMARY:Online-Meditation
DESCRIPTION:Wir bieten Interessierten JEDEN Donnerstag um 18.30 Uhr die Gelegenheit zur Teilnahme an einer Online-Meditation anbieten. Sie soll in der gleichen\, schlichten Form wie die Meditationen im Kloster Eberbach stattfinden: Kurze Einführung (ca. 5 Minuten) und Meditationszeit von gut 20 Minuten\, sodass jeder nach einer halben Stunde wieder „frei“ ist. \nWir sind Michael Hüttner sehr dankbar\, dass er diese Treffen leiten wird. Er ist Gründungsmitglied der Academie und dem Thema „Meditation“ schon seit langer Zeit verbunden. Nach seiner Tätigkeit bei der Commerzbank in Frankfurt ist er schwerpunktmäßig auch mit dem Thema „Coaching“ befasst. \nWir bitten darum\, so zeitig beizutreten\, dass die Zeit der Schweigemeditation nicht gestört wird.\nDen Zugang hierzu finden Sie über den folgenden Link\, der für die Online-Meditationen auch künftig gelten wird: \nhttps://zoom.us/j/98374369404?pwd=aDZKNStZTFR1WjNvZTVVQTZkVmpLdz09\nMeeting-ID: 983 7436 9404\nKenncode: 846603
URL:https://kloster-academie.de/event/online-meditation-66/
LOCATION:Online per Zoom
CATEGORIES:Meditation & Achtsamkeit
ATTACH;FMTTYPE=image/png:https://kloster-academie.de/wp-content/uploads/2021/06/oeffentlicher-vortrag-1.png
ORGANIZER;CN="Academie Kloster Eberbach":MAILTO:info@kloster-academie.de
END:VEVENT
BEGIN:VEVENT
DTSTART;TZID=Europe/Berlin:20250830T100000
DTEND;TZID=Europe/Berlin:20250830T160000
DTSTAMP:20260421T171637
CREATED:20250205T211829Z
LAST-MODIFIED:20250214T143516Z
UID:6013-1756548000-1756569600@kloster-academie.de
SUMMARY:Studientag unter dem Thema „Stille Zeit – Auf die innere Stimme hören“
DESCRIPTION:Referent: Pfarrer Oliver Albrecht\, Probst für Rhein-Main \n  \nInformationen zum Tag \nWas Gott betrifft\, schwanken Menschen zwischen Extremen: \n\nSie erwarten ihn im Außergewöhnlichen\, in der absoluten Sensation. Aber weil manchmal viele Jahre oder gar ein ganzes Leben ohne absolute Sensationen herumgehen\, ist auf einmal alles vorbei und man sagt sich: von Gott habe ich eigentlich nie etwas gespürt.\nOder die Menschen erwarten Gott durch eigene religiöse Anstrengung. Dann nimmt man sich den Glauben vor wie ein Fitnessprogramm\, lässt sich irgendwelche Übungen empfehlen. Manchmal geht das ja wie beim Sport eine ganze Weile gut…Aber das richtige Leben besteht aus mehr als aus Übungen und frommen oder sportlichen Programmen. Wir wollen ja keine geistlichen Trainingsweltmeister werden. Und es geht auch um mehr als um Sensationen aus der Abteilung himmlische Spezialeffekte. Es geht um den ganz normalen Alltag. Und deswegen wird es am 30. August 2025 um ganz normale Dinge gehen:\nwie Sie einen Tag beginnen und beenden\nwie Sie so leben\, als stünde Gott wie ein guter Freund neben Ihnen\nwie Sie einen Tag planen und wie ein ganzes Leben\nwie Sie das Tempo rausnehmen und sich von Jesus Zeit schenken lassen\nwie Sie entdecken\, dass das ganz normale Leben überhaupt nicht banal ist\, sondern eine große\, wunderbare Sache\n\n  \nZeit \n10.00 – 16.00 Uhr \n  \nZur Person des Referenten: \n \nOliver Albrecht wurde 1962 in Frankfurt geboren. Er studierte ev. Theologie in Bethel und Heidelberg. Danach arbeitete er eine Zeit in der Krankenpflege. In seiner ersten Gemeinde in Niedernhausen/Taunus entwickelte er das Projekt „Gemeindeaufbau in der Volkskirche“. 2010 versah er die gesamtkirchliche Profilstelle „Evangelische Identität“. Aus seinem EKHN-weiten Engagement ist das Lehrbuch „Lebensthemen“ entstanden. Seit April 2015 ist Albrecht Propst für Rhein-Main. Als Propst sieht er seine Aufgabe in der Seelsorge und der berufsbiografischen Begleitung der Pfarrerinnen und Pfarrer seiner Propstei. Als wichtigstes Anliegen bezeichnet Albrecht eine engere Verzahnung zwischen Diakonie und Mission: „Kirche werde nach außen wirksam in Wort (Mission) und Tat (Diakonie).“ \n  \nAnmeldung und Kosten \nTeilnehmerbeitrag: Wir freuen uns über die Überweisung einer Spende von Nicht-Mitgliedern\, für die wir gern eine entsprechende steuerwirksame Bescheinigung ausstellen. \nFür einen Imbiss ist gesorgt. \nUm Anmeldung wird gebeten.
URL:https://kloster-academie.de/event/studientag-stille-zeit/
LOCATION:Propstei Rhein-Main\, Schwalbacher Straße 6\, Wiesbaden\, Hessen\, 65185\, Germany
CATEGORIES:Führung & Werte,Highlights,Meditation & Achtsamkeit
ATTACH;FMTTYPE=image/jpeg:https://kloster-academie.de/wp-content/uploads/2025/02/studientag.jpg
ORGANIZER;CN="Academie Kloster Eberbach":MAILTO:info@kloster-academie.de
END:VEVENT
END:VCALENDAR