BEGIN:VCALENDAR
VERSION:2.0
PRODID:-//Academie Kloster Eberbach - ECPv6.8.1//NONSGML v1.0//EN
CALSCALE:GREGORIAN
METHOD:PUBLISH
X-WR-CALNAME:Academie Kloster Eberbach
X-ORIGINAL-URL:https://kloster-academie.de
X-WR-CALDESC:Veranstaltungen für Academie Kloster Eberbach
REFRESH-INTERVAL;VALUE=DURATION:PT1H
X-Robots-Tag:noindex
X-PUBLISHED-TTL:PT1H
BEGIN:VTIMEZONE
TZID:Europe/Berlin
BEGIN:DAYLIGHT
TZOFFSETFROM:+0100
TZOFFSETTO:+0200
TZNAME:CEST
DTSTART:20250330T010000
END:DAYLIGHT
BEGIN:STANDARD
TZOFFSETFROM:+0200
TZOFFSETTO:+0100
TZNAME:CET
DTSTART:20251026T010000
END:STANDARD
END:VTIMEZONE
BEGIN:VEVENT
DTSTART;TZID=Europe/Berlin:20250102T183000
DTEND;TZID=Europe/Berlin:20250102T190000
DTSTAMP:20260419T183854
CREATED:20231227T132340Z
LAST-MODIFIED:20231227T132340Z
UID:4845-1735842600-1735844400@kloster-academie.de
SUMMARY:Online-Meditation
DESCRIPTION:Wir bieten Interessierten JEDEN Donnerstag um 18.30 Uhr die Gelegenheit zur Teilnahme an einer Online-Meditation anbieten. Sie soll in der gleichen\, schlichten Form wie die Meditationen im Kloster Eberbach stattfinden: Kurze Einführung (ca. 5 Minuten) und Meditationszeit von gut 20 Minuten\, sodass jeder nach einer halben Stunde wieder „frei“ ist. \nWir sind Michael Hüttner sehr dankbar\, dass er diese Treffen leiten wird. Er ist Gründungsmitglied der Academie und dem Thema „Meditation“ schon seit langer Zeit verbunden. Nach seiner Tätigkeit bei der Commerzbank in Frankfurt ist er schwerpunktmäßig auch mit dem Thema „Coaching“ befasst. \nWir bitten darum\, so zeitig beizutreten\, dass die Zeit der Schweigemeditation nicht gestört wird.\nDen Zugang hierzu finden Sie über den folgenden Link\, der für die Online-Meditationen auch künftig gelten wird: \nhttps://zoom.us/j/98374369404?pwd=aDZKNStZTFR1WjNvZTVVQTZkVmpLdz09\nMeeting-ID: 983 7436 9404\nKenncode: 846603
URL:https://kloster-academie.de/event/online-meditation-157/
LOCATION:Online per Zoom
CATEGORIES:Meditation & Achtsamkeit
ATTACH;FMTTYPE=image/png:https://kloster-academie.de/wp-content/uploads/2021/06/oeffentlicher-vortrag-1.png
ORGANIZER;CN="Academie Kloster Eberbach":MAILTO:info@kloster-academie.de
END:VEVENT
BEGIN:VEVENT
DTSTART;TZID=Europe/Berlin:20250108T183000
DTEND;TZID=Europe/Berlin:20250108T190000
DTSTAMP:20260419T183854
CREATED:20240108T182835Z
LAST-MODIFIED:20240108T182835Z
UID:4973-1736361000-1736362800@kloster-academie.de
SUMMARY:Schweige-Meditation
DESCRIPTION:„Aus dem Schweigen kommt alle Kraft.“\nBernhard von Clairvaux (1091 – 1153)\nKloster Eberbach ist auch ein Ort der Stille. Kommen Sie zur Ruhe in der abendlichen klösterlichen Abgeschiedenheit. \nMittwochs von 18.30 Uhr bis 19.00 Uhr bieten wir Ihnen nach einer kurzen Einführung eine Schweigemeditation im Geist des Klosters an. Hier öffnet sich die Tür zu einer Dimension\, die in unserem Alltag oft zu kurz kommt. \nMeditation ist nicht nur ein wirksames Mittel gegen\nStress. Sie kann Ihnen auch helfen:\n• wacher und achtsamer zu werden\,\n• klarer zu sehen\,\n• Selbsterkenntnis zu gewinnen\,\n• innere Stärke zu entfalten\n• und bewusster zu handeln\nVorerfahrungen sind nicht erforderlich\, es reicht ein offenes Herz und eine halbe Stunde Zeit in der neun Jahrhunderte alten Klosteranlage. Probieren Sie es aus! \nDer Weg zum Meditations-Raum ist vom Innenhof des Klosters aus beschildert. Eine Anfahrtsskizze finden Sie hier. \n  \nDie Teilnahme ist kostenfrei. Eine Anmeldung ist nicht erforderlich. \n 
URL:https://kloster-academie.de/event/schweige-meditation-64/
LOCATION:Kloster Eberbach\, Kloster-Eberbach-Str. 1\, Eltville am Rhein\, Hessen\, 65346
CATEGORIES:Meditation & Achtsamkeit
ATTACH;FMTTYPE=image/png:https://kloster-academie.de/wp-content/uploads/2020/06/Schweige-Meditation.png
ORGANIZER;CN="Academie Kloster Eberbach":MAILTO:info@kloster-academie.de
END:VEVENT
BEGIN:VEVENT
DTSTART;TZID=Europe/Berlin:20250109T183000
DTEND;TZID=Europe/Berlin:20250109T190000
DTSTAMP:20260419T183854
CREATED:20231227T132349Z
LAST-MODIFIED:20231227T132349Z
UID:4852-1736447400-1736449200@kloster-academie.de
SUMMARY:Online-Meditation
DESCRIPTION:Wir bieten Interessierten JEDEN Donnerstag um 18.30 Uhr die Gelegenheit zur Teilnahme an einer Online-Meditation anbieten. Sie soll in der gleichen\, schlichten Form wie die Meditationen im Kloster Eberbach stattfinden: Kurze Einführung (ca. 5 Minuten) und Meditationszeit von gut 20 Minuten\, sodass jeder nach einer halben Stunde wieder „frei“ ist. \nWir sind Michael Hüttner sehr dankbar\, dass er diese Treffen leiten wird. Er ist Gründungsmitglied der Academie und dem Thema „Meditation“ schon seit langer Zeit verbunden. Nach seiner Tätigkeit bei der Commerzbank in Frankfurt ist er schwerpunktmäßig auch mit dem Thema „Coaching“ befasst. \nWir bitten darum\, so zeitig beizutreten\, dass die Zeit der Schweigemeditation nicht gestört wird.\nDen Zugang hierzu finden Sie über den folgenden Link\, der für die Online-Meditationen auch künftig gelten wird: \nhttps://zoom.us/j/98374369404?pwd=aDZKNStZTFR1WjNvZTVVQTZkVmpLdz09\nMeeting-ID: 983 7436 9404\nKenncode: 846603
URL:https://kloster-academie.de/event/online-meditation-158/
LOCATION:Online per Zoom
CATEGORIES:Meditation & Achtsamkeit
ATTACH;FMTTYPE=image/png:https://kloster-academie.de/wp-content/uploads/2021/06/oeffentlicher-vortrag-1.png
ORGANIZER;CN="Academie Kloster Eberbach":MAILTO:info@kloster-academie.de
END:VEVENT
BEGIN:VEVENT
DTSTART;TZID=Europe/Berlin:20250111T093000
DTEND;TZID=Europe/Berlin:20250111T130000
DTSTAMP:20260419T183854
CREATED:20240826T161324Z
LAST-MODIFIED:20241229T100750Z
UID:5431-1736587800-1736600400@kloster-academie.de
SUMMARY:Kurz-Seminare: Einführung in die Kontemplation
DESCRIPTION:Regelmäßige Kurz-Seminare „Einführung in die Kontemplation – Meditation als Herzensgebet in der Tradition der Wüstenväter“  \njeweils am 2. Samstag im Quartal ab 2025 \n  \nDie Meditation kann ein wirksamer Weg zu einer positiven und gesunden Lebenseinstellung sein: Wir lernen\, bewusster zu leben und treffen bessere Entscheidungen zu dem\, wofür es sich einzusetzen lohnt. Weil wir nicht im Hamsterrad vieler Zwänge aufgerieben werden\, leben wir stressfreier und haben mehr Lebensfreude. \nViele glauben\, dass vor allem fernöstliche Meditationsformen der Weg zu einer solchen Lebenseinstellung sind. Aber vor allem auch die christlichen Wüstenväter wussten\, worauf es im Leben ankommt – in einer Zeit\, die der heutigen ähnlich scheint: Sie wussten\, dass Wohlstand\, Fortschritte in Medizin und Technik sowie die kulturelle Entwicklung die tiefste Sehnsucht des Menschen nicht befriedigen können\, dass die Antwort nach dem Sinn des Lebens nicht im „Schneller\, Höher\, Weiter“ liegt. Das gilt heute noch genauso! Deshalb können wir gerade in unserem Kulturkreis viel aus dieser abendländisch-christlichen Form der Meditation lernen. \nBeim Meditieren verlieren wir uns nicht\, sondern wir sind achtsam; und doch halten wir nicht an unseren Gedanken und Vorstellungen fest. Wir öffnen uns der Wirklichkeit\, die größer ist als wir! Wenn wir danach in unseren Alltag zurückkehren\, sehen wir die Dinge anders: Wir werden gelassener\, sehen alles in einer größeren Perspektive und nutzen auch die materiellen Dinge anders. \nSo werden wir weniger abhängig von dem\, was uns äußerlich bestimmen will\, und von allem\, was uns innerlich belastet und unter Druck setzt. Wir werden freier! \nSind Sie neugierig\, wie das geht? Es ist ganz einfach – aber nicht leicht! Versuchen Sie es einmal\, und Sie werden erfahren\, wie gut es tut\, einmal in die Stille zu gehen und auch die Gedanken zur Ruhe kommen zu lassen. \nDie Academie Kloster Eberbach bietet jeweils am zweiten Samstag im Quartal von 9.30 Uhr bis 13.00 Uhr ein Kurz-Seminar „Einführung in die Kontemplation – Meditation in der Tradition der Wüstenväter“ an. \nIm Jahr 2025 werden die entsprechenden Termine sein: \n\n11. Januar\n12. April\n12. Juli\n11. Oktober\n\nOrt ist der Bernhardsalon auf der Barocketage im Konversenbau von Kloster Eberbach. Dieser ist vom Parkplatz im Innenhof ausgeschildert. Eine Anfahrtsbeschreibung finden Sie hier. \nDie ersten drei Seminare werden vom Vorsitzenden der Academie\, Marcus M. Lübbering\, geleitet\, das Seminar im Oktober von seinem Stellvertreter im Vorsitz der Academie\, Edgar Salzmann. Die Seminare geben eine Übersicht darüber\, warum und wie man meditiert\, erläutern den Hintergrund und die Geschichte der Meditation im abendländisch-christlichen Kontext\, zeigen Parallelen zu Meditationsformen in anderen Kulturkreisen und Religionen auf und geben auch einen Einstieg in eine eigene regelmäßige Meditationspraxis. Thematische Schwerpunkte können darüber hinaus je nach Interesse der Teilnehmer gesetzt werden. Das Seminar ist dialogisch aufgebaut. \nDer Ablauf der Einführungs-Seminare gestaltet sich wie folgt: \n09.30 Uhr: Einführung und Vorstellungsrunde \n09.45 Uhr: Warum und wie meditieren? (mit erster kurzer Meditationsübung) \n10.30 Uhr: Hintergründe zu den Wurzeln der christlichen Meditation \n11.00 Uhr: Pause \n11.15 Uhr: Meditationszeit (mit kurzer Einführung) \n11.45 Uhr: Verbindendes und Unterschiede verschiedener Meditationsformen und -traditionen \n12.15 Uhr: Fragen und Antworten \n12.30 Uhr: Abschluss-Meditation \n12.50 Uhr: Kurze Manöverkritik und Hinweis auf Meditationsangebote und -gruppen \n13.00 Uhr: Ende des Seminars. \n  \nDie Teilnehmerbeitrag für das Seminar beläuft sich auf 50\,- Euro\, für Mitglieder der Academie auf 40\,- Euro. \nAlle sind herzlich willkommen! \nVorerfahrungen sind nicht erforderlich. Technische Hilfsmittel sind nicht nötig; Sitzbänkchen\, Decken und Kissen können gern mitgebracht werden. \nBei Fragen\, wenden Sie sich bitte gern vorab an uns!
URL:https://kloster-academie.de/event/kurz-seminare-einfuehrung-in-die-kontemplation/
LOCATION:Kloster Eberbach\, Kloster-Eberbach-Str. 1\, Eltville am Rhein\, Hessen\, 65346
CATEGORIES:Highlights,Meditation & Achtsamkeit
ATTACH;FMTTYPE=image/jpeg:https://kloster-academie.de/wp-content/uploads/2024/08/VA-Einfuehrung-Kontemplation.jpg
ORGANIZER;CN="Academie Kloster Eberbach":MAILTO:info@kloster-academie.de
END:VEVENT
BEGIN:VEVENT
DTSTART;TZID=Europe/Berlin:20250115T183000
DTEND;TZID=Europe/Berlin:20250115T190000
DTSTAMP:20260419T183854
CREATED:20240108T182848Z
LAST-MODIFIED:20240108T182848Z
UID:4972-1736965800-1736967600@kloster-academie.de
SUMMARY:Schweige-Meditation
DESCRIPTION:„Aus dem Schweigen kommt alle Kraft.“\nBernhard von Clairvaux (1091 – 1153)\nKloster Eberbach ist auch ein Ort der Stille. Kommen Sie zur Ruhe in der abendlichen klösterlichen Abgeschiedenheit. \nMittwochs von 18.30 Uhr bis 19.00 Uhr bieten wir Ihnen nach einer kurzen Einführung eine Schweigemeditation im Geist des Klosters an. Hier öffnet sich die Tür zu einer Dimension\, die in unserem Alltag oft zu kurz kommt. \nMeditation ist nicht nur ein wirksames Mittel gegen\nStress. Sie kann Ihnen auch helfen:\n• wacher und achtsamer zu werden\,\n• klarer zu sehen\,\n• Selbsterkenntnis zu gewinnen\,\n• innere Stärke zu entfalten\n• und bewusster zu handeln\nVorerfahrungen sind nicht erforderlich\, es reicht ein offenes Herz und eine halbe Stunde Zeit in der neun Jahrhunderte alten Klosteranlage. Probieren Sie es aus! \nDer Weg zum Meditations-Raum ist vom Innenhof des Klosters aus beschildert. Eine Anfahrtsskizze finden Sie hier. \n  \nDie Teilnahme ist kostenfrei. Eine Anmeldung ist nicht erforderlich. \n 
URL:https://kloster-academie.de/event/schweige-meditation-65/
LOCATION:Kloster Eberbach\, Kloster-Eberbach-Str. 1\, Eltville am Rhein\, Hessen\, 65346
CATEGORIES:Meditation & Achtsamkeit
ATTACH;FMTTYPE=image/png:https://kloster-academie.de/wp-content/uploads/2020/06/Schweige-Meditation.png
ORGANIZER;CN="Academie Kloster Eberbach":MAILTO:info@kloster-academie.de
END:VEVENT
BEGIN:VEVENT
DTSTART;TZID=Europe/Berlin:20250116T183000
DTEND;TZID=Europe/Berlin:20250116T190000
DTSTAMP:20260419T183854
CREATED:20231227T132359Z
LAST-MODIFIED:20231227T132359Z
UID:4851-1737052200-1737054000@kloster-academie.de
SUMMARY:Online-Meditation
DESCRIPTION:Wir bieten Interessierten JEDEN Donnerstag um 18.30 Uhr die Gelegenheit zur Teilnahme an einer Online-Meditation anbieten. Sie soll in der gleichen\, schlichten Form wie die Meditationen im Kloster Eberbach stattfinden: Kurze Einführung (ca. 5 Minuten) und Meditationszeit von gut 20 Minuten\, sodass jeder nach einer halben Stunde wieder „frei“ ist. \nWir sind Michael Hüttner sehr dankbar\, dass er diese Treffen leiten wird. Er ist Gründungsmitglied der Academie und dem Thema „Meditation“ schon seit langer Zeit verbunden. Nach seiner Tätigkeit bei der Commerzbank in Frankfurt ist er schwerpunktmäßig auch mit dem Thema „Coaching“ befasst. \nWir bitten darum\, so zeitig beizutreten\, dass die Zeit der Schweigemeditation nicht gestört wird.\nDen Zugang hierzu finden Sie über den folgenden Link\, der für die Online-Meditationen auch künftig gelten wird: \nhttps://zoom.us/j/98374369404?pwd=aDZKNStZTFR1WjNvZTVVQTZkVmpLdz09\nMeeting-ID: 983 7436 9404\nKenncode: 846603
URL:https://kloster-academie.de/event/online-meditation-159/
LOCATION:Online per Zoom
CATEGORIES:Meditation & Achtsamkeit
ATTACH;FMTTYPE=image/png:https://kloster-academie.de/wp-content/uploads/2021/06/oeffentlicher-vortrag-1.png
ORGANIZER;CN="Academie Kloster Eberbach":MAILTO:info@kloster-academie.de
END:VEVENT
BEGIN:VEVENT
DTSTART;TZID=Europe/Berlin:20250122T183000
DTEND;TZID=Europe/Berlin:20250122T190000
DTSTAMP:20260419T183854
CREATED:20241227T122633Z
LAST-MODIFIED:20241227T122633Z
UID:5718-1737570600-1737572400@kloster-academie.de
SUMMARY:Schweige-Meditation
DESCRIPTION:„Aus dem Schweigen kommt alle Kraft.“\nBernhard von Clairvaux (1091 – 1153)\nKloster Eberbach ist auch ein Ort der Stille. Kommen Sie zur Ruhe in der abendlichen klösterlichen Abgeschiedenheit. \nMittwochs von 18.30 Uhr bis 19.00 Uhr bieten wir Ihnen nach einer kurzen Einführung eine Schweigemeditation im Geist des Klosters an. Hier öffnet sich die Tür zu einer Dimension\, die in unserem Alltag oft zu kurz kommt. \nMeditation ist nicht nur ein wirksames Mittel gegen\nStress. Sie kann Ihnen auch helfen:\n• wacher und achtsamer zu werden\,\n• klarer zu sehen\,\n• Selbsterkenntnis zu gewinnen\,\n• innere Stärke zu entfalten\n• und bewusster zu handeln\nVorerfahrungen sind nicht erforderlich\, es reicht ein offenes Herz und eine halbe Stunde Zeit in der neun Jahrhunderte alten Klosteranlage. Probieren Sie es aus! \nDer Weg zum Meditations-Raum ist vom Innenhof des Klosters aus beschildert. Eine Anfahrtsskizze finden Sie hier. \n  \nDie Teilnahme ist kostenfrei. Eine Anmeldung ist nicht erforderlich. \n 
URL:https://kloster-academie.de/event/schweige-meditation/
LOCATION:Kloster Eberbach\, Kloster-Eberbach-Str. 1\, Eltville am Rhein\, Hessen\, 65346
CATEGORIES:Meditation & Achtsamkeit
ATTACH;FMTTYPE=image/png:https://kloster-academie.de/wp-content/uploads/2020/06/Schweige-Meditation.png
ORGANIZER;CN="Academie Kloster Eberbach":MAILTO:info@kloster-academie.de
END:VEVENT
BEGIN:VEVENT
DTSTART;TZID=Europe/Berlin:20250123T183000
DTEND;TZID=Europe/Berlin:20250123T190000
DTSTAMP:20260419T183854
CREATED:20241227T103615Z
LAST-MODIFIED:20241227T103615Z
UID:5615-1737657000-1737658800@kloster-academie.de
SUMMARY:Online-Meditation
DESCRIPTION:Wir bieten Interessierten JEDEN Donnerstag um 18.30 Uhr die Gelegenheit zur Teilnahme an einer Online-Meditation anbieten. Sie soll in der gleichen\, schlichten Form wie die Meditationen im Kloster Eberbach stattfinden: Kurze Einführung (ca. 5 Minuten) und Meditationszeit von gut 20 Minuten\, sodass jeder nach einer halben Stunde wieder „frei“ ist. \nWir sind Michael Hüttner sehr dankbar\, dass er diese Treffen leiten wird. Er ist Gründungsmitglied der Academie und dem Thema „Meditation“ schon seit langer Zeit verbunden. Nach seiner Tätigkeit bei der Commerzbank in Frankfurt ist er schwerpunktmäßig auch mit dem Thema „Coaching“ befasst. \nWir bitten darum\, so zeitig beizutreten\, dass die Zeit der Schweigemeditation nicht gestört wird.\nDen Zugang hierzu finden Sie über den folgenden Link\, der für die Online-Meditationen auch künftig gelten wird: \nhttps://zoom.us/j/98374369404?pwd=aDZKNStZTFR1WjNvZTVVQTZkVmpLdz09\nMeeting-ID: 983 7436 9404\nKenncode: 846603
URL:https://kloster-academie.de/event/online-meditation-35/
LOCATION:Online per Zoom
CATEGORIES:Meditation & Achtsamkeit
ATTACH;FMTTYPE=image/png:https://kloster-academie.de/wp-content/uploads/2021/06/oeffentlicher-vortrag-1.png
ORGANIZER;CN="Academie Kloster Eberbach":MAILTO:info@kloster-academie.de
END:VEVENT
BEGIN:VEVENT
DTSTART;TZID=Europe/Berlin:20250123T193000
DTEND;TZID=Europe/Berlin:20250123T210000
DTSTAMP:20260419T183854
CREATED:20241227T140529Z
LAST-MODIFIED:20250114T181410Z
UID:5852-1737660600-1737666000@kloster-academie.de
SUMMARY:Academie IM AUSTAUSCH - exklusiv für Mitglieder & Freunde
DESCRIPTION:„Eine Stimme aus Leipzig einen Monat vor der Bundestagswahl“\nIm Rahmen der Reihe ‚Academie IM AUSTAUSCH‘ wird uns Reinhard Höll\, Partner bei McKinsey & Company\, Inc.\, u. a. Leiter Transaction Banking\, nach einem kurzen Impulsvortrag zum oben genannten Thema Rede und Antwort stehen. \n————- \nZum Impulsvortrag \nIn den kommenden Wochen stehen Bundestagswahlen an\, und es ist eine Zeit des Nachdenkens und der Reflexion. Aufgewachsen in Leipzig\, habe ich die tiefgreifenden Veränderungen miterlebt\, die seine Heimatregion seit der Wiedervereinigung durchlaufen hat. Die wirtschaftlichen und sozialen Fortschritte sind beeindruckend\, das gesellschaftliche Bild ist aber zum Teil bedrückend. \nViele Ostdeutsche fühlen sich wirtschaftlich unsicher und sozial benachteiligt. Auch die kulturelle Anerkennung und Repräsentation wird oft als unzureichend empfunden. Diese Gefühle spiegeln sich auch in den unterschiedlichen Wahlmustern wider\, die wir in Ost- und Westdeutschland beobachten. \nDennoch ist die Situation komplexer\, das Wahlverhalten von Leipzig und Hamburg unterscheidet sich weniger als jenes zwischen der Messestadt und dem sächsischen Umland. \nGleichzeitig scheint die Frustration – so kann es nicht weiter gehen – ein gesamtdeutsches Phänomen zu sein; ist Ostdeutschland nur die Spitze des Eisberges? \nGerne möchte der Referent in diesem Sinne einige Perspektiven teilen und zur offenen Diskussion einladen. \n————- \nZum Referenten \n \nReinhard Höll ist gebürtiger und mittlerweile wieder wohnhafter Leipziger. Er erlebte die letzten Jahre der DDR\, wuchs in der Leipziger Nachwendezeit auf und studierte und arbeitete in ganz Europa. \nHeute ist er Partner im Berliner Büro von McKinsey und betreut Klienten Banken\, Fintechs und Private-Equity-Klienten zu strategischen\, digitalen und M&A-Themen. Er ist studierte an den University of St Andrews\, der Ecole Normale Superieure in Paris und der University of Cambridge. \n————- \nDie Academie IM AUSTAUSCH wird einmal pro Quartal exklusiv für unsere Mitglieder & Freunde als Online–Veranstaltung über Zoom angeboten.  \nAlle sind herzlich eingeladen\, sich in diesem Rahmen über aktuelle Werte–Debatten zu informieren und auszutauschen. Jedes Mitglied kann gern einen weiteren Interessenten zu dieser Veranstaltung anmelden. \nDer Einwahl–Link wird den Mitgliedern separat zugeschickt. \nSie sind noch kein Mitglied und möchten an der Veranstaltung teilnehmen? Finden Sie alle Informationen über eine Mitgliedschaft\, dessen Vorteile und das Anmeldeformular hier. \nEine Veranstaltungsreihe der Academie Kloster Eberbach\n\nDauer: 60 Minuten
URL:https://kloster-academie.de/event/academie-im-austausch-januar-2025/
LOCATION:Online per Zoom
CATEGORIES:Exklusiv für Mitglieder,Highlights
ATTACH;FMTTYPE=image/png:https://kloster-academie.de/wp-content/uploads/2022/01/Academie-im-Austauschv3.png
ORGANIZER;CN="Academie Kloster Eberbach":MAILTO:info@kloster-academie.de
END:VEVENT
BEGIN:VEVENT
DTSTART;TZID=Europe/Berlin:20250129T183000
DTEND;TZID=Europe/Berlin:20250129T190000
DTSTAMP:20260419T183854
CREATED:20241227T122641Z
LAST-MODIFIED:20241227T122641Z
UID:5738-1738175400-1738177200@kloster-academie.de
SUMMARY:Schweige-Meditation
DESCRIPTION:„Aus dem Schweigen kommt alle Kraft.“\nBernhard von Clairvaux (1091 – 1153)\nKloster Eberbach ist auch ein Ort der Stille. Kommen Sie zur Ruhe in der abendlichen klösterlichen Abgeschiedenheit. \nMittwochs von 18.30 Uhr bis 19.00 Uhr bieten wir Ihnen nach einer kurzen Einführung eine Schweigemeditation im Geist des Klosters an. Hier öffnet sich die Tür zu einer Dimension\, die in unserem Alltag oft zu kurz kommt. \nMeditation ist nicht nur ein wirksames Mittel gegen\nStress. Sie kann Ihnen auch helfen:\n• wacher und achtsamer zu werden\,\n• klarer zu sehen\,\n• Selbsterkenntnis zu gewinnen\,\n• innere Stärke zu entfalten\n• und bewusster zu handeln\nVorerfahrungen sind nicht erforderlich\, es reicht ein offenes Herz und eine halbe Stunde Zeit in der neun Jahrhunderte alten Klosteranlage. Probieren Sie es aus! \nDer Weg zum Meditations-Raum ist vom Innenhof des Klosters aus beschildert. Eine Anfahrtsskizze finden Sie hier. \n  \nDie Teilnahme ist kostenfrei. Eine Anmeldung ist nicht erforderlich. \n 
URL:https://kloster-academie.de/event/schweige-meditation-2/
LOCATION:Kloster Eberbach\, Kloster-Eberbach-Str. 1\, Eltville am Rhein\, Hessen\, 65346
CATEGORIES:Meditation & Achtsamkeit
ATTACH;FMTTYPE=image/png:https://kloster-academie.de/wp-content/uploads/2020/06/Schweige-Meditation.png
ORGANIZER;CN="Academie Kloster Eberbach":MAILTO:info@kloster-academie.de
END:VEVENT
BEGIN:VEVENT
DTSTART;TZID=Europe/Berlin:20250130T183000
DTEND;TZID=Europe/Berlin:20250130T190000
DTSTAMP:20260419T183854
CREATED:20241227T103628Z
LAST-MODIFIED:20241227T103628Z
UID:5609-1738261800-1738263600@kloster-academie.de
SUMMARY:Online-Meditation
DESCRIPTION:Wir bieten Interessierten JEDEN Donnerstag um 18.30 Uhr die Gelegenheit zur Teilnahme an einer Online-Meditation anbieten. Sie soll in der gleichen\, schlichten Form wie die Meditationen im Kloster Eberbach stattfinden: Kurze Einführung (ca. 5 Minuten) und Meditationszeit von gut 20 Minuten\, sodass jeder nach einer halben Stunde wieder „frei“ ist. \nWir sind Michael Hüttner sehr dankbar\, dass er diese Treffen leiten wird. Er ist Gründungsmitglied der Academie und dem Thema „Meditation“ schon seit langer Zeit verbunden. Nach seiner Tätigkeit bei der Commerzbank in Frankfurt ist er schwerpunktmäßig auch mit dem Thema „Coaching“ befasst. \nWir bitten darum\, so zeitig beizutreten\, dass die Zeit der Schweigemeditation nicht gestört wird.\nDen Zugang hierzu finden Sie über den folgenden Link\, der für die Online-Meditationen auch künftig gelten wird: \nhttps://zoom.us/j/98374369404?pwd=aDZKNStZTFR1WjNvZTVVQTZkVmpLdz09\nMeeting-ID: 983 7436 9404\nKenncode: 846603
URL:https://kloster-academie.de/event/online-meditation-36/
LOCATION:Online per Zoom
CATEGORIES:Meditation & Achtsamkeit
ATTACH;FMTTYPE=image/png:https://kloster-academie.de/wp-content/uploads/2021/06/oeffentlicher-vortrag-1.png
ORGANIZER;CN="Academie Kloster Eberbach":MAILTO:info@kloster-academie.de
END:VEVENT
END:VCALENDAR