BEGIN:VCALENDAR
VERSION:2.0
PRODID:-//Academie Kloster Eberbach - ECPv6.8.1//NONSGML v1.0//EN
CALSCALE:GREGORIAN
METHOD:PUBLISH
X-WR-CALNAME:Academie Kloster Eberbach
X-ORIGINAL-URL:https://kloster-academie.de
X-WR-CALDESC:Veranstaltungen für Academie Kloster Eberbach
REFRESH-INTERVAL;VALUE=DURATION:PT1H
X-Robots-Tag:noindex
X-PUBLISHED-TTL:PT1H
BEGIN:VTIMEZONE
TZID:Europe/Berlin
BEGIN:DAYLIGHT
TZOFFSETFROM:+0100
TZOFFSETTO:+0200
TZNAME:CEST
DTSTART:20240331T010000
END:DAYLIGHT
BEGIN:STANDARD
TZOFFSETFROM:+0200
TZOFFSETTO:+0100
TZNAME:CET
DTSTART:20241027T010000
END:STANDARD
END:VTIMEZONE
BEGIN:VEVENT
DTSTART;TZID=Europe/Berlin:20241204T183000
DTEND;TZID=Europe/Berlin:20241204T190000
DTSTAMP:20260421T122659
CREATED:20240108T182529Z
LAST-MODIFIED:20240108T182529Z
UID:4966-1733337000-1733338800@kloster-academie.de
SUMMARY:Schweige-Meditation
DESCRIPTION:„Aus dem Schweigen kommt alle Kraft.“\nBernhard von Clairvaux (1091 – 1153)\nKloster Eberbach ist auch ein Ort der Stille. Kommen Sie zur Ruhe in der abendlichen klösterlichen Abgeschiedenheit. \nMittwochs von 18.30 Uhr bis 19.00 Uhr bieten wir Ihnen nach einer kurzen Einführung eine Schweigemeditation im Geist des Klosters an. Hier öffnet sich die Tür zu einer Dimension\, die in unserem Alltag oft zu kurz kommt. \nMeditation ist nicht nur ein wirksames Mittel gegen\nStress. Sie kann Ihnen auch helfen:\n• wacher und achtsamer zu werden\,\n• klarer zu sehen\,\n• Selbsterkenntnis zu gewinnen\,\n• innere Stärke zu entfalten\n• und bewusster zu handeln\nVorerfahrungen sind nicht erforderlich\, es reicht ein offenes Herz und eine halbe Stunde Zeit in der neun Jahrhunderte alten Klosteranlage. Probieren Sie es aus! \nDer Weg zum Meditations-Raum ist vom Innenhof des Klosters aus beschildert. Eine Anfahrtsskizze finden Sie hier. \n  \nDie Teilnahme ist kostenfrei. Eine Anmeldung ist nicht erforderlich. \n 
URL:https://kloster-academie.de/event/schweige-meditation-61/
LOCATION:Kloster Eberbach\, Kloster-Eberbach-Str. 1\, Eltville am Rhein\, Hessen\, 65346
CATEGORIES:Meditation & Achtsamkeit
ATTACH;FMTTYPE=image/png:https://kloster-academie.de/wp-content/uploads/2020/06/Schweige-Meditation.png
ORGANIZER;CN="Academie Kloster Eberbach":MAILTO:info@kloster-academie.de
END:VEVENT
BEGIN:VEVENT
DTSTART;TZID=Europe/Berlin:20241204T190000
DTEND;TZID=Europe/Berlin:20241204T210000
DTSTAMP:20260421T122659
CREATED:20240114T095640Z
LAST-MODIFIED:20241014T070055Z
UID:4980-1733338800-1733346000@kloster-academie.de
SUMMARY:Eberbacher Impulse: "Rache ist nie süß“ – verletzte Schamgefühle als Wurzel persönlicher Identitätsprobleme\, sozialer Konflikte und gewaltsamer Eskalationsdynamiken
DESCRIPTION:„Rache ist nie süß“ – verletzte Schamgefühle als Wurzel persönlicher Identitätsprobleme\, sozialer Konflikte und gewaltsamer Eskalationsdynamiken\nReferent: Dr. phil. Peter Conzen\, Ehemaliger Leiter der Erziehungs- und Familienberatungsstelle des Caritasverbandes der Stadt Bonn\n\n\n\n———–\n\n\nZum Inhalt des Vortrags:\n\nImmer häufiger geht es in Beratung und Therapie um die Stützung des verunsicherten Selbst\, die Klärung drängender Identitätsprobleme. Und oftmals stoßen wir hinter Gefühlen von Selbstzweifeln\, Überforderung\, Orientierungslosigkeit und Nichtzugehörigkeit auf offene oder verdeckte Schamthemen. Gleichzeitig erleben wir im mitunter Grellen und Distanzlosen der öffentlichen Inszenierungen\, im zunehmend Harten und Unversöhnlichen gesellschaftlicher und politischer Kontroversen eine Art „befreiter Schamlosigkeit“\, Formen von Ressentiment und Rachsucht\, die Achtung\, Toleranz und demokratische Umgangsformen zu gefährden droht.\nDer Vortrag beleuchtet die Doppelrolle der Scham als Hüterin wie als potenzielle Zerstörerin menschlichen Identitätsgefühls\, diskutiert die Vielfalt von Schamempfindungen und Schamanlässen in ihrer Auswirkung auf individuelle und gesellschaftliche Konflikte.\n\n\n\n\n\nZur Person unseres Referenten:\n\n\nStudium der Psychologie in Bonn; Promotion über das Werk des Psychoanalytikers Erik H. Erikson; seit 1985 Mitarbeiter in der Erziehungs- und Familienberatungsstelle des Bonner Caritasverbandes\, von 2005 bis zum Ruhestand im Jahre 2021 Leiter der Stelle; Wissenschaftliche Veröffentlichungen zum Werk Erik H. Eriksons\, zur Identitäts- und Fanatismusforschung. Letzte Buchveröffentlichungen: „Die bedrängte Seele. Identitätsprobleme in Zeiten der Verunsicherung“\, Stuttgart 2017\, Kohlhammer; „Erik H. Erikson. Grundpositionen seines Werkes“\, 2. Auflage\, Stuttgart 2021\, Kohlhammer \n\n\n\n\n—–\n\n\n\nAnmeldung und Kosten\nDie Teilnahme für Mitglieder der Academie Kloster Eberbach ist kostenlos. Von Nicht-Mitgliedern erbitten wir zur Deckung unserer Kosten einen Beitrag von 5\,- Euro vor Ort. Bitte melden Sie sich über untenstehenden Link an. \n\n\n—–\n\nAblauf\nDie Vorträge im Rahmen der Eberbacher Impulse beginnen um 19.00 Uhr und dauern ca. 1 Stunde. Anschließend gibt es die Möglichkeit zur Begegnung.\nVor den Vorträgen findet bei den Eberbacher Impulsen um 18.30 Uhr eine Schweige-Meditation statt\, ab 18.00 Uhr gibt es ein Vorgespräch zur Praxis der Meditation für Neueinsteiger oder generell an der Schweigemeditation Interessierte.\n\n\n—–\n\n\nAnfahrt\n\nDer Veranstaltungsraum ist in der Regel der Raum „Brauhaus“. Der Weg zum Veranstaltungsort ist vom Innenhof des Klosters aus beschildert. Die Anfahrt zum Innenhof finden Sie hier.\n\n\n—–\n\nEine Veranstaltung mit Unterstützung der Stiftung Kloster Eberbach.
URL:https://kloster-academie.de/event/eberbacher-impulse-rache-ist-nie-suess-das-feuer-der-scham-als-wurzel-menschlichen-extremismus-und-fanatismus/
LOCATION:Kloster Eberbach\, Kloster-Eberbach-Str. 1\, Eltville am Rhein\, Hessen\, 65346
CATEGORIES:Eberbacher Impulse,Highlights,Spiritualität & Gesellschaft
ATTACH;FMTTYPE=image/png:https://kloster-academie.de/wp-content/uploads/2020/06/Eberbacher-Impulse.png
ORGANIZER;CN="Academie Kloster Eberbach":MAILTO:info@kloster-academie.de
END:VEVENT
BEGIN:VEVENT
DTSTART;TZID=Europe/Berlin:20241205T183000
DTEND;TZID=Europe/Berlin:20241205T190000
DTSTAMP:20260421T122659
CREATED:20231227T132300Z
LAST-MODIFIED:20231227T132300Z
UID:4849-1733423400-1733425200@kloster-academie.de
SUMMARY:Online-Meditation
DESCRIPTION:Wir bieten Interessierten JEDEN Donnerstag um 18.30 Uhr die Gelegenheit zur Teilnahme an einer Online-Meditation anbieten. Sie soll in der gleichen\, schlichten Form wie die Meditationen im Kloster Eberbach stattfinden: Kurze Einführung (ca. 5 Minuten) und Meditationszeit von gut 20 Minuten\, sodass jeder nach einer halben Stunde wieder „frei“ ist. \nWir sind Michael Hüttner sehr dankbar\, dass er diese Treffen leiten wird. Er ist Gründungsmitglied der Academie und dem Thema „Meditation“ schon seit langer Zeit verbunden. Nach seiner Tätigkeit bei der Commerzbank in Frankfurt ist er schwerpunktmäßig auch mit dem Thema „Coaching“ befasst. \nWir bitten darum\, so zeitig beizutreten\, dass die Zeit der Schweigemeditation nicht gestört wird.\nDen Zugang hierzu finden Sie über den folgenden Link\, der für die Online-Meditationen auch künftig gelten wird: \nhttps://zoom.us/j/98374369404?pwd=aDZKNStZTFR1WjNvZTVVQTZkVmpLdz09\nMeeting-ID: 983 7436 9404\nKenncode: 846603
URL:https://kloster-academie.de/event/online-meditation-153/
LOCATION:Online per Zoom
CATEGORIES:Meditation & Achtsamkeit
ATTACH;FMTTYPE=image/png:https://kloster-academie.de/wp-content/uploads/2021/06/oeffentlicher-vortrag-1.png
ORGANIZER;CN="Academie Kloster Eberbach":MAILTO:info@kloster-academie.de
END:VEVENT
BEGIN:VEVENT
DTSTART;TZID=Europe/Berlin:20241211T183000
DTEND;TZID=Europe/Berlin:20241211T190000
DTSTAMP:20260421T122659
CREATED:20240108T182803Z
LAST-MODIFIED:20240108T182803Z
UID:4975-1733941800-1733943600@kloster-academie.de
SUMMARY:Schweige-Meditation
DESCRIPTION:„Aus dem Schweigen kommt alle Kraft.“\nBernhard von Clairvaux (1091 – 1153)\nKloster Eberbach ist auch ein Ort der Stille. Kommen Sie zur Ruhe in der abendlichen klösterlichen Abgeschiedenheit. \nMittwochs von 18.30 Uhr bis 19.00 Uhr bieten wir Ihnen nach einer kurzen Einführung eine Schweigemeditation im Geist des Klosters an. Hier öffnet sich die Tür zu einer Dimension\, die in unserem Alltag oft zu kurz kommt. \nMeditation ist nicht nur ein wirksames Mittel gegen\nStress. Sie kann Ihnen auch helfen:\n• wacher und achtsamer zu werden\,\n• klarer zu sehen\,\n• Selbsterkenntnis zu gewinnen\,\n• innere Stärke zu entfalten\n• und bewusster zu handeln\nVorerfahrungen sind nicht erforderlich\, es reicht ein offenes Herz und eine halbe Stunde Zeit in der neun Jahrhunderte alten Klosteranlage. Probieren Sie es aus! \nDer Weg zum Meditations-Raum ist vom Innenhof des Klosters aus beschildert. Eine Anfahrtsskizze finden Sie hier. \n  \nDie Teilnahme ist kostenfrei. Eine Anmeldung ist nicht erforderlich. \n 
URL:https://kloster-academie.de/event/schweige-meditation-62/
LOCATION:Kloster Eberbach\, Kloster-Eberbach-Str. 1\, Eltville am Rhein\, Hessen\, 65346
CATEGORIES:Meditation & Achtsamkeit
ATTACH;FMTTYPE=image/png:https://kloster-academie.de/wp-content/uploads/2020/06/Schweige-Meditation.png
ORGANIZER;CN="Academie Kloster Eberbach":MAILTO:info@kloster-academie.de
END:VEVENT
BEGIN:VEVENT
DTSTART;TZID=Europe/Berlin:20241212T183000
DTEND;TZID=Europe/Berlin:20241212T190000
DTSTAMP:20260421T122659
CREATED:20231227T132310Z
LAST-MODIFIED:20231227T132310Z
UID:4848-1734028200-1734030000@kloster-academie.de
SUMMARY:Online-Meditation
DESCRIPTION:Wir bieten Interessierten JEDEN Donnerstag um 18.30 Uhr die Gelegenheit zur Teilnahme an einer Online-Meditation anbieten. Sie soll in der gleichen\, schlichten Form wie die Meditationen im Kloster Eberbach stattfinden: Kurze Einführung (ca. 5 Minuten) und Meditationszeit von gut 20 Minuten\, sodass jeder nach einer halben Stunde wieder „frei“ ist. \nWir sind Michael Hüttner sehr dankbar\, dass er diese Treffen leiten wird. Er ist Gründungsmitglied der Academie und dem Thema „Meditation“ schon seit langer Zeit verbunden. Nach seiner Tätigkeit bei der Commerzbank in Frankfurt ist er schwerpunktmäßig auch mit dem Thema „Coaching“ befasst. \nWir bitten darum\, so zeitig beizutreten\, dass die Zeit der Schweigemeditation nicht gestört wird.\nDen Zugang hierzu finden Sie über den folgenden Link\, der für die Online-Meditationen auch künftig gelten wird: \nhttps://zoom.us/j/98374369404?pwd=aDZKNStZTFR1WjNvZTVVQTZkVmpLdz09\nMeeting-ID: 983 7436 9404\nKenncode: 846603
URL:https://kloster-academie.de/event/online-meditation-154/
LOCATION:Online per Zoom
CATEGORIES:Meditation & Achtsamkeit
ATTACH;FMTTYPE=image/png:https://kloster-academie.de/wp-content/uploads/2021/06/oeffentlicher-vortrag-1.png
ORGANIZER;CN="Academie Kloster Eberbach":MAILTO:info@kloster-academie.de
END:VEVENT
BEGIN:VEVENT
DTSTART;TZID=Europe/Berlin:20241218T183000
DTEND;TZID=Europe/Berlin:20241218T190000
DTSTAMP:20260421T122659
CREATED:20240108T182817Z
LAST-MODIFIED:20240108T182817Z
UID:4974-1734546600-1734548400@kloster-academie.de
SUMMARY:Schweige-Meditation
DESCRIPTION:„Aus dem Schweigen kommt alle Kraft.“\nBernhard von Clairvaux (1091 – 1153)\nKloster Eberbach ist auch ein Ort der Stille. Kommen Sie zur Ruhe in der abendlichen klösterlichen Abgeschiedenheit. \nMittwochs von 18.30 Uhr bis 19.00 Uhr bieten wir Ihnen nach einer kurzen Einführung eine Schweigemeditation im Geist des Klosters an. Hier öffnet sich die Tür zu einer Dimension\, die in unserem Alltag oft zu kurz kommt. \nMeditation ist nicht nur ein wirksames Mittel gegen\nStress. Sie kann Ihnen auch helfen:\n• wacher und achtsamer zu werden\,\n• klarer zu sehen\,\n• Selbsterkenntnis zu gewinnen\,\n• innere Stärke zu entfalten\n• und bewusster zu handeln\nVorerfahrungen sind nicht erforderlich\, es reicht ein offenes Herz und eine halbe Stunde Zeit in der neun Jahrhunderte alten Klosteranlage. Probieren Sie es aus! \nDer Weg zum Meditations-Raum ist vom Innenhof des Klosters aus beschildert. Eine Anfahrtsskizze finden Sie hier. \n  \nDie Teilnahme ist kostenfrei. Eine Anmeldung ist nicht erforderlich. \n 
URL:https://kloster-academie.de/event/schweige-meditation-63/
LOCATION:Kloster Eberbach\, Kloster-Eberbach-Str. 1\, Eltville am Rhein\, Hessen\, 65346
CATEGORIES:Meditation & Achtsamkeit
ATTACH;FMTTYPE=image/png:https://kloster-academie.de/wp-content/uploads/2020/06/Schweige-Meditation.png
ORGANIZER;CN="Academie Kloster Eberbach":MAILTO:info@kloster-academie.de
END:VEVENT
BEGIN:VEVENT
DTSTART;TZID=Europe/Berlin:20241219T183000
DTEND;TZID=Europe/Berlin:20241219T190000
DTSTAMP:20260421T122659
CREATED:20231227T132320Z
LAST-MODIFIED:20231227T132320Z
UID:4847-1734633000-1734634800@kloster-academie.de
SUMMARY:Online-Meditation
DESCRIPTION:Wir bieten Interessierten JEDEN Donnerstag um 18.30 Uhr die Gelegenheit zur Teilnahme an einer Online-Meditation anbieten. Sie soll in der gleichen\, schlichten Form wie die Meditationen im Kloster Eberbach stattfinden: Kurze Einführung (ca. 5 Minuten) und Meditationszeit von gut 20 Minuten\, sodass jeder nach einer halben Stunde wieder „frei“ ist. \nWir sind Michael Hüttner sehr dankbar\, dass er diese Treffen leiten wird. Er ist Gründungsmitglied der Academie und dem Thema „Meditation“ schon seit langer Zeit verbunden. Nach seiner Tätigkeit bei der Commerzbank in Frankfurt ist er schwerpunktmäßig auch mit dem Thema „Coaching“ befasst. \nWir bitten darum\, so zeitig beizutreten\, dass die Zeit der Schweigemeditation nicht gestört wird.\nDen Zugang hierzu finden Sie über den folgenden Link\, der für die Online-Meditationen auch künftig gelten wird: \nhttps://zoom.us/j/98374369404?pwd=aDZKNStZTFR1WjNvZTVVQTZkVmpLdz09\nMeeting-ID: 983 7436 9404\nKenncode: 846603
URL:https://kloster-academie.de/event/online-meditation-155/
LOCATION:Online per Zoom
CATEGORIES:Meditation & Achtsamkeit
ATTACH;FMTTYPE=image/png:https://kloster-academie.de/wp-content/uploads/2021/06/oeffentlicher-vortrag-1.png
ORGANIZER;CN="Academie Kloster Eberbach":MAILTO:info@kloster-academie.de
END:VEVENT
BEGIN:VEVENT
DTSTART;TZID=Europe/Berlin:20241219T193000
DTEND;TZID=Europe/Berlin:20241219T210000
DTSTAMP:20260421T122659
CREATED:20240107T120703Z
LAST-MODIFIED:20241126T190018Z
UID:4904-1734636600-1734642000@kloster-academie.de
SUMMARY:ACADEMIE to go: SANKT NIKOLAUS - Ein ausgefallener Heiliger
DESCRIPTION:Diese Veranstaltung wird per Zoom stattfinden. Den Link finden Sie hier: \nhttps://zoom.us/j/94412478221?pwd=c2FYTitTMFRxTlRKOE5kYlhCdnIzdz09 \nMeeting-ID: 944 1247 8221\n \nBischöfe kommen und gehen\, und ob sie etwas bringen\, ist ungewiss. Nikolaus hat immer etwas dabei und findet in die Herzen. Nur einmal gab es Ärger\, lange her. \nKeine Anmeldung erforderlich\, Eintritt frei(willig) \n\n\nEine Veranstaltungsreihe der Academie Kloster Eberbach\n\nDauer: 90 Minuten
URL:https://kloster-academie.de/event/academie-to-go-sankt-nikolaus-ein-ausgefallener-heiliger/
LOCATION:Online per Zoom
CATEGORIES:ACADEMIE to go,Highlights,Spiritualität & Gesellschaft
ATTACH;FMTTYPE=image/png:https://kloster-academie.de/wp-content/uploads/2020/06/Academie-to-go.png
ORGANIZER;CN="Academie Kloster Eberbach":MAILTO:info@kloster-academie.de
END:VEVENT
END:VCALENDAR