BEGIN:VCALENDAR
VERSION:2.0
PRODID:-//Academie Kloster Eberbach - ECPv6.8.1//NONSGML v1.0//EN
CALSCALE:GREGORIAN
METHOD:PUBLISH
X-ORIGINAL-URL:https://kloster-academie.de
X-WR-CALDESC:Veranstaltungen für Academie Kloster Eberbach
REFRESH-INTERVAL;VALUE=DURATION:PT1H
X-Robots-Tag:noindex
X-PUBLISHED-TTL:PT1H
BEGIN:VTIMEZONE
TZID:Europe/Berlin
BEGIN:DAYLIGHT
TZOFFSETFROM:+0100
TZOFFSETTO:+0200
TZNAME:CEST
DTSTART:20240331T010000
END:DAYLIGHT
BEGIN:STANDARD
TZOFFSETFROM:+0200
TZOFFSETTO:+0100
TZNAME:CET
DTSTART:20241027T010000
END:STANDARD
END:VTIMEZONE
BEGIN:VEVENT
DTSTART;TZID=Europe/Berlin:20241002T183000
DTEND;TZID=Europe/Berlin:20241002T190000
DTSTAMP:20260423T140743
CREATED:20240108T182109Z
LAST-MODIFIED:20240108T182109Z
UID:4948-1727893800-1727895600@kloster-academie.de
SUMMARY:Schweige-Meditation
DESCRIPTION:„Aus dem Schweigen kommt alle Kraft.“\nBernhard von Clairvaux (1091 – 1153)\nKloster Eberbach ist auch ein Ort der Stille. Kommen Sie zur Ruhe in der abendlichen klösterlichen Abgeschiedenheit. \nMittwochs von 18.30 Uhr bis 19.00 Uhr bieten wir Ihnen nach einer kurzen Einführung eine Schweigemeditation im Geist des Klosters an. Hier öffnet sich die Tür zu einer Dimension\, die in unserem Alltag oft zu kurz kommt. \nMeditation ist nicht nur ein wirksames Mittel gegen\nStress. Sie kann Ihnen auch helfen:\n• wacher und achtsamer zu werden\,\n• klarer zu sehen\,\n• Selbsterkenntnis zu gewinnen\,\n• innere Stärke zu entfalten\n• und bewusster zu handeln\nVorerfahrungen sind nicht erforderlich\, es reicht ein offenes Herz und eine halbe Stunde Zeit in der neun Jahrhunderte alten Klosteranlage. Probieren Sie es aus! \nDer Weg zum Meditations-Raum ist vom Innenhof des Klosters aus beschildert. Eine Anfahrtsskizze finden Sie hier. \n  \nDie Teilnahme ist kostenfrei. Eine Anmeldung ist nicht erforderlich. \n 
URL:https://kloster-academie.de/event/schweige-meditation-52/
LOCATION:Kloster Eberbach\, Kloster-Eberbach-Str. 1\, Eltville am Rhein\, Hessen\, 65346
CATEGORIES:Meditation & Achtsamkeit
ATTACH;FMTTYPE=image/png:https://kloster-academie.de/wp-content/uploads/2020/06/Schweige-Meditation.png
ORGANIZER;CN="Academie Kloster Eberbach":MAILTO:info@kloster-academie.de
END:VEVENT
BEGIN:VEVENT
DTSTART;TZID=Europe/Berlin:20241002T190000
DTEND;TZID=Europe/Berlin:20241002T210000
DTSTAMP:20260423T140743
CREATED:20240814T065240Z
LAST-MODIFIED:20240929T191408Z
UID:5416-1727895600-1727902800@kloster-academie.de
SUMMARY:Eberbacher Impulse: „Meditation und die innere Welt - die Stille im Wandel der Zeit"
DESCRIPTION:Referentin: Celia Pepperl \nWir freuen uns auf einen Vortrag zum Thema „Meditation und die innere Welt – die Stille im Wandel der Zeit. Wir spüren der Frage nach wie sich das Bedürfnis nach der Verbindung in das Innere im Laufe der letzten Jahre geändert hat. Wieso wenden sich insbesondere junge Menschen wieder vermehrt dem Thema Spiritualität zu? Vortragen wird Celia Pepperl\, die aus verschiedenen Welten auf das Thema schaut. \n———–\nZum Inhalt des Vortrags: \nWährend noch vor ein paar Jahren Tarotkarten\, Pendel und Spiritualität als esoterischer Hokuspokus abgetan wurden\, wird heute das Thema Mystik und Spiritualität immer größer\, moderner und greifbarer. Doch wieso ist das so? Und was können wir erreichen\, wenn wir mit unserem Unterbewusstsein in einen inneren Dialog treten? Wie manifestieren wir unser Inneres im Aussen und welche Kraft liegt in dem Unterbewusstsein? Diese Themen werden in dem Vortrag diskutiert und die unmittelbare Wirkung von einer geführten Meditation in einer 15-20 minütigen Live-Meditation gezeigt. \n\n\n\n\nZur Person unserer Referentin:\n\n\n\nCelia Pepperl \nDie ausgebildete Diplomjuristin hat ihre Leidenschaft zum Beruf gemacht und arbeitet als Yogalehrerin\, mit einem Schwerpunkt in der Meditation. Aktuell ist sie Managerin im Balance Yoga\, dem grössten Yogastudio Deutschlands. \n\n\n\n\n—–\n\n\n\nAnmeldung und Kosten \nDie Teilnahme für Mitglieder der Academie Kloster Eberbach ist kostenlos. Von Nicht-Mitgliedern erbitten wir zur Deckung unserer Kosten einen Beitrag von 5\,- Euro vor Ort. Bitte melden Sie sich über untenstehenden Link an. \n—– \nAblauf\nDie Vorträge im Rahmen der Eberbacher Impulse beginnen um 19.00 Uhr und dauern ca. 1 Stunde. Anschließend gibt es die Möglichkeit zur Begegnung.\nVor den Vorträgen findet bei den Eberbacher Impulsen um 18.30 Uhr eine Schweige-Meditation statt\, ab 18.00 Uhr gibt es ein Vorgespräch zur Praxis der Meditation für Neueinsteiger oder generell an der Schweigemeditation Interessierte. \n—– \nAnfahrt\nDer Veranstaltungsraum ist der Fürstensaal (2. OG). Der Weg zum Veranstaltungsort ist vom Innenhof des Klosters aus beschildert. Die Anfahrt zum Innenhof finden Sie hier. \n\n\n\n—–\n\nEine Veranstaltung mit Unterstützung der Stiftung Kloster Eberbach.
URL:https://kloster-academie.de/event/eberbacher-impulse-meditation-und-die-innere-welt-die-stille-im-wandel-der-zeit/
LOCATION:Kloster Eberbach\, Kloster-Eberbach-Str. 1\, Eltville am Rhein\, Hessen\, 65346
CATEGORIES:Eberbacher Impulse,Highlights
ATTACH;FMTTYPE=image/png:https://kloster-academie.de/wp-content/uploads/2020/06/Eberbacher-Impulse.png
ORGANIZER;CN="Academie Kloster Eberbach":MAILTO:info@kloster-academie.de
END:VEVENT
BEGIN:VEVENT
DTSTART;TZID=Europe/Berlin:20241003T183000
DTEND;TZID=Europe/Berlin:20241003T190000
DTSTAMP:20260423T140743
CREATED:20231227T132148Z
LAST-MODIFIED:20231227T132148Z
UID:4838-1727980200-1727982000@kloster-academie.de
SUMMARY:Online-Meditation
DESCRIPTION:Wir bieten Interessierten JEDEN Donnerstag um 18.30 Uhr die Gelegenheit zur Teilnahme an einer Online-Meditation anbieten. Sie soll in der gleichen\, schlichten Form wie die Meditationen im Kloster Eberbach stattfinden: Kurze Einführung (ca. 5 Minuten) und Meditationszeit von gut 20 Minuten\, sodass jeder nach einer halben Stunde wieder „frei“ ist. \nWir sind Michael Hüttner sehr dankbar\, dass er diese Treffen leiten wird. Er ist Gründungsmitglied der Academie und dem Thema „Meditation“ schon seit langer Zeit verbunden. Nach seiner Tätigkeit bei der Commerzbank in Frankfurt ist er schwerpunktmäßig auch mit dem Thema „Coaching“ befasst. \nWir bitten darum\, so zeitig beizutreten\, dass die Zeit der Schweigemeditation nicht gestört wird.\nDen Zugang hierzu finden Sie über den folgenden Link\, der für die Online-Meditationen auch künftig gelten wird: \nhttps://zoom.us/j/98374369404?pwd=aDZKNStZTFR1WjNvZTVVQTZkVmpLdz09\nMeeting-ID: 983 7436 9404\nKenncode: 846603
URL:https://kloster-academie.de/event/online-meditation-144/
LOCATION:Online per Zoom
CATEGORIES:Meditation & Achtsamkeit
ATTACH;FMTTYPE=image/png:https://kloster-academie.de/wp-content/uploads/2021/06/oeffentlicher-vortrag-1.png
ORGANIZER;CN="Academie Kloster Eberbach":MAILTO:info@kloster-academie.de
END:VEVENT
BEGIN:VEVENT
DTSTART;TZID=Europe/Berlin:20241009T183000
DTEND;TZID=Europe/Berlin:20241009T190000
DTSTAMP:20260423T140743
CREATED:20240108T182122Z
LAST-MODIFIED:20240108T182122Z
UID:4947-1728498600-1728500400@kloster-academie.de
SUMMARY:Schweige-Meditation
DESCRIPTION:„Aus dem Schweigen kommt alle Kraft.“\nBernhard von Clairvaux (1091 – 1153)\nKloster Eberbach ist auch ein Ort der Stille. Kommen Sie zur Ruhe in der abendlichen klösterlichen Abgeschiedenheit. \nMittwochs von 18.30 Uhr bis 19.00 Uhr bieten wir Ihnen nach einer kurzen Einführung eine Schweigemeditation im Geist des Klosters an. Hier öffnet sich die Tür zu einer Dimension\, die in unserem Alltag oft zu kurz kommt. \nMeditation ist nicht nur ein wirksames Mittel gegen\nStress. Sie kann Ihnen auch helfen:\n• wacher und achtsamer zu werden\,\n• klarer zu sehen\,\n• Selbsterkenntnis zu gewinnen\,\n• innere Stärke zu entfalten\n• und bewusster zu handeln\nVorerfahrungen sind nicht erforderlich\, es reicht ein offenes Herz und eine halbe Stunde Zeit in der neun Jahrhunderte alten Klosteranlage. Probieren Sie es aus! \nDer Weg zum Meditations-Raum ist vom Innenhof des Klosters aus beschildert. Eine Anfahrtsskizze finden Sie hier. \n  \nDie Teilnahme ist kostenfrei. Eine Anmeldung ist nicht erforderlich. \n 
URL:https://kloster-academie.de/event/schweige-meditation-53/
LOCATION:Kloster Eberbach\, Kloster-Eberbach-Str. 1\, Eltville am Rhein\, Hessen\, 65346
CATEGORIES:Meditation & Achtsamkeit
ATTACH;FMTTYPE=image/png:https://kloster-academie.de/wp-content/uploads/2020/06/Schweige-Meditation.png
ORGANIZER;CN="Academie Kloster Eberbach":MAILTO:info@kloster-academie.de
END:VEVENT
BEGIN:VEVENT
DTSTART;TZID=Europe/Berlin:20241010T183000
DTEND;TZID=Europe/Berlin:20241010T190000
DTSTAMP:20260423T140743
CREATED:20231227T132155Z
LAST-MODIFIED:20231227T132155Z
UID:4837-1728585000-1728586800@kloster-academie.de
SUMMARY:Online-Meditation
DESCRIPTION:Wir bieten Interessierten JEDEN Donnerstag um 18.30 Uhr die Gelegenheit zur Teilnahme an einer Online-Meditation anbieten. Sie soll in der gleichen\, schlichten Form wie die Meditationen im Kloster Eberbach stattfinden: Kurze Einführung (ca. 5 Minuten) und Meditationszeit von gut 20 Minuten\, sodass jeder nach einer halben Stunde wieder „frei“ ist. \nWir sind Michael Hüttner sehr dankbar\, dass er diese Treffen leiten wird. Er ist Gründungsmitglied der Academie und dem Thema „Meditation“ schon seit langer Zeit verbunden. Nach seiner Tätigkeit bei der Commerzbank in Frankfurt ist er schwerpunktmäßig auch mit dem Thema „Coaching“ befasst. \nWir bitten darum\, so zeitig beizutreten\, dass die Zeit der Schweigemeditation nicht gestört wird.\nDen Zugang hierzu finden Sie über den folgenden Link\, der für die Online-Meditationen auch künftig gelten wird: \nhttps://zoom.us/j/98374369404?pwd=aDZKNStZTFR1WjNvZTVVQTZkVmpLdz09\nMeeting-ID: 983 7436 9404\nKenncode: 846603
URL:https://kloster-academie.de/event/online-meditation-145/
LOCATION:Online per Zoom
CATEGORIES:Meditation & Achtsamkeit
ATTACH;FMTTYPE=image/png:https://kloster-academie.de/wp-content/uploads/2021/06/oeffentlicher-vortrag-1.png
ORGANIZER;CN="Academie Kloster Eberbach":MAILTO:info@kloster-academie.de
END:VEVENT
BEGIN:VEVENT
DTSTART;TZID=Europe/Berlin:20241016T183000
DTEND;TZID=Europe/Berlin:20241016T190000
DTSTAMP:20260423T140743
CREATED:20240108T182134Z
LAST-MODIFIED:20240108T182134Z
UID:4946-1729103400-1729105200@kloster-academie.de
SUMMARY:Schweige-Meditation
DESCRIPTION:„Aus dem Schweigen kommt alle Kraft.“\nBernhard von Clairvaux (1091 – 1153)\nKloster Eberbach ist auch ein Ort der Stille. Kommen Sie zur Ruhe in der abendlichen klösterlichen Abgeschiedenheit. \nMittwochs von 18.30 Uhr bis 19.00 Uhr bieten wir Ihnen nach einer kurzen Einführung eine Schweigemeditation im Geist des Klosters an. Hier öffnet sich die Tür zu einer Dimension\, die in unserem Alltag oft zu kurz kommt. \nMeditation ist nicht nur ein wirksames Mittel gegen\nStress. Sie kann Ihnen auch helfen:\n• wacher und achtsamer zu werden\,\n• klarer zu sehen\,\n• Selbsterkenntnis zu gewinnen\,\n• innere Stärke zu entfalten\n• und bewusster zu handeln\nVorerfahrungen sind nicht erforderlich\, es reicht ein offenes Herz und eine halbe Stunde Zeit in der neun Jahrhunderte alten Klosteranlage. Probieren Sie es aus! \nDer Weg zum Meditations-Raum ist vom Innenhof des Klosters aus beschildert. Eine Anfahrtsskizze finden Sie hier. \n  \nDie Teilnahme ist kostenfrei. Eine Anmeldung ist nicht erforderlich. \n 
URL:https://kloster-academie.de/event/schweige-meditation-54/
LOCATION:Kloster Eberbach\, Kloster-Eberbach-Str. 1\, Eltville am Rhein\, Hessen\, 65346
CATEGORIES:Meditation & Achtsamkeit
ATTACH;FMTTYPE=image/png:https://kloster-academie.de/wp-content/uploads/2020/06/Schweige-Meditation.png
ORGANIZER;CN="Academie Kloster Eberbach":MAILTO:info@kloster-academie.de
END:VEVENT
BEGIN:VEVENT
DTSTART;TZID=Europe/Berlin:20241017T183000
DTEND;TZID=Europe/Berlin:20241017T190000
DTSTAMP:20260423T140743
CREATED:20231227T132203Z
LAST-MODIFIED:20231227T132203Z
UID:4839-1729189800-1729191600@kloster-academie.de
SUMMARY:Online-Meditation
DESCRIPTION:Wir bieten Interessierten JEDEN Donnerstag um 18.30 Uhr die Gelegenheit zur Teilnahme an einer Online-Meditation anbieten. Sie soll in der gleichen\, schlichten Form wie die Meditationen im Kloster Eberbach stattfinden: Kurze Einführung (ca. 5 Minuten) und Meditationszeit von gut 20 Minuten\, sodass jeder nach einer halben Stunde wieder „frei“ ist. \nWir sind Michael Hüttner sehr dankbar\, dass er diese Treffen leiten wird. Er ist Gründungsmitglied der Academie und dem Thema „Meditation“ schon seit langer Zeit verbunden. Nach seiner Tätigkeit bei der Commerzbank in Frankfurt ist er schwerpunktmäßig auch mit dem Thema „Coaching“ befasst. \nWir bitten darum\, so zeitig beizutreten\, dass die Zeit der Schweigemeditation nicht gestört wird.\nDen Zugang hierzu finden Sie über den folgenden Link\, der für die Online-Meditationen auch künftig gelten wird: \nhttps://zoom.us/j/98374369404?pwd=aDZKNStZTFR1WjNvZTVVQTZkVmpLdz09\nMeeting-ID: 983 7436 9404\nKenncode: 846603
URL:https://kloster-academie.de/event/online-meditation-146/
LOCATION:Online per Zoom
CATEGORIES:Meditation & Achtsamkeit
ATTACH;FMTTYPE=image/png:https://kloster-academie.de/wp-content/uploads/2021/06/oeffentlicher-vortrag-1.png
ORGANIZER;CN="Academie Kloster Eberbach":MAILTO:info@kloster-academie.de
END:VEVENT
BEGIN:VEVENT
DTSTART;TZID=Europe/Berlin:20241017T193000
DTEND;TZID=Europe/Berlin:20241017T210000
DTSTAMP:20260423T140743
CREATED:20240107T120504Z
LAST-MODIFIED:20240107T120513Z
UID:4900-1729193400-1729198800@kloster-academie.de
SUMMARY:ACADEMIE to go: ICH BIN EINE MISSION - Überzeugend leben
DESCRIPTION:Diese Veranstaltung wird per Zoom stattfinden. Den Link finden Sie hier: \nhttps://zoom.us/j/94412478221?pwd=c2FYTitTMFRxTlRKOE5kYlhCdnIzdz09 \nMeeting-ID: 944 1247 8221\n \nEinmal im Jahr haben alle Geburtstag. Das kommt nicht von ungefähr. Wir sind auf die Welt gekommen. Nur\, kommen wir auf ihr an? Wo? Womit? Bei wem? \nKeine Anmeldung erforderlich\, Eintritt frei(willig) \n\n\nEine Veranstaltungsreihe der Academie Kloster Eberbach\n\nDauer: 90 Minuten
URL:https://kloster-academie.de/event/academie-to-go-ich-bin-eine-mission-ueberzeugend-leben/
LOCATION:Online per Zoom
CATEGORIES:ACADEMIE to go,Spiritualität & Gesellschaft
ATTACH;FMTTYPE=image/png:https://kloster-academie.de/wp-content/uploads/2020/06/Academie-to-go.png
ORGANIZER;CN="Academie Kloster Eberbach":MAILTO:info@kloster-academie.de
END:VEVENT
BEGIN:VEVENT
DTSTART;TZID=Europe/Berlin:20241023T183000
DTEND;TZID=Europe/Berlin:20241023T190000
DTSTAMP:20260423T140743
CREATED:20240108T182147Z
LAST-MODIFIED:20240108T182147Z
UID:4945-1729708200-1729710000@kloster-academie.de
SUMMARY:Schweige-Meditation
DESCRIPTION:„Aus dem Schweigen kommt alle Kraft.“\nBernhard von Clairvaux (1091 – 1153)\nKloster Eberbach ist auch ein Ort der Stille. Kommen Sie zur Ruhe in der abendlichen klösterlichen Abgeschiedenheit. \nMittwochs von 18.30 Uhr bis 19.00 Uhr bieten wir Ihnen nach einer kurzen Einführung eine Schweigemeditation im Geist des Klosters an. Hier öffnet sich die Tür zu einer Dimension\, die in unserem Alltag oft zu kurz kommt. \nMeditation ist nicht nur ein wirksames Mittel gegen\nStress. Sie kann Ihnen auch helfen:\n• wacher und achtsamer zu werden\,\n• klarer zu sehen\,\n• Selbsterkenntnis zu gewinnen\,\n• innere Stärke zu entfalten\n• und bewusster zu handeln\nVorerfahrungen sind nicht erforderlich\, es reicht ein offenes Herz und eine halbe Stunde Zeit in der neun Jahrhunderte alten Klosteranlage. Probieren Sie es aus! \nDer Weg zum Meditations-Raum ist vom Innenhof des Klosters aus beschildert. Eine Anfahrtsskizze finden Sie hier. \n  \nDie Teilnahme ist kostenfrei. Eine Anmeldung ist nicht erforderlich. \n 
URL:https://kloster-academie.de/event/schweige-meditation-55/
LOCATION:Kloster Eberbach\, Kloster-Eberbach-Str. 1\, Eltville am Rhein\, Hessen\, 65346
CATEGORIES:Meditation & Achtsamkeit
ATTACH;FMTTYPE=image/png:https://kloster-academie.de/wp-content/uploads/2020/06/Schweige-Meditation.png
ORGANIZER;CN="Academie Kloster Eberbach":MAILTO:info@kloster-academie.de
END:VEVENT
BEGIN:VEVENT
DTSTART;TZID=Europe/Berlin:20241024T183000
DTEND;TZID=Europe/Berlin:20241024T190000
DTSTAMP:20260423T140743
CREATED:20231227T132211Z
LAST-MODIFIED:20231227T132211Z
UID:4840-1729794600-1729796400@kloster-academie.de
SUMMARY:Online-Meditation
DESCRIPTION:Wir bieten Interessierten JEDEN Donnerstag um 18.30 Uhr die Gelegenheit zur Teilnahme an einer Online-Meditation anbieten. Sie soll in der gleichen\, schlichten Form wie die Meditationen im Kloster Eberbach stattfinden: Kurze Einführung (ca. 5 Minuten) und Meditationszeit von gut 20 Minuten\, sodass jeder nach einer halben Stunde wieder „frei“ ist. \nWir sind Michael Hüttner sehr dankbar\, dass er diese Treffen leiten wird. Er ist Gründungsmitglied der Academie und dem Thema „Meditation“ schon seit langer Zeit verbunden. Nach seiner Tätigkeit bei der Commerzbank in Frankfurt ist er schwerpunktmäßig auch mit dem Thema „Coaching“ befasst. \nWir bitten darum\, so zeitig beizutreten\, dass die Zeit der Schweigemeditation nicht gestört wird.\nDen Zugang hierzu finden Sie über den folgenden Link\, der für die Online-Meditationen auch künftig gelten wird: \nhttps://zoom.us/j/98374369404?pwd=aDZKNStZTFR1WjNvZTVVQTZkVmpLdz09\nMeeting-ID: 983 7436 9404\nKenncode: 846603
URL:https://kloster-academie.de/event/online-meditation-147/
LOCATION:Online per Zoom
CATEGORIES:Meditation & Achtsamkeit
ATTACH;FMTTYPE=image/png:https://kloster-academie.de/wp-content/uploads/2021/06/oeffentlicher-vortrag-1.png
ORGANIZER;CN="Academie Kloster Eberbach":MAILTO:info@kloster-academie.de
END:VEVENT
BEGIN:VEVENT
DTSTART;TZID=Europe/Berlin:20241030T183000
DTEND;TZID=Europe/Berlin:20241030T190000
DTSTAMP:20260423T140744
CREATED:20240108T182203Z
LAST-MODIFIED:20240108T182203Z
UID:4944-1730313000-1730314800@kloster-academie.de
SUMMARY:Schweige-Meditation
DESCRIPTION:„Aus dem Schweigen kommt alle Kraft.“\nBernhard von Clairvaux (1091 – 1153)\nKloster Eberbach ist auch ein Ort der Stille. Kommen Sie zur Ruhe in der abendlichen klösterlichen Abgeschiedenheit. \nMittwochs von 18.30 Uhr bis 19.00 Uhr bieten wir Ihnen nach einer kurzen Einführung eine Schweigemeditation im Geist des Klosters an. Hier öffnet sich die Tür zu einer Dimension\, die in unserem Alltag oft zu kurz kommt. \nMeditation ist nicht nur ein wirksames Mittel gegen\nStress. Sie kann Ihnen auch helfen:\n• wacher und achtsamer zu werden\,\n• klarer zu sehen\,\n• Selbsterkenntnis zu gewinnen\,\n• innere Stärke zu entfalten\n• und bewusster zu handeln\nVorerfahrungen sind nicht erforderlich\, es reicht ein offenes Herz und eine halbe Stunde Zeit in der neun Jahrhunderte alten Klosteranlage. Probieren Sie es aus! \nDer Weg zum Meditations-Raum ist vom Innenhof des Klosters aus beschildert. Eine Anfahrtsskizze finden Sie hier. \n  \nDie Teilnahme ist kostenfrei. Eine Anmeldung ist nicht erforderlich. \n 
URL:https://kloster-academie.de/event/schweige-meditation-56/
LOCATION:Kloster Eberbach\, Kloster-Eberbach-Str. 1\, Eltville am Rhein\, Hessen\, 65346
CATEGORIES:Meditation & Achtsamkeit
ATTACH;FMTTYPE=image/png:https://kloster-academie.de/wp-content/uploads/2020/06/Schweige-Meditation.png
ORGANIZER;CN="Academie Kloster Eberbach":MAILTO:info@kloster-academie.de
END:VEVENT
BEGIN:VEVENT
DTSTART;TZID=Europe/Berlin:20241031T183000
DTEND;TZID=Europe/Berlin:20241031T190000
DTSTAMP:20260423T140744
CREATED:20231227T132218Z
LAST-MODIFIED:20231227T132218Z
UID:4841-1730399400-1730401200@kloster-academie.de
SUMMARY:Online-Meditation
DESCRIPTION:Wir bieten Interessierten JEDEN Donnerstag um 18.30 Uhr die Gelegenheit zur Teilnahme an einer Online-Meditation anbieten. Sie soll in der gleichen\, schlichten Form wie die Meditationen im Kloster Eberbach stattfinden: Kurze Einführung (ca. 5 Minuten) und Meditationszeit von gut 20 Minuten\, sodass jeder nach einer halben Stunde wieder „frei“ ist. \nWir sind Michael Hüttner sehr dankbar\, dass er diese Treffen leiten wird. Er ist Gründungsmitglied der Academie und dem Thema „Meditation“ schon seit langer Zeit verbunden. Nach seiner Tätigkeit bei der Commerzbank in Frankfurt ist er schwerpunktmäßig auch mit dem Thema „Coaching“ befasst. \nWir bitten darum\, so zeitig beizutreten\, dass die Zeit der Schweigemeditation nicht gestört wird.\nDen Zugang hierzu finden Sie über den folgenden Link\, der für die Online-Meditationen auch künftig gelten wird: \nhttps://zoom.us/j/98374369404?pwd=aDZKNStZTFR1WjNvZTVVQTZkVmpLdz09\nMeeting-ID: 983 7436 9404\nKenncode: 846603
URL:https://kloster-academie.de/event/online-meditation-148/
LOCATION:Online per Zoom
CATEGORIES:Meditation & Achtsamkeit
ATTACH;FMTTYPE=image/png:https://kloster-academie.de/wp-content/uploads/2021/06/oeffentlicher-vortrag-1.png
ORGANIZER;CN="Academie Kloster Eberbach":MAILTO:info@kloster-academie.de
END:VEVENT
END:VCALENDAR