BEGIN:VCALENDAR
VERSION:2.0
PRODID:-//Academie Kloster Eberbach - ECPv6.8.1//NONSGML v1.0//EN
CALSCALE:GREGORIAN
METHOD:PUBLISH
X-ORIGINAL-URL:https://kloster-academie.de
X-WR-CALDESC:Veranstaltungen für Academie Kloster Eberbach
REFRESH-INTERVAL;VALUE=DURATION:PT1H
X-Robots-Tag:noindex
X-PUBLISHED-TTL:PT1H
BEGIN:VTIMEZONE
TZID:Europe/Berlin
BEGIN:DAYLIGHT
TZOFFSETFROM:+0100
TZOFFSETTO:+0200
TZNAME:CEST
DTSTART:20240331T010000
END:DAYLIGHT
BEGIN:STANDARD
TZOFFSETFROM:+0200
TZOFFSETTO:+0100
TZNAME:CET
DTSTART:20241027T010000
END:STANDARD
END:VTIMEZONE
BEGIN:VEVENT
DTSTART;TZID=Europe/Berlin:20240904T183000
DTEND;TZID=Europe/Berlin:20240904T190000
DTSTAMP:20260423T170900
CREATED:20240108T181711Z
LAST-MODIFIED:20240108T181711Z
UID:4938-1725474600-1725476400@kloster-academie.de
SUMMARY:Schweige-Meditation
DESCRIPTION:„Aus dem Schweigen kommt alle Kraft.“\nBernhard von Clairvaux (1091 – 1153)\nKloster Eberbach ist auch ein Ort der Stille. Kommen Sie zur Ruhe in der abendlichen klösterlichen Abgeschiedenheit. \nMittwochs von 18.30 Uhr bis 19.00 Uhr bieten wir Ihnen nach einer kurzen Einführung eine Schweigemeditation im Geist des Klosters an. Hier öffnet sich die Tür zu einer Dimension\, die in unserem Alltag oft zu kurz kommt. \nMeditation ist nicht nur ein wirksames Mittel gegen\nStress. Sie kann Ihnen auch helfen:\n• wacher und achtsamer zu werden\,\n• klarer zu sehen\,\n• Selbsterkenntnis zu gewinnen\,\n• innere Stärke zu entfalten\n• und bewusster zu handeln\nVorerfahrungen sind nicht erforderlich\, es reicht ein offenes Herz und eine halbe Stunde Zeit in der neun Jahrhunderte alten Klosteranlage. Probieren Sie es aus! \nDer Weg zum Meditations-Raum ist vom Innenhof des Klosters aus beschildert. Eine Anfahrtsskizze finden Sie hier. \n  \nDie Teilnahme ist kostenfrei. Eine Anmeldung ist nicht erforderlich. \n 
URL:https://kloster-academie.de/event/schweige-meditation-47/
LOCATION:Kloster Eberbach\, Kloster-Eberbach-Str. 1\, Eltville am Rhein\, Hessen\, 65346
CATEGORIES:Meditation & Achtsamkeit
ATTACH;FMTTYPE=image/png:https://kloster-academie.de/wp-content/uploads/2020/06/Schweige-Meditation.png
ORGANIZER;CN="Academie Kloster Eberbach":MAILTO:info@kloster-academie.de
END:VEVENT
BEGIN:VEVENT
DTSTART;TZID=Europe/Berlin:20240904T190000
DTEND;TZID=Europe/Berlin:20240904T210000
DTSTAMP:20260423T170901
CREATED:20240115T181541Z
LAST-MODIFIED:20240117T163603Z
UID:5017-1725476400-1725483600@kloster-academie.de
SUMMARY:Eberbacher Impulse: Jesus war kein Vegetarier - warum die Welt trotz allem nicht untergeht!
DESCRIPTION:Jesus war kein Vegetarier – warum die Welt trotz allem nicht untergeht! \nReferent: Pater Reinald Rickert OSB\, Abtei Königsmünster\, Meschede \n\n\n\n———–\n\nZum Inhalt des Vortrags:\n\nVersuch einer Situationsbeschreibung: Entfremdung von natürlichen Vorgängen im Allgemeinen\, vom bäuerlichen Lebensalltag im Speziellen. \nBeziehungslosigkeit\, Erfahrung von Anonymität: Haustier als Partnerersatz. Das Tier gibt keine Widerrede. Vermenschlichung der Tiere. \nSäkulare Welt: Tierschutz als Religionsersatz. „Tierrechtler“ (Das Tier als Person)\, Veganer haben Unrecht-(Schuld-)bewusstsein\, neigen aber zur Selbsterlösung. „Moralapostel“: Vorwürfe aggressiv\, militant\, „Green-peace„? \nMündigkeit: Ich mache meinen Mund auf! \nIch lasse mir den Mund nicht verbieten! \nOb ich Ahnung oder Sachverstand habe oder nicht. „Vorlaut“ gibt es nicht mehr. Der selbstgerechte Genuss an der eigenen Empörung. (Martin Schleske\, Geigenbauer) \nDiskussionen über Tierhaltung sind von vorneherein emotional überzogen\, es ist keine sachliche Auseinandersetzung möglich. \nWas ist denn eigentlich art-gerecht? \nDas Tier lebt identisch auf das Sterbenmüssen hin\, egal\, ob es an Altersschwäche stirbt\, ob es von einem anderen Tier gefressen wird\, ob es an einer tödlichen Seuche verendet\, ob es zur Ernährung von Menschen geschlachtet wird. \nKannibalismus ist kein Phänomen der sogenannten Massentierhaltung. \nSchöpfungsbericht (Gen 1-2\,4): Der Sabbat als siebter Tag ist die Krönung der Schöpfung\, nicht der Mensch. Das Beherrschen und Unterwerfen der Natur ist als Verantwortung zu verstehen. Erst wenn der der Mensch diese Verantwortung übernimmt\, ist er Ebenbild Gottes. \nRömerbrief (8\, 21 f): Auch die Schöpfung soll von der Sklaverei und Verlorenheit befreit werden zur Freiheit und Herrlichkeit der Kinder Gottes. Denn wir wissen\, dass die gesamte Schöpfung bis zum heutigen Tage seufzt und in Geburtswehen liegt. \n„Die Natur ist so wenig idyllisch wie Gott lieb ist.“ (Rainer Hagencord\, Theologe) \n\n\n\n\nZur Person unseres Referenten:\n\nPater Reinald Rickert wurde am 2. Februar 1955 in Bonn als Sohn einer Lehrerin und eines Steinmetzmeisters geboren. Kindheit und Jugend verbrachte er in Bad Godesberg. Nach dem Abitur absolvierte er eine landwirtschaftliche Lehre im Eifelkloster Maria Laach. In Bonn und Münster studierte er von 1976 bis 1981 Theologie mit dem Diplomabschluss. Seit 1981 ist er Mönch in der Abtei Königmünster in Meschede. 1984 wurde er von Erzbischof Johannes Joachim Degenhardt in der Benediktinerabtei zum Priester geweiht. 1985 bestand er die Prüfung als Tierwirtschaftsmeister\, Spezialgebiet Rinderhaltung.\nFast drei Jahrzehnte war Pater Reinald zuständig für den land- und forstwirtschaftlichen Betrieb des Klosters. Über seine Lebenserfahrungen in und mit der Natur hat er unter anderem in neun Kleinschriften geschrieben\, wovon die beiden letzten Titel „ÜberLeben“ und „Wachsen im Alleinsein“ im Buchhandel vorrätig sind.\nPater Reinald ist zurzeit als Seelsorger im Pfarrverbund Ruhrtal-Valmetal und Kirchspiel Calle im Sauerland tätig.\n\n\n\n—–\n\n\nAnmeldung und Kosten\nDie Teilnahme für Mitglieder der Academie Kloster Eberbach ist kostenlos. Von Nicht-Mitgliedern erbitten wir zur Deckung unserer Kosten einen Beitrag von 5\,- Euro vor Ort. Bitte melden Sie sich über untenstehenden Link an. \n\n—–\n\nAblauf\nDie Vorträge im Rahmen der Eberbacher Impulse beginnen um 19.00 Uhr und dauern ca. 1 Stunde. Anschließend gibt es die Möglichkeit zur Begegnung.\nVor den Vorträgen findet bei den Eberbacher Impulsen um 18.30 Uhr eine Schweige-Meditation statt\, ab 18.00 Uhr gibt es ein Vorgespräch zur Praxis der Meditation für Neueinsteiger oder generell an der Schweigemeditation Interessierte.\n\n\n—–\n\n\nAnfahrt\n\nDer Veranstaltungsraum ist in der Regel der Raum „Brauhaus“. Der Weg zum Veranstaltungsort ist vom Innenhof des Klosters aus beschildert. Die Anfahrt zum Innenhof finden Sie hier.\n\n\n—–\n\nEine Veranstaltung mit Unterstützung der Stiftung Kloster Eberbach.
URL:https://kloster-academie.de/event/eberbacher-impulse-jesus-war-kein-vegetarier-warum-die-welt-trotz-allem-nicht-untergeht/
LOCATION:Kloster Eberbach\, Kloster-Eberbach-Str. 1\, Eltville am Rhein\, Hessen\, 65346
CATEGORIES:Eberbacher Impulse,Highlights,Spiritualität & Gesellschaft
ATTACH;FMTTYPE=image/png:https://kloster-academie.de/wp-content/uploads/2020/06/Eberbacher-Impulse.png
ORGANIZER;CN="Academie Kloster Eberbach":MAILTO:info@kloster-academie.de
END:VEVENT
BEGIN:VEVENT
DTSTART;TZID=Europe/Berlin:20240905T183000
DTEND;TZID=Europe/Berlin:20240905T190000
DTSTAMP:20260423T170901
CREATED:20231227T131941Z
LAST-MODIFIED:20231227T131941Z
UID:4832-1725561000-1725562800@kloster-academie.de
SUMMARY:Online-Meditation
DESCRIPTION:Wir bieten Interessierten JEDEN Donnerstag um 18.30 Uhr die Gelegenheit zur Teilnahme an einer Online-Meditation anbieten. Sie soll in der gleichen\, schlichten Form wie die Meditationen im Kloster Eberbach stattfinden: Kurze Einführung (ca. 5 Minuten) und Meditationszeit von gut 20 Minuten\, sodass jeder nach einer halben Stunde wieder „frei“ ist. \nWir sind Michael Hüttner sehr dankbar\, dass er diese Treffen leiten wird. Er ist Gründungsmitglied der Academie und dem Thema „Meditation“ schon seit langer Zeit verbunden. Nach seiner Tätigkeit bei der Commerzbank in Frankfurt ist er schwerpunktmäßig auch mit dem Thema „Coaching“ befasst. \nWir bitten darum\, so zeitig beizutreten\, dass die Zeit der Schweigemeditation nicht gestört wird.\nDen Zugang hierzu finden Sie über den folgenden Link\, der für die Online-Meditationen auch künftig gelten wird: \nhttps://zoom.us/j/98374369404?pwd=aDZKNStZTFR1WjNvZTVVQTZkVmpLdz09\nMeeting-ID: 983 7436 9404\nKenncode: 846603
URL:https://kloster-academie.de/event/online-meditation-140/
LOCATION:Online per Zoom
CATEGORIES:Meditation & Achtsamkeit
ATTACH;FMTTYPE=image/png:https://kloster-academie.de/wp-content/uploads/2021/06/oeffentlicher-vortrag-1.png
ORGANIZER;CN="Academie Kloster Eberbach":MAILTO:info@kloster-academie.de
END:VEVENT
BEGIN:VEVENT
DTSTART;TZID=Europe/Berlin:20240911T183000
DTEND;TZID=Europe/Berlin:20240911T190000
DTSTAMP:20260423T170901
CREATED:20240108T182009Z
LAST-MODIFIED:20240108T182009Z
UID:4952-1726079400-1726081200@kloster-academie.de
SUMMARY:Schweige-Meditation
DESCRIPTION:„Aus dem Schweigen kommt alle Kraft.“\nBernhard von Clairvaux (1091 – 1153)\nKloster Eberbach ist auch ein Ort der Stille. Kommen Sie zur Ruhe in der abendlichen klösterlichen Abgeschiedenheit. \nMittwochs von 18.30 Uhr bis 19.00 Uhr bieten wir Ihnen nach einer kurzen Einführung eine Schweigemeditation im Geist des Klosters an. Hier öffnet sich die Tür zu einer Dimension\, die in unserem Alltag oft zu kurz kommt. \nMeditation ist nicht nur ein wirksames Mittel gegen\nStress. Sie kann Ihnen auch helfen:\n• wacher und achtsamer zu werden\,\n• klarer zu sehen\,\n• Selbsterkenntnis zu gewinnen\,\n• innere Stärke zu entfalten\n• und bewusster zu handeln\nVorerfahrungen sind nicht erforderlich\, es reicht ein offenes Herz und eine halbe Stunde Zeit in der neun Jahrhunderte alten Klosteranlage. Probieren Sie es aus! \nDer Weg zum Meditations-Raum ist vom Innenhof des Klosters aus beschildert. Eine Anfahrtsskizze finden Sie hier. \n  \nDie Teilnahme ist kostenfrei. Eine Anmeldung ist nicht erforderlich. \n 
URL:https://kloster-academie.de/event/schweige-meditation-48/
LOCATION:Kloster Eberbach\, Kloster-Eberbach-Str. 1\, Eltville am Rhein\, Hessen\, 65346
CATEGORIES:Meditation & Achtsamkeit
ATTACH;FMTTYPE=image/png:https://kloster-academie.de/wp-content/uploads/2020/06/Schweige-Meditation.png
ORGANIZER;CN="Academie Kloster Eberbach":MAILTO:info@kloster-academie.de
END:VEVENT
BEGIN:VEVENT
DTSTART;TZID=Europe/Berlin:20240912T183000
DTEND;TZID=Europe/Berlin:20240912T190000
DTSTAMP:20260423T170901
CREATED:20231227T132126Z
LAST-MODIFIED:20231227T132126Z
UID:4834-1726165800-1726167600@kloster-academie.de
SUMMARY:Online-Meditation
DESCRIPTION:Wir bieten Interessierten JEDEN Donnerstag um 18.30 Uhr die Gelegenheit zur Teilnahme an einer Online-Meditation anbieten. Sie soll in der gleichen\, schlichten Form wie die Meditationen im Kloster Eberbach stattfinden: Kurze Einführung (ca. 5 Minuten) und Meditationszeit von gut 20 Minuten\, sodass jeder nach einer halben Stunde wieder „frei“ ist. \nWir sind Michael Hüttner sehr dankbar\, dass er diese Treffen leiten wird. Er ist Gründungsmitglied der Academie und dem Thema „Meditation“ schon seit langer Zeit verbunden. Nach seiner Tätigkeit bei der Commerzbank in Frankfurt ist er schwerpunktmäßig auch mit dem Thema „Coaching“ befasst. \nWir bitten darum\, so zeitig beizutreten\, dass die Zeit der Schweigemeditation nicht gestört wird.\nDen Zugang hierzu finden Sie über den folgenden Link\, der für die Online-Meditationen auch künftig gelten wird: \nhttps://zoom.us/j/98374369404?pwd=aDZKNStZTFR1WjNvZTVVQTZkVmpLdz09\nMeeting-ID: 983 7436 9404\nKenncode: 846603
URL:https://kloster-academie.de/event/online-meditation-141/
LOCATION:Online per Zoom
CATEGORIES:Meditation & Achtsamkeit
ATTACH;FMTTYPE=image/png:https://kloster-academie.de/wp-content/uploads/2021/06/oeffentlicher-vortrag-1.png
ORGANIZER;CN="Academie Kloster Eberbach":MAILTO:info@kloster-academie.de
END:VEVENT
BEGIN:VEVENT
DTSTART;TZID=Europe/Berlin:20240918T090000
DTEND;TZID=Europe/Berlin:20240920T150000
DTSTAMP:20260423T170901
CREATED:20240128T162349Z
LAST-MODIFIED:20240806T073505Z
UID:5065-1726650000-1726844400@kloster-academie.de
SUMMARY:2-Tages-Seminar für Führungskräfte: Mit Werten wirksam führen
DESCRIPTION:Zweitages-Seminar im Forum Vinzenz Pallotti\, 56179 Vallendar (bei Koblenz). \nDas 21. Jahrhundert stellt Führungskräfte in vielerlei Hinsicht vor komplexe Herausforderungen. Der Ruf nach werteorientierter Führung wird immer lauter und dringlicher. Dabei werden die Ansprüche an ein vitales und erfülltes Leben immer größer. \nIn den letzten Jahren wurde viel debattiert über das Krisenmanagement einzelner Unternehmen. Doch die Folgen der aktuellen Krisen weltweit stellen uns vor bisher ungekannte Herausforderungen. Gerade wir Führungskräfte müssen uns vollkommen neuen Fragestellungen widmen. Sind wir uns unserer Vorbildfunktion bewusst und bereit\, effektive Veränderungen zu initiieren? Eines scheint glasklar: Allein auf technisch-bürokratische Lösungen des Notfallmanagements setzen\, wird die Mitarbeiter und das Unternehmen langfristig nicht resilient machen. \nLassen Sie uns ins konstruktive Gespräch kommen! \nFührung mit Werten gestalten \nDas Seminar der Academie Kloster Eberbach findet bereits zum 3. Mal statt und bietet eine praktische Auseinandersetzung mit grundlegenden Werten und Überzeugungen. Es richtet sich an Führungskräfte in Wirtschaft\, Politik\, Medien oder Verwaltung\, die konkrete Impulse für ihre Führungsaufgaben speziell aus der abendländisch christlichen Tradition suchen. \nDie von den Referenten vorgestellten Angebote und Impulse werden gemeinsam mit den Teilnehmern reflektiert und diskutiert. Darüber hinaus werden Elemente der Besinnung sowie eine Einführung in die Meditationspraxis angeboten\, die zu intuitiv guten Entscheidungen gerade auch in der Führung beitragen. Auf Wunsch bleiben die Teilnehmer in einem Kommunikations-Netzwerk verbunden. \nFlyer mit Programm zum Download: Seminar für Führungskräfte_Vallendar 2024 \nDie Teilnahmegebühr (inkl. Verpflegung/Übernachtung im Forum Vinzenz Pallotti in 56179 Vallendar) beträgt für Mitglieder der Academie Kloster Eberbach 543\,- €\, für Nicht-Mitglieder 643\,- €. Bei Anmeldung bis zum 12. Juli erhalten Sie einen Rabatt von 20%. \nWir bitten um verbindliche Anmeldung bis zum 1. September 2024 – bitte verwenden Sie dazu untenstehenden Anmeldebutton. \n  \n  \n \n \nTrailer zum Führungskräfteseminar: \n\n  \n  \n 
URL:https://kloster-academie.de/event/fuehrungskraefte-seminar-mit-werten-wirksam-fuehren/
LOCATION:Forum Vinzenz Pallotti\, Vallendar\, Pallottistr. 3\, Vallendar\, Rheinland-Pfalz\, 56179\, Germany
CATEGORIES:Führung & Werte,Highlights
ATTACH;FMTTYPE=image/png:https://kloster-academie.de/wp-content/uploads/2022/02/2.png
ORGANIZER;CN="Academie Kloster Eberbach":MAILTO:info@kloster-academie.de
END:VEVENT
BEGIN:VEVENT
DTSTART;TZID=Europe/Berlin:20240918T183000
DTEND;TZID=Europe/Berlin:20240918T190000
DTSTAMP:20260423T170901
CREATED:20240108T182022Z
LAST-MODIFIED:20240108T182022Z
UID:4951-1726684200-1726686000@kloster-academie.de
SUMMARY:Schweige-Meditation
DESCRIPTION:„Aus dem Schweigen kommt alle Kraft.“\nBernhard von Clairvaux (1091 – 1153)\nKloster Eberbach ist auch ein Ort der Stille. Kommen Sie zur Ruhe in der abendlichen klösterlichen Abgeschiedenheit. \nMittwochs von 18.30 Uhr bis 19.00 Uhr bieten wir Ihnen nach einer kurzen Einführung eine Schweigemeditation im Geist des Klosters an. Hier öffnet sich die Tür zu einer Dimension\, die in unserem Alltag oft zu kurz kommt. \nMeditation ist nicht nur ein wirksames Mittel gegen\nStress. Sie kann Ihnen auch helfen:\n• wacher und achtsamer zu werden\,\n• klarer zu sehen\,\n• Selbsterkenntnis zu gewinnen\,\n• innere Stärke zu entfalten\n• und bewusster zu handeln\nVorerfahrungen sind nicht erforderlich\, es reicht ein offenes Herz und eine halbe Stunde Zeit in der neun Jahrhunderte alten Klosteranlage. Probieren Sie es aus! \nDer Weg zum Meditations-Raum ist vom Innenhof des Klosters aus beschildert. Eine Anfahrtsskizze finden Sie hier. \n  \nDie Teilnahme ist kostenfrei. Eine Anmeldung ist nicht erforderlich. \n 
URL:https://kloster-academie.de/event/schweige-meditation-49/
LOCATION:Kloster Eberbach\, Kloster-Eberbach-Str. 1\, Eltville am Rhein\, Hessen\, 65346
CATEGORIES:Meditation & Achtsamkeit
ATTACH;FMTTYPE=image/png:https://kloster-academie.de/wp-content/uploads/2020/06/Schweige-Meditation.png
ORGANIZER;CN="Academie Kloster Eberbach":MAILTO:info@kloster-academie.de
END:VEVENT
BEGIN:VEVENT
DTSTART;TZID=Europe/Berlin:20240919T183000
DTEND;TZID=Europe/Berlin:20240919T190000
DTSTAMP:20260423T170901
CREATED:20231227T132134Z
LAST-MODIFIED:20231227T132134Z
UID:4836-1726770600-1726772400@kloster-academie.de
SUMMARY:Online-Meditation
DESCRIPTION:Wir bieten Interessierten JEDEN Donnerstag um 18.30 Uhr die Gelegenheit zur Teilnahme an einer Online-Meditation anbieten. Sie soll in der gleichen\, schlichten Form wie die Meditationen im Kloster Eberbach stattfinden: Kurze Einführung (ca. 5 Minuten) und Meditationszeit von gut 20 Minuten\, sodass jeder nach einer halben Stunde wieder „frei“ ist. \nWir sind Michael Hüttner sehr dankbar\, dass er diese Treffen leiten wird. Er ist Gründungsmitglied der Academie und dem Thema „Meditation“ schon seit langer Zeit verbunden. Nach seiner Tätigkeit bei der Commerzbank in Frankfurt ist er schwerpunktmäßig auch mit dem Thema „Coaching“ befasst. \nWir bitten darum\, so zeitig beizutreten\, dass die Zeit der Schweigemeditation nicht gestört wird.\nDen Zugang hierzu finden Sie über den folgenden Link\, der für die Online-Meditationen auch künftig gelten wird: \nhttps://zoom.us/j/98374369404?pwd=aDZKNStZTFR1WjNvZTVVQTZkVmpLdz09\nMeeting-ID: 983 7436 9404\nKenncode: 846603
URL:https://kloster-academie.de/event/online-meditation-142/
LOCATION:Online per Zoom
CATEGORIES:Meditation & Achtsamkeit
ATTACH;FMTTYPE=image/png:https://kloster-academie.de/wp-content/uploads/2021/06/oeffentlicher-vortrag-1.png
ORGANIZER;CN="Academie Kloster Eberbach":MAILTO:info@kloster-academie.de
END:VEVENT
BEGIN:VEVENT
DTSTART;TZID=Europe/Berlin:20240919T193000
DTEND;TZID=Europe/Berlin:20240919T210000
DTSTAMP:20260423T170901
CREATED:20240107T120406Z
LAST-MODIFIED:20240107T120406Z
UID:4898-1726774200-1726779600@kloster-academie.de
SUMMARY:ACADEMIE to go: EINE KLEINE HERBSTMUSIK 2024 - Was ist derzeit zu hören?
DESCRIPTION:Diese Veranstaltung wird per Zoom stattfinden. Den Link finden Sie hier: \nhttps://zoom.us/j/94412478221?pwd=c2FYTitTMFRxTlRKOE5kYlhCdnIzdz09 \nMeeting-ID: 944 1247 8221\n \nWas Sie gerade im Ohr haben\, selbstgespielt\, selbstkomponiert oder von einem tönenden Träger – wir lauschen gerne allem\, was sich mit Worten allein nicht ausdrücken lässt. \nKeine Anmeldung erforderlich\, Eintritt frei(willig) \n\n\nEine Veranstaltungsreihe der Academie Kloster Eberbach\n\nDauer: 90 Minuten
URL:https://kloster-academie.de/event/academie-to-go-eine-kleine-herbstmusik-2024-was-ist-derzeit-zu-hoeren/
LOCATION:Online per Zoom
CATEGORIES:ACADEMIE to go,Spiritualität & Gesellschaft
ATTACH;FMTTYPE=image/png:https://kloster-academie.de/wp-content/uploads/2020/06/Academie-to-go.png
ORGANIZER;CN="Academie Kloster Eberbach":MAILTO:info@kloster-academie.de
END:VEVENT
BEGIN:VEVENT
DTSTART;TZID=Europe/Berlin:20240923T170000
DTEND;TZID=Europe/Berlin:20240923T180000
DTSTAMP:20260423T170901
CREATED:20240128T163156Z
LAST-MODIFIED:20240128T163220Z
UID:5089-1727110800-1727114400@kloster-academie.de
SUMMARY:Exklusiv für Mitglieder & Freunde: „Academie IM AUSTAUSCH“ Online-Veranstaltung
DESCRIPTION:„Kooperation mit Israel unbemannte Luftfahrzeuge und Autonomie im militärischen Kontext“\nIm Rahmen der Reihe ‚Academie IM AUSTAUSCH‘ wird uns Major Marc Breitenbücher\, Staffelkapitän bei der Luftwaffe\, nach einem kurzen Impulsvortrag zum oben genannten Thema Rede und Antwort stehen. \n————- \nDie Academie IM AUSTAUSCH wird einmal pro Quartal exklusiv für unsere Mitglieder & Freunde als Online–Veranstaltung über Zoom angeboten.  \nAlle sind herzlich eingeladen\, sich in diesem Rahmen über aktuelle Werte–Debatten zu informieren und auszutauschen. Jedes Mitglied kann gern einen weiteren Interessenten zu dieser Veranstaltung anmelden. \nDer Einwahl–Link wird den Mitgliedern separat zugeschickt. \nSie sind noch kein Mitglied und möchten an der Veranstaltung teilnehmen? Finden Sie alle Informationen über eine Mitgliedschaft\, dessen Vorteile und das Anmeldeformular hier. \nEine Veranstaltungsreihe der Academie Kloster Eberbach\n\nDauer: 60 Minuten
URL:https://kloster-academie.de/event/exklusiv-fuer-mitglieder-freunde-academie-im-austausch-online-veranstaltung/
LOCATION:Online per Zoom
CATEGORIES:Exklusiv für Mitglieder,Highlights,Spiritualität & Gesellschaft
ATTACH;FMTTYPE=image/png:https://kloster-academie.de/wp-content/uploads/2022/01/Academie-im-Austauschv3.png
ORGANIZER;CN="Academie Kloster Eberbach":MAILTO:info@kloster-academie.de
END:VEVENT
BEGIN:VEVENT
DTSTART;TZID=Europe/Berlin:20240925T183000
DTEND;TZID=Europe/Berlin:20240925T190000
DTSTAMP:20260423T170901
CREATED:20240108T182052Z
LAST-MODIFIED:20240108T182052Z
UID:4949-1727289000-1727290800@kloster-academie.de
SUMMARY:Schweige-Meditation
DESCRIPTION:„Aus dem Schweigen kommt alle Kraft.“\nBernhard von Clairvaux (1091 – 1153)\nKloster Eberbach ist auch ein Ort der Stille. Kommen Sie zur Ruhe in der abendlichen klösterlichen Abgeschiedenheit. \nMittwochs von 18.30 Uhr bis 19.00 Uhr bieten wir Ihnen nach einer kurzen Einführung eine Schweigemeditation im Geist des Klosters an. Hier öffnet sich die Tür zu einer Dimension\, die in unserem Alltag oft zu kurz kommt. \nMeditation ist nicht nur ein wirksames Mittel gegen\nStress. Sie kann Ihnen auch helfen:\n• wacher und achtsamer zu werden\,\n• klarer zu sehen\,\n• Selbsterkenntnis zu gewinnen\,\n• innere Stärke zu entfalten\n• und bewusster zu handeln\nVorerfahrungen sind nicht erforderlich\, es reicht ein offenes Herz und eine halbe Stunde Zeit in der neun Jahrhunderte alten Klosteranlage. Probieren Sie es aus! \nDer Weg zum Meditations-Raum ist vom Innenhof des Klosters aus beschildert. Eine Anfahrtsskizze finden Sie hier. \n  \nDie Teilnahme ist kostenfrei. Eine Anmeldung ist nicht erforderlich. \n 
URL:https://kloster-academie.de/event/schweige-meditation-51/
LOCATION:Kloster Eberbach\, Kloster-Eberbach-Str. 1\, Eltville am Rhein\, Hessen\, 65346
CATEGORIES:Meditation & Achtsamkeit
ATTACH;FMTTYPE=image/png:https://kloster-academie.de/wp-content/uploads/2020/06/Schweige-Meditation.png
ORGANIZER;CN="Academie Kloster Eberbach":MAILTO:info@kloster-academie.de
END:VEVENT
BEGIN:VEVENT
DTSTART;TZID=Europe/Berlin:20240926T183000
DTEND;TZID=Europe/Berlin:20240926T190000
DTSTAMP:20260423T170901
CREATED:20231227T132141Z
LAST-MODIFIED:20231227T132141Z
UID:4835-1727375400-1727377200@kloster-academie.de
SUMMARY:Online-Meditation
DESCRIPTION:Wir bieten Interessierten JEDEN Donnerstag um 18.30 Uhr die Gelegenheit zur Teilnahme an einer Online-Meditation anbieten. Sie soll in der gleichen\, schlichten Form wie die Meditationen im Kloster Eberbach stattfinden: Kurze Einführung (ca. 5 Minuten) und Meditationszeit von gut 20 Minuten\, sodass jeder nach einer halben Stunde wieder „frei“ ist. \nWir sind Michael Hüttner sehr dankbar\, dass er diese Treffen leiten wird. Er ist Gründungsmitglied der Academie und dem Thema „Meditation“ schon seit langer Zeit verbunden. Nach seiner Tätigkeit bei der Commerzbank in Frankfurt ist er schwerpunktmäßig auch mit dem Thema „Coaching“ befasst. \nWir bitten darum\, so zeitig beizutreten\, dass die Zeit der Schweigemeditation nicht gestört wird.\nDen Zugang hierzu finden Sie über den folgenden Link\, der für die Online-Meditationen auch künftig gelten wird: \nhttps://zoom.us/j/98374369404?pwd=aDZKNStZTFR1WjNvZTVVQTZkVmpLdz09\nMeeting-ID: 983 7436 9404\nKenncode: 846603
URL:https://kloster-academie.de/event/online-meditation-143/
LOCATION:Online per Zoom
CATEGORIES:Meditation & Achtsamkeit
ATTACH;FMTTYPE=image/png:https://kloster-academie.de/wp-content/uploads/2021/06/oeffentlicher-vortrag-1.png
ORGANIZER;CN="Academie Kloster Eberbach":MAILTO:info@kloster-academie.de
END:VEVENT
END:VCALENDAR