BEGIN:VCALENDAR
VERSION:2.0
PRODID:-//Academie Kloster Eberbach - ECPv6.8.1//NONSGML v1.0//EN
CALSCALE:GREGORIAN
METHOD:PUBLISH
X-WR-CALNAME:Academie Kloster Eberbach
X-ORIGINAL-URL:https://kloster-academie.de
X-WR-CALDESC:Veranstaltungen für Academie Kloster Eberbach
REFRESH-INTERVAL;VALUE=DURATION:PT1H
X-Robots-Tag:noindex
X-PUBLISHED-TTL:PT1H
BEGIN:VTIMEZONE
TZID:Europe/Berlin
BEGIN:DAYLIGHT
TZOFFSETFROM:+0100
TZOFFSETTO:+0200
TZNAME:CEST
DTSTART:20260329T010000
END:DAYLIGHT
BEGIN:STANDARD
TZOFFSETFROM:+0200
TZOFFSETTO:+0100
TZNAME:CET
DTSTART:20261025T010000
END:STANDARD
END:VTIMEZONE
BEGIN:VEVENT
DTSTART;TZID=Europe/Berlin:20260421T170000
DTEND;TZID=Europe/Berlin:20260421T173000
DTSTAMP:20260420T122639
CREATED:20251221T180006Z
LAST-MODIFIED:20251221T180006Z
UID:6970-1776790800-1776792600@kloster-academie.de
SUMMARY:Schweige-Meditation Wiesbaden
DESCRIPTION:Meditation im Herzen von Wiesbaden – jeden Dienstag um 17:00 Uhr \nFinden Sie einen Moment der inneren Fokussierung\, Klarheit und Stille – mitten in der Wiesbadener Innenstadt\, im Therapie Kompetenzzentrum Weiten (Marktplatz 13). \nWas Sie erwartet \n\nAnkommen & kurze Einführung (ca. 5 Min.)\nSitzen in Stille – basierend auf der Tradition der Wüstenväter\, verwurzelt in der abendländisch-christlichen Mystik (ca. 20 Min.)\nAusklang & Verabschiedung (ca. 5 Min.)\n\nDiese Struktur bleibt Woche für Woche gleich – so entsteht ein vertrautes Ritual in Ihrem Kalender. \nFür wen ist dieses Format gedacht? \nFür alle Interessierten\, die einen stabilen Ruhepunkt suchen und sich auf die heilsame Kraft der Stille einlassen möchten. \nRahmen & Teilnahme \n\nJeden Dienstag um 17:00 Uhr; Einlass ab 16.45 Uhr \nOrt: Therapie Kompetenzzentrum Weiten\, Marktplatz 13\, 4. Stock\nDauer: 30 Min.\nAnmeldung nicht erforderlich\nBitte erscheinen Sie pünktlich\, damit die Schweigephase ungestört beginnen kann.\n\nIhre Leitung \nMarcus Lübbering: Meditationserfahrung seit Beginn der 80er Jahre\, zahlreiche Vorträge\, Workshops und Seminare zum Thema „Meditation“\, vor allem in der Tradition der christlichen Wüstenväter nach John Main (Weltgemeinschaft für Christliche Meditation)\, Verfasser des jeweils am Sonntag erscheinenden Meditations-Wochentextes. erscheinenden Meditations-Wochentextes. \nDr. Walter Pietsch: Auch ich habe Meditationserfahrungen seit Beginn der 80er Jahre in der Academie Kloster Eberbach. Unter Einbeziehung der Meditations-Impulse von Marcus Lübbering liegt mein Schwergewicht  auf der inneren Konzentration und dem Versuch der Selbstfindung in der Meditation.Das Kompetenzzentrum Weiten bietet dafür einen sehr guten freundlichen Rahmen \nKatharina Weiten: Erfahrungen im Bereich verschiedener Entspannungstechniken. Seit Anfang 2000 ausgebildet im Bereich progressive Muskulären Relaxation nach Jacobsen.Workshop im AKE 20 25 Christliche Meditation der Wüstenväter noch John Main.Leiterin einer wöchentlichen christlichen Meditationsgruppe der AKE\, nach John Main im TK Weiten. \nWir freuen uns auf Ihre Teilnahme. \nKommen Sie mit uns auf eine Reise in innere Weite und Präsenz.
URL:https://kloster-academie.de/event/schweige-meditation-wiesbaden-30-21-04-2026/
LOCATION:Therapie Kompetenzzentrum Weiten\, Marktplatz 13\, Wiesbaden\, Hessen\, 65183\, Germany
CATEGORIES:Meditation & Achtsamkeit
ATTACH;FMTTYPE=image/jpeg:https://kloster-academie.de/wp-content/uploads/2025/05/SCHWEIGE-MEDITATION-WIESBADEN-1.jpg
ORGANIZER;CN="Academie Kloster Eberbach":MAILTO:info@kloster-academie.de
END:VEVENT
BEGIN:VEVENT
DTSTART;TZID=Europe/Berlin:20260422T183000
DTEND;TZID=Europe/Berlin:20260422T190000
DTSTAMP:20260420T122639
CREATED:20251223T180005Z
LAST-MODIFIED:20251223T180005Z
UID:6997-1776882600-1776884400@kloster-academie.de
SUMMARY:Schweige-Meditation
DESCRIPTION:Meditation – jeden Mittwoch um 18:30 Uhr \nEin Raum der Stille\, Klarheit und inneren Ausrichtung – im historischen Ambiente des Klosters Eberbach. Die Schweige-Meditation lädt dazu ein\, bewusst in eine kontemplative Tiefe einzutauchen. \nWas Sie erwartet \n\nAnkommen & kurze Einführung (ca. 5 Min.)\nSitzen in Stille – basierend auf der Tradition der Wüstenväter\, verwurzelt in der abendländisch-christlichen Mystik (ca. 20 Min.)\nAusklang & Verabschiedung (ca. 5 Min.)\n\nDiese Struktur bleibt Woche für Woche gleich – so entsteht ein vertrautes Ritual in Ihrem Kalender. \nFür wen ist dieses Format gedacht? \nFür alle Interessierten\, die einen stabilen Ruhepunkt suchen und sich auf die heilsame Kraft der Stille einlassen möchten. \nRahmen & Teilnahme \n\nJeden Mittwoch um 18:30 Uhr\nOrt: Kloster Eberbach\, Raum i. d. R. Hospitalstube oder gemäß Ausschilderung\nDauer: 30 Min.\nAnmeldung: Nicht notwendig\nHinweis: Bitte pünktlich erscheinen – die Schweigephase beginnt ohne weitere Unterbrechung.\n\nIhre Leitung \nIm Wechsel: Rebecca Thurmann-Britz\, Gerda Russler & Marcus M. Lübbering \nRebecca-Thurmann Britz: langjährige Erfahrung in Einzel- und Gruppenmeditation \,regelmäßige  Seminarteilnehmerin im Rahmen der Academie und der WCCM\, auch online international \,regelmäßiger Austausch mit anderen Gruppenleitenden zu Meditation mit Erwachsenen und mit Kindern \nGerda Russler: Senior-Lehrerin u.a. mit der Fachrichtung Religion. 2011 Ausbildung zur Begleiterin für „Exerzitien im Alltag“ (diese Ausbildung umfasste u.a.  die Praxis verschiedener christlicher Meditationsformen). Seitdem: Meditationsangebote in verschiedenen Kirchengemeinden sowie Begleitung von Schweigemeditationen im damaligen Exerzitien- und Bildungshaus Kloster Tiefenthal Eltville. Meditationsbegleitung in der Tradition der christlichen Wüstenväter (WCCM)  in der Academie Kloster Eberbach seit ca 4 Jahren. \nMarcus M. Lübbering: Meditationserfahrung seit Beginn der 80er Jahre\, zahlreiche Vorträge\, Workshops und Seminare zum Thema „Meditation“\, vor allem in der Tradition der christlichen Wüstenväter nach John Main (Weltgemeinschaft für Christliche Meditation)\, Verfasser des jeweils am Sonntag erscheinenden Meditations-Wochentextes. \nWir freuen uns auf Ihre Teilnahme. \nDie Zeit der gemeinsamen Stille kann ein erfrischender Neubeginn sein. Wir empfehlen eine Meditationspraxis auch allein während der übrigen Wochentage. \nWeiterführender Hinweis zur Meditation:  \nEine Einführung in die Meditation im abendländisch-christlichen Kontext findet an jedem zweiten Samstag im Quartal in einem Kurz-Seminar von 9.30 Uhr bis 13.00 Uhr im Kloster Eberbach statt\, ebenso gibt es eine Kurz-Einführung dazu vor jedem „Eberbacher Impuls“ i. d. R. an jedem ersten Mittwoch im Monat um 18.00 Uhr. Weitere Hinweise zur Meditation und zu entsprechenden Veranstaltungen erhalten Sie\, wenn Sie sich in den Interessentenverteiler eintragen: \nEine Anfahrtsskizze finden Sie hier.
URL:https://kloster-academie.de/event/schweige-meditation-102-22-04-2026/
LOCATION:Kloster Eberbach\, Kloster-Eberbach-Str. 1\, Eltville am Rhein\, Hessen\, 65346
CATEGORIES:Meditation & Achtsamkeit
ATTACH;FMTTYPE=image/png:https://kloster-academie.de/wp-content/uploads/2020/06/Schweige-Meditation.png
ORGANIZER;CN="Academie Kloster Eberbach":MAILTO:info@kloster-academie.de
END:VEVENT
BEGIN:VEVENT
DTSTART;TZID=Europe/Berlin:20260423T183000
DTEND;TZID=Europe/Berlin:20260423T190000
DTSTAMP:20260420T122639
CREATED:20251224T180005Z
LAST-MODIFIED:20260216T183911Z
UID:7000-1776969000-1776970800@kloster-academie.de
SUMMARY:Online-Meditation
DESCRIPTION:Online-Meditation – jeden Donnerstag    18:30–19:00 Uhr\nTauchen Sie ein in einen Moment der Ruhe\, Präsenz und inneren Klarheit – direkt von Ihrem Arbeitsplatz oder Ihrem Zuhause aus. \nWas Sie erwartet\n•  Ankommen\, kurze Einführung\, Impuls (10 Min.)\n•  Sitzen in Stille (20 Min.) \nDiese Struktur bleibt Woche für Woche gleich – so entsteht ein vertrautes Ritual in Ihrem Kalender. \nFür wen ist dieses Format gedacht?\nFür alle\, die in ihrem beruflichen oder privaten Alltag einen verlässlichen Ruhepunkt einfügen möchten. \nRahmen & Teilnahme\n• Jeden Donnerstag um 18:30 Uhr\n• Ort: Online via Zoom (Link & Meeting-ID unten)\n• Dauer: 30 Min\n• Keine Anmeldung erforderlich – Eintritt frei\n• Bitte treten Sie möglichst pünktlich bei\, damit die Schweigephase ungestört beginnen kann. \nIhre Leitung\nMichael Hüttner\, Gründungsmitglied der Academie\, ausgebildet und langjährig erfahren im Bereich der Meditation – nach seiner Tätigkeit in der Finanzwelt begleitet er Menschen in ihrer persönlichen und beruflichen Ausrichtung in Klarheit und Achtsamkeit. \nZugang\nhttps://zoom.us/j/98374369404?pwd=aDZKNStZTFR1WjNvZTVVQTZkVmpLdz09\nMeeting-ID: 983 7436 9404\nKenncode: 846603 \nWir freuen uns auf Ihre Teilnahme.
URL:https://kloster-academie.de/event/online-meditation-89-23-04-2026/
LOCATION:Online per Zoom
CATEGORIES:Meditation & Achtsamkeit
ATTACH;FMTTYPE=image/png:https://kloster-academie.de/wp-content/uploads/2021/06/oeffentlicher-vortrag-1.png
ORGANIZER;CN="Academie Kloster Eberbach":MAILTO:info@kloster-academie.de
END:VEVENT
BEGIN:VEVENT
DTSTART;TZID=Europe/Berlin:20260424T180000
DTEND;TZID=Europe/Berlin:20260424T193000
DTSTAMP:20260420T122639
CREATED:20251217T093531Z
LAST-MODIFIED:20251217T093746Z
UID:6962-1777053600-1777059000@kloster-academie.de
SUMMARY:Mitgliederversammlung
DESCRIPTION:Die diesjährige Mitgliederversammlung findet am 24. April um 18:00 Uhr im Kloster Eberbach (Brauhaus) statt. Unsere Mitglieder erhalten hierzu eine gesonderte Einladung. \nIm Anschluss folgt ein öffentlicher Vortrag\, dessen Thema aktuell festgelegt wird und zeitnah veröffentlicht wird.
URL:https://kloster-academie.de/event/mitgliederversammlung/
LOCATION:Kloster Eberbach\, Kloster-Eberbach-Str. 1\, Eltville am Rhein\, Hessen\, 65346
CATEGORIES:Exklusiv für Mitglieder,Highlights
ATTACH;FMTTYPE=image/jpeg:https://kloster-academie.de/wp-content/uploads/2024/01/oeffentlicher-vortrag.jpg
ORGANIZER;CN="Academie Kloster Eberbach":MAILTO:info@kloster-academie.de
END:VEVENT
BEGIN:VEVENT
DTSTART;TZID=Europe/Berlin:20260424T193000
DTEND;TZID=Europe/Berlin:20260424T210000
DTSTAMP:20260420T122639
CREATED:20260223T145213Z
LAST-MODIFIED:20260223T205502Z
UID:7237-1777059000-1777064400@kloster-academie.de
SUMMARY:Zu den Werten einer offenen Gesellschaft - Ohne Grundlagen geht es nicht!
DESCRIPTION:Zu den Werten einer offenen Gesellschaft – Ohne Grundlagen geht es nicht! \nReferent: Herr Staatsminister Christian Heinz (Hessischer Minister der Justiz) \n\n\n———–\n\n\nZum Inhalt des Vortrags:\n\nAuf der großen Weltbühne können wir gerade im Zeitraffer beobachten\, wie regelbasierte Ordnungen faktischer Machtausübung weichen. Was wir über Jahrzehnte hinweg als sicher und unveränderbar geglaubt haben\, verschwindet teilweise über Nacht. Das gilt aber auch für die kleinere Bühne unseres Landes. Die Sicherheit\, wonach immer alles einen guten weiteren Weg nehmen wird\, ist nicht mehr da. Die Zukunft wird zunehmend unvorhersehbarer für uns. Aber auch im ganz persönlichen Bereich driften wir immer weiter auseinander und stehen uns teils unversöhnlich gegenüber. Deshalb müssen wir uns die Frage stellen\, was die Welt\, unser Land und unsere Gesellschaft im 21. Jahrhundert noch zusammenhält und auf welcher Grundlage wir eine positive Zukunftserzählung entwickeln können. \n\n\n\nDer Vortrag findet im Anschluss an die Mitgliederversammlung statt.
URL:https://kloster-academie.de/event/zu-den-werten-einer-offenen-gesellschaft-ohne-grundlagen-geht-es-nicht/
LOCATION:Kloster Eberbach\, Kloster-Eberbach-Str. 1\, Eltville am Rhein\, Hessen\, 65346
CATEGORIES:Highlights,Spiritualität & Gesellschaft
ATTACH;FMTTYPE=image/jpeg:https://kloster-academie.de/wp-content/uploads/2024/01/oeffentlicher-vortrag-1.jpg
ORGANIZER;CN="Academie Kloster Eberbach":MAILTO:info@kloster-academie.de
END:VEVENT
BEGIN:VEVENT
DTSTART;TZID=Europe/Berlin:20260428T170000
DTEND;TZID=Europe/Berlin:20260428T173000
DTSTAMP:20260420T122639
CREATED:20251228T180005Z
LAST-MODIFIED:20251228T180005Z
UID:7008-1777395600-1777397400@kloster-academie.de
SUMMARY:Schweige-Meditation Wiesbaden
DESCRIPTION:Meditation im Herzen von Wiesbaden – jeden Dienstag um 17:00 Uhr \nFinden Sie einen Moment der inneren Fokussierung\, Klarheit und Stille – mitten in der Wiesbadener Innenstadt\, im Therapie Kompetenzzentrum Weiten (Marktplatz 13). \nWas Sie erwartet \n\nAnkommen & kurze Einführung (ca. 5 Min.)\nSitzen in Stille – basierend auf der Tradition der Wüstenväter\, verwurzelt in der abendländisch-christlichen Mystik (ca. 20 Min.)\nAusklang & Verabschiedung (ca. 5 Min.)\n\nDiese Struktur bleibt Woche für Woche gleich – so entsteht ein vertrautes Ritual in Ihrem Kalender. \nFür wen ist dieses Format gedacht? \nFür alle Interessierten\, die einen stabilen Ruhepunkt suchen und sich auf die heilsame Kraft der Stille einlassen möchten. \nRahmen & Teilnahme \n\nJeden Dienstag um 17:00 Uhr; Einlass ab 16.45 Uhr \nOrt: Therapie Kompetenzzentrum Weiten\, Marktplatz 13\, 4. Stock\nDauer: 30 Min.\nAnmeldung nicht erforderlich\nBitte erscheinen Sie pünktlich\, damit die Schweigephase ungestört beginnen kann.\n\nIhre Leitung \nMarcus Lübbering: Meditationserfahrung seit Beginn der 80er Jahre\, zahlreiche Vorträge\, Workshops und Seminare zum Thema „Meditation“\, vor allem in der Tradition der christlichen Wüstenväter nach John Main (Weltgemeinschaft für Christliche Meditation)\, Verfasser des jeweils am Sonntag erscheinenden Meditations-Wochentextes. erscheinenden Meditations-Wochentextes. \nDr. Walter Pietsch: Auch ich habe Meditationserfahrungen seit Beginn der 80er Jahre in der Academie Kloster Eberbach. Unter Einbeziehung der Meditations-Impulse von Marcus Lübbering liegt mein Schwergewicht  auf der inneren Konzentration und dem Versuch der Selbstfindung in der Meditation.Das Kompetenzzentrum Weiten bietet dafür einen sehr guten freundlichen Rahmen \nKatharina Weiten: Erfahrungen im Bereich verschiedener Entspannungstechniken. Seit Anfang 2000 ausgebildet im Bereich progressive Muskulären Relaxation nach Jacobsen.Workshop im AKE 20 25 Christliche Meditation der Wüstenväter noch John Main.Leiterin einer wöchentlichen christlichen Meditationsgruppe der AKE\, nach John Main im TK Weiten. \nWir freuen uns auf Ihre Teilnahme. \nKommen Sie mit uns auf eine Reise in innere Weite und Präsenz.
URL:https://kloster-academie.de/event/schweige-meditation-wiesbaden-30-28-04-2026/
LOCATION:Therapie Kompetenzzentrum Weiten\, Marktplatz 13\, Wiesbaden\, Hessen\, 65183\, Germany
CATEGORIES:Meditation & Achtsamkeit
ATTACH;FMTTYPE=image/jpeg:https://kloster-academie.de/wp-content/uploads/2025/05/SCHWEIGE-MEDITATION-WIESBADEN-1.jpg
ORGANIZER;CN="Academie Kloster Eberbach":MAILTO:info@kloster-academie.de
END:VEVENT
BEGIN:VEVENT
DTSTART;TZID=Europe/Berlin:20260429T183000
DTEND;TZID=Europe/Berlin:20260429T190000
DTSTAMP:20260420T122639
CREATED:20251230T180005Z
LAST-MODIFIED:20251230T180005Z
UID:7011-1777487400-1777489200@kloster-academie.de
SUMMARY:Schweige-Meditation
DESCRIPTION:Meditation – jeden Mittwoch um 18:30 Uhr \nEin Raum der Stille\, Klarheit und inneren Ausrichtung – im historischen Ambiente des Klosters Eberbach. Die Schweige-Meditation lädt dazu ein\, bewusst in eine kontemplative Tiefe einzutauchen. \nWas Sie erwartet \n\nAnkommen & kurze Einführung (ca. 5 Min.)\nSitzen in Stille – basierend auf der Tradition der Wüstenväter\, verwurzelt in der abendländisch-christlichen Mystik (ca. 20 Min.)\nAusklang & Verabschiedung (ca. 5 Min.)\n\nDiese Struktur bleibt Woche für Woche gleich – so entsteht ein vertrautes Ritual in Ihrem Kalender. \nFür wen ist dieses Format gedacht? \nFür alle Interessierten\, die einen stabilen Ruhepunkt suchen und sich auf die heilsame Kraft der Stille einlassen möchten. \nRahmen & Teilnahme \n\nJeden Mittwoch um 18:30 Uhr\nOrt: Kloster Eberbach\, Raum i. d. R. Hospitalstube oder gemäß Ausschilderung\nDauer: 30 Min.\nAnmeldung: Nicht notwendig\nHinweis: Bitte pünktlich erscheinen – die Schweigephase beginnt ohne weitere Unterbrechung.\n\nIhre Leitung \nIm Wechsel: Rebecca Thurmann-Britz\, Gerda Russler & Marcus M. Lübbering \nRebecca-Thurmann Britz: langjährige Erfahrung in Einzel- und Gruppenmeditation \,regelmäßige  Seminarteilnehmerin im Rahmen der Academie und der WCCM\, auch online international \,regelmäßiger Austausch mit anderen Gruppenleitenden zu Meditation mit Erwachsenen und mit Kindern \nGerda Russler: Senior-Lehrerin u.a. mit der Fachrichtung Religion. 2011 Ausbildung zur Begleiterin für „Exerzitien im Alltag“ (diese Ausbildung umfasste u.a.  die Praxis verschiedener christlicher Meditationsformen). Seitdem: Meditationsangebote in verschiedenen Kirchengemeinden sowie Begleitung von Schweigemeditationen im damaligen Exerzitien- und Bildungshaus Kloster Tiefenthal Eltville. Meditationsbegleitung in der Tradition der christlichen Wüstenväter (WCCM)  in der Academie Kloster Eberbach seit ca 4 Jahren. \nMarcus M. Lübbering: Meditationserfahrung seit Beginn der 80er Jahre\, zahlreiche Vorträge\, Workshops und Seminare zum Thema „Meditation“\, vor allem in der Tradition der christlichen Wüstenväter nach John Main (Weltgemeinschaft für Christliche Meditation)\, Verfasser des jeweils am Sonntag erscheinenden Meditations-Wochentextes. \nWir freuen uns auf Ihre Teilnahme. \nDie Zeit der gemeinsamen Stille kann ein erfrischender Neubeginn sein. Wir empfehlen eine Meditationspraxis auch allein während der übrigen Wochentage. \nWeiterführender Hinweis zur Meditation:  \nEine Einführung in die Meditation im abendländisch-christlichen Kontext findet an jedem zweiten Samstag im Quartal in einem Kurz-Seminar von 9.30 Uhr bis 13.00 Uhr im Kloster Eberbach statt\, ebenso gibt es eine Kurz-Einführung dazu vor jedem „Eberbacher Impuls“ i. d. R. an jedem ersten Mittwoch im Monat um 18.00 Uhr. Weitere Hinweise zur Meditation und zu entsprechenden Veranstaltungen erhalten Sie\, wenn Sie sich in den Interessentenverteiler eintragen: \nEine Anfahrtsskizze finden Sie hier.
URL:https://kloster-academie.de/event/schweige-meditation-102-29-04-2026/
LOCATION:Kloster Eberbach\, Kloster-Eberbach-Str. 1\, Eltville am Rhein\, Hessen\, 65346
CATEGORIES:Meditation & Achtsamkeit
ATTACH;FMTTYPE=image/png:https://kloster-academie.de/wp-content/uploads/2020/06/Schweige-Meditation.png
ORGANIZER;CN="Academie Kloster Eberbach":MAILTO:info@kloster-academie.de
END:VEVENT
BEGIN:VEVENT
DTSTART;TZID=Europe/Berlin:20260430T183000
DTEND;TZID=Europe/Berlin:20260430T190000
DTSTAMP:20260420T122639
CREATED:20251231T180005Z
LAST-MODIFIED:20260216T183920Z
UID:7013-1777573800-1777575600@kloster-academie.de
SUMMARY:Online-Meditation
DESCRIPTION:Online-Meditation – jeden Donnerstag    18:30–19:00 Uhr\nTauchen Sie ein in einen Moment der Ruhe\, Präsenz und inneren Klarheit – direkt von Ihrem Arbeitsplatz oder Ihrem Zuhause aus. \nWas Sie erwartet\n•  Ankommen\, kurze Einführung\, Impuls (10 Min.)\n•  Sitzen in Stille (20 Min.) \nDiese Struktur bleibt Woche für Woche gleich – so entsteht ein vertrautes Ritual in Ihrem Kalender. \nFür wen ist dieses Format gedacht?\nFür alle\, die in ihrem beruflichen oder privaten Alltag einen verlässlichen Ruhepunkt einfügen möchten. \nRahmen & Teilnahme\n• Jeden Donnerstag um 18:30 Uhr\n• Ort: Online via Zoom (Link & Meeting-ID unten)\n• Dauer: 30 Min\n• Keine Anmeldung erforderlich – Eintritt frei\n• Bitte treten Sie möglichst pünktlich bei\, damit die Schweigephase ungestört beginnen kann. \nIhre Leitung\nMichael Hüttner\, Gründungsmitglied der Academie\, ausgebildet und langjährig erfahren im Bereich der Meditation – nach seiner Tätigkeit in der Finanzwelt begleitet er Menschen in ihrer persönlichen und beruflichen Ausrichtung in Klarheit und Achtsamkeit. \nZugang\nhttps://zoom.us/j/98374369404?pwd=aDZKNStZTFR1WjNvZTVVQTZkVmpLdz09\nMeeting-ID: 983 7436 9404\nKenncode: 846603 \nWir freuen uns auf Ihre Teilnahme.
URL:https://kloster-academie.de/event/online-meditation-89-30-04-2026/
LOCATION:Online per Zoom
CATEGORIES:Meditation & Achtsamkeit
ATTACH;FMTTYPE=image/png:https://kloster-academie.de/wp-content/uploads/2021/06/oeffentlicher-vortrag-1.png
ORGANIZER;CN="Academie Kloster Eberbach":MAILTO:info@kloster-academie.de
END:VEVENT
END:VCALENDAR