BEGIN:VCALENDAR
VERSION:2.0
PRODID:-//Academie Kloster Eberbach - ECPv6.8.1//NONSGML v1.0//EN
CALSCALE:GREGORIAN
METHOD:PUBLISH
X-WR-CALNAME:Academie Kloster Eberbach
X-ORIGINAL-URL:https://kloster-academie.de
X-WR-CALDESC:Veranstaltungen für Academie Kloster Eberbach
REFRESH-INTERVAL;VALUE=DURATION:PT1H
X-Robots-Tag:noindex
X-PUBLISHED-TTL:PT1H
BEGIN:VTIMEZONE
TZID:Europe/Berlin
BEGIN:DAYLIGHT
TZOFFSETFROM:+0100
TZOFFSETTO:+0200
TZNAME:CEST
DTSTART:20250330T010000
END:DAYLIGHT
BEGIN:STANDARD
TZOFFSETFROM:+0200
TZOFFSETTO:+0100
TZNAME:CET
DTSTART:20251026T010000
END:STANDARD
END:VTIMEZONE
BEGIN:VEVENT
DTSTART;TZID=Europe/Berlin:20251111T170000
DTEND;TZID=Europe/Berlin:20251111T173000
DTSTAMP:20260423T154534
CREATED:20250530T150348Z
LAST-MODIFIED:20251105T084325Z
UID:6185-1762880400-1762882200@kloster-academie.de
SUMMARY:Schweige-Meditation Wiesbaden
DESCRIPTION:Meditationsangebot im Herzen von Wiesbaden\nIm Therapie Kompetenzzentrum Weiten\, mitten in der Wiesbadener Innenstadt (Marktplatz 13)\, gibt es ein regelmäßiges Meditationsangebot. In Kooperation mit der Academie Kloster Eberbach gibt es jeden Dienstag um 17:00 Uhr eine stille 30-minütige Gruppenmeditation\, die auf der Tradition der Wüstenväter basiert – eine spirituelle Praxis des inneren Weges\, verwurzelt in der abendländisch-christlichen Mystik. \nDie Veranstaltung findet im 4. Stock unseres Hauses statt und ist ausgeschildert. \nDie Meditation unterstützt die Stabilisierung der psychischen\, seelischen und körperlichen Gesundheit. Sie ist einfach in der Ausführung – aber fordert die bewusste Hinwendung zur inneren Stille. Dieses Angebot richtet sich an Patient:innen des Hauses\, erfahrene Meditierende sowie alle\, die neugierig sind und sich auf die heilsame Kraft der Stille einlassen möchten. \nAnmeldung:Bitte melden Sie sich vorab an unter: info@therapie-wiesbaden.de \noder direkt am Empfang im Therapie Kompetenzzentrum Weiten. \nWir freuen uns auf Ihre Teilnahme – kommen Sie mit uns auf eine Reise zur eigenen Mitte!
URL:https://kloster-academie.de/event/schweige-meditation-wiesbaden-24/
LOCATION:Therapie Kompetenzzentrum Weiten\, Marktplatz 13\, Wiesbaden\, Hessen\, 65183\, Germany
CATEGORIES:Meditation & Achtsamkeit
ATTACH;FMTTYPE=image/jpeg:https://kloster-academie.de/wp-content/uploads/2025/05/SCHWEIGE-MEDITATION-WIESBADEN-1.jpg
ORGANIZER;CN="Academie Kloster Eberbach":MAILTO:info@kloster-academie.de
END:VEVENT
BEGIN:VEVENT
DTSTART;TZID=Europe/Berlin:20251111T170000
DTEND;TZID=Europe/Berlin:20251111T180000
DTSTAMP:20260423T154534
CREATED:20250917T064914Z
LAST-MODIFIED:20251105T084426Z
UID:6546-1762880400-1762884000@kloster-academie.de
SUMMARY:Academie IM AUSTAUSCH - exklusiv für Mitglieder & Freunde
DESCRIPTION:„Bericht aus der kirchlichen Arbeit auf Kuba“\nIm Rahmen der Reihe ‚Academie IM AUSTAUSCH‘ wird uns der Priester und Seelsorger Radoslaw Lydkowski über ein Land mit vielen Gesichtern berichten. Wir laden ein zu einer spannenden Reise in eine andere Wirklichkeit! \nLassen Sie sich mitreißen! \n————- \nDer Referent schreibt zu seinem Vortrag: \n„Ich vermute\, dass für viele von Ihnen das Land Kuba\, eine Insel in der Karibik\, als ein touristisches Traumreiseziel gilt: 5 Sternehotels – all-inclusive. Ein Land mit exotischen Früchten und Getränken\, weißen Stränden mit Palmen\, alten Autos aus den 40er und 50er Jahren\, Zigarren und Rum. Man hört auf den Straßen und in den Hotels Musik und man sieht tanzende und lachende Menschen. Es ist ein schönes Bild\, das sich nach außen sehr gut verkauft. Leider ist es nur eine Seite des Lebens auf Kuba. \nWenn jemand sich traut\, die Touristenzone zu verlassen\, und eine Weile außerhalb dieser ‚Welt‘ verbringt\, wird er das ‚normale‘\, alltägliche Brot\, das Leben der Kubaner richtig kennenlernen. Ich werde darüber berichten: Wie lebe ich? Wie lebt der Kubaner? Wie lebt die Mehrheit der Menschen auf der Insel? \nMit einem Satz: Wir leben fast wie in einer Hölle auf der Erde. Wir leben mit einer Temperatur zwischen 30 und über 40 Grad\, sind meist ohne Strom – den gibt es nur 2×2 Stunden am Tag! Wir leben ohne Gas in der Küche\, sind ohne medizinische Versorgung\, und die Lebensmittel sind knapp. Darüber hinaus herrscht Angst\, öffentlich die eigene Meinung zu sagen. Nur wenige Kubaner haben Familienmitglieder im Ausland\, oder gehören der kommunistischen Partei an\, die zum Kreis der ‚Privilegierten‘ gehören. Wir versuchen\, unter diesen schwierigen Umständen zu überleben und zu arbeiten. \nMit der Zeit spüre ich den Schmerz und das leidende Herz der hoffnungslosen Kubaner und doch spüre ich gleichzeitig persönlich ein starkes Bedürfnis\, da zu sein\, um den Menschen vor Ort zu dienen. \nNehmen Sie sich die Zeit\, eine spannende Reise mit mir zu unternehmen und lernen Sie das Land außerhalb der Touristenzone kennen!“ \n  \n————- \nZum Referenten \nPfarrer Radoslaw Lydkowski\, Seelsorger in Bayamo\, Kuba wurde 1984 in Siedlce\, Polen geboren. Er studierte Philosophie und Theologie in Siedlce\, Polen (2004 – 2007) und an der Philosophisch-Theol. Hochschule St. Georgen in Frankfurt (2007 – 2012). Von 2012 – 2017 war er Kaplan in der Pfarrei St. Bonifatius\, Wiesbaden\, danach in der Pfarrei St. Peter u. Paul in Höhr-Grenzhausen (2017 – 2020). Nach seinem Pfarrexamen in 2020 war er Pfarrverwalter und absolvierte einen Vorbereitungskurs für die Missionsarbeit in Warschau (2020 – 2021).\nSeit 2021 ist er Pfarrer in der Pfarrei Allerheiligster Erlöser der Welt in Bayamo\, Kuba. \n————- \nDie Academie IM AUSTAUSCH wird einmal pro Quartal exklusiv für unsere Mitglieder & Freunde als Online–Veranstaltung über Zoom angeboten.  \nAlle sind herzlich eingeladen\, sich in diesem Rahmen über aktuelle Werte–Debatten zu informieren und auszutauschen. Jedes Mitglied kann gern einen weiteren Interessenten zu dieser Veranstaltung anmelden. \nDer Einwahl–Link wird den Mitgliedern separat zugeschickt. \nSie sind noch kein Mitglied und möchten an der Veranstaltung teilnehmen? Finden Sie alle Informationen über eine Mitgliedschaft\, dessen Vorteile und das Anmeldeformular hier. \nEine Veranstaltungsreihe der Academie Kloster Eberbach\n\nDauer: 60 Minuten
URL:https://kloster-academie.de/event/academie-im-austausch-exklusiv-fuer-mitglieder-freunde-2/
LOCATION:Online per Zoom
CATEGORIES:Highlights,Spiritualität & Gesellschaft
ATTACH;FMTTYPE=image/png:https://kloster-academie.de/wp-content/uploads/2022/01/Academie-im-Austauschv3.png
ORGANIZER;CN="Academie Kloster Eberbach":MAILTO:info@kloster-academie.de
END:VEVENT
END:VCALENDAR