BEGIN:VCALENDAR
VERSION:2.0
PRODID:-//Academie Kloster Eberbach - ECPv6.8.1//NONSGML v1.0//EN
CALSCALE:GREGORIAN
METHOD:PUBLISH
X-WR-CALNAME:Academie Kloster Eberbach
X-ORIGINAL-URL:https://kloster-academie.de
X-WR-CALDESC:Veranstaltungen für Academie Kloster Eberbach
REFRESH-INTERVAL;VALUE=DURATION:PT1H
X-Robots-Tag:noindex
X-PUBLISHED-TTL:PT1H
BEGIN:VTIMEZONE
TZID:Europe/Berlin
BEGIN:DAYLIGHT
TZOFFSETFROM:+0100
TZOFFSETTO:+0200
TZNAME:CEST
DTSTART:20250330T010000
END:DAYLIGHT
BEGIN:STANDARD
TZOFFSETFROM:+0200
TZOFFSETTO:+0100
TZNAME:CET
DTSTART:20251026T010000
END:STANDARD
END:VTIMEZONE
BEGIN:VEVENT
DTSTART;TZID=Europe/Berlin:20250830T100000
DTEND;TZID=Europe/Berlin:20250830T160000
DTSTAMP:20260423T183551
CREATED:20250205T211829Z
LAST-MODIFIED:20250214T143516Z
UID:6013-1756548000-1756569600@kloster-academie.de
SUMMARY:Studientag unter dem Thema „Stille Zeit – Auf die innere Stimme hören“
DESCRIPTION:Referent: Pfarrer Oliver Albrecht\, Probst für Rhein-Main \n  \nInformationen zum Tag \nWas Gott betrifft\, schwanken Menschen zwischen Extremen: \n\nSie erwarten ihn im Außergewöhnlichen\, in der absoluten Sensation. Aber weil manchmal viele Jahre oder gar ein ganzes Leben ohne absolute Sensationen herumgehen\, ist auf einmal alles vorbei und man sagt sich: von Gott habe ich eigentlich nie etwas gespürt.\nOder die Menschen erwarten Gott durch eigene religiöse Anstrengung. Dann nimmt man sich den Glauben vor wie ein Fitnessprogramm\, lässt sich irgendwelche Übungen empfehlen. Manchmal geht das ja wie beim Sport eine ganze Weile gut…Aber das richtige Leben besteht aus mehr als aus Übungen und frommen oder sportlichen Programmen. Wir wollen ja keine geistlichen Trainingsweltmeister werden. Und es geht auch um mehr als um Sensationen aus der Abteilung himmlische Spezialeffekte. Es geht um den ganz normalen Alltag. Und deswegen wird es am 30. August 2025 um ganz normale Dinge gehen:\nwie Sie einen Tag beginnen und beenden\nwie Sie so leben\, als stünde Gott wie ein guter Freund neben Ihnen\nwie Sie einen Tag planen und wie ein ganzes Leben\nwie Sie das Tempo rausnehmen und sich von Jesus Zeit schenken lassen\nwie Sie entdecken\, dass das ganz normale Leben überhaupt nicht banal ist\, sondern eine große\, wunderbare Sache\n\n  \nZeit \n10.00 – 16.00 Uhr \n  \nZur Person des Referenten: \n \nOliver Albrecht wurde 1962 in Frankfurt geboren. Er studierte ev. Theologie in Bethel und Heidelberg. Danach arbeitete er eine Zeit in der Krankenpflege. In seiner ersten Gemeinde in Niedernhausen/Taunus entwickelte er das Projekt „Gemeindeaufbau in der Volkskirche“. 2010 versah er die gesamtkirchliche Profilstelle „Evangelische Identität“. Aus seinem EKHN-weiten Engagement ist das Lehrbuch „Lebensthemen“ entstanden. Seit April 2015 ist Albrecht Propst für Rhein-Main. Als Propst sieht er seine Aufgabe in der Seelsorge und der berufsbiografischen Begleitung der Pfarrerinnen und Pfarrer seiner Propstei. Als wichtigstes Anliegen bezeichnet Albrecht eine engere Verzahnung zwischen Diakonie und Mission: „Kirche werde nach außen wirksam in Wort (Mission) und Tat (Diakonie).“ \n  \nAnmeldung und Kosten \nTeilnehmerbeitrag: Wir freuen uns über die Überweisung einer Spende von Nicht-Mitgliedern\, für die wir gern eine entsprechende steuerwirksame Bescheinigung ausstellen. \nFür einen Imbiss ist gesorgt. \nUm Anmeldung wird gebeten.
URL:https://kloster-academie.de/event/studientag-stille-zeit/
LOCATION:Propstei Rhein-Main\, Schwalbacher Straße 6\, Wiesbaden\, Hessen\, 65185\, Germany
CATEGORIES:Führung & Werte,Highlights,Meditation & Achtsamkeit
ATTACH;FMTTYPE=image/jpeg:https://kloster-academie.de/wp-content/uploads/2025/02/studientag.jpg
ORGANIZER;CN="Academie Kloster Eberbach":MAILTO:info@kloster-academie.de
END:VEVENT
END:VCALENDAR