BEGIN:VCALENDAR
VERSION:2.0
PRODID:-//Academie Kloster Eberbach - ECPv6.8.1//NONSGML v1.0//EN
CALSCALE:GREGORIAN
METHOD:PUBLISH
X-WR-CALNAME:Academie Kloster Eberbach
X-ORIGINAL-URL:https://kloster-academie.de
X-WR-CALDESC:Veranstaltungen für Academie Kloster Eberbach
REFRESH-INTERVAL;VALUE=DURATION:PT1H
X-Robots-Tag:noindex
X-PUBLISHED-TTL:PT1H
BEGIN:VTIMEZONE
TZID:Europe/Berlin
BEGIN:DAYLIGHT
TZOFFSETFROM:+0100
TZOFFSETTO:+0200
TZNAME:CEST
DTSTART:20250330T010000
END:DAYLIGHT
BEGIN:STANDARD
TZOFFSETFROM:+0200
TZOFFSETTO:+0100
TZNAME:CET
DTSTART:20251026T010000
END:STANDARD
END:VTIMEZONE
BEGIN:VEVENT
DTSTART;TZID=Europe/Berlin:20250702T183000
DTEND;TZID=Europe/Berlin:20250702T190000
DTSTAMP:20260421T152155
CREATED:20241227T123747Z
LAST-MODIFIED:20241227T123747Z
UID:5762-1751481000-1751482800@kloster-academie.de
SUMMARY:Schweige-Meditation
DESCRIPTION:„Aus dem Schweigen kommt alle Kraft.“\nBernhard von Clairvaux (1091 – 1153)\nKloster Eberbach ist auch ein Ort der Stille. Kommen Sie zur Ruhe in der abendlichen klösterlichen Abgeschiedenheit. \nMittwochs von 18.30 Uhr bis 19.00 Uhr bieten wir Ihnen nach einer kurzen Einführung eine Schweigemeditation im Geist des Klosters an. Hier öffnet sich die Tür zu einer Dimension\, die in unserem Alltag oft zu kurz kommt. \nMeditation ist nicht nur ein wirksames Mittel gegen\nStress. Sie kann Ihnen auch helfen:\n• wacher und achtsamer zu werden\,\n• klarer zu sehen\,\n• Selbsterkenntnis zu gewinnen\,\n• innere Stärke zu entfalten\n• und bewusster zu handeln\nVorerfahrungen sind nicht erforderlich\, es reicht ein offenes Herz und eine halbe Stunde Zeit in der neun Jahrhunderte alten Klosteranlage. Probieren Sie es aus! \nDer Weg zum Meditations-Raum ist vom Innenhof des Klosters aus beschildert. Eine Anfahrtsskizze finden Sie hier. \n  \nDie Teilnahme ist kostenfrei. Eine Anmeldung ist nicht erforderlich. \n 
URL:https://kloster-academie.de/event/schweige-meditation-71/
LOCATION:Kloster Eberbach\, Kloster-Eberbach-Str. 1\, Eltville am Rhein\, Hessen\, 65346
CATEGORIES:Meditation & Achtsamkeit
ATTACH;FMTTYPE=image/png:https://kloster-academie.de/wp-content/uploads/2020/06/Schweige-Meditation.png
ORGANIZER;CN="Academie Kloster Eberbach":MAILTO:info@kloster-academie.de
END:VEVENT
BEGIN:VEVENT
DTSTART;TZID=Europe/Berlin:20250702T190000
DTEND;TZID=Europe/Berlin:20250702T210000
DTSTAMP:20260421T152155
CREATED:20241227T132306Z
LAST-MODIFIED:20250609T091159Z
UID:5827-1751482800-1751490000@kloster-academie.de
SUMMARY:Eberbacher Impulse: Die Salzburger Festspiele 1920 bis 2025 - Rückblick und Ausblick
DESCRIPTION:Die Salzburger Festspiele 1920 bis 2025 – Rückblick und Ausblick\nReferentin: Medi Gasteiner\, Kulturmanagerin\, Bad Homburg\n\n\n\n———–\n\n\nZum Inhalt des Vortrags:\n\nDas berühmteste Festival der Welt wird mit ausgewählten „Highlights“ in Bild und Ton beleuchtet\, von „Jedermann“ bis „Macbeth“ in Geschichte\, Gegenwart und Zukunft. \n\n1920 wurden die Salzburger Festspiele von Max Reinhardt\, Richard Strauss und Hugo von Hofmannsthal gegründet\, der „Jedermann“ wird seither alljährlich am Domplatz aufgeführt\, bei Schlechtwetter im Grossen Festspielhaus\, das 1960 mit dem „Rosenkavalier“ unter Herbert von Karajan eröffnet wurde. Die bedeutendsten Klassikkünstler sind im Sommer in Salzburg – Oper\, Konzert und auch Schauspiel sind in exemplarischen Aufführungen zu erleben. Curd Jürgens und Senta Berger im „Jedermann“\, die legendäre „La Traviata“ mit Anna Netrebko\, „Salome“ mit Asmik Grigorian\, ein Gang durch die Festspielhäuser – zahlreiche Bilder und Videos werden in dem Vortrag gezeigt. Zum Schluss gibt es einen kurzen Ausblick auf das Festspielprogramm im Sommer 2025.\n\n\n\nWeiterführende Informationen: www.salzburgfestival.at; www.gasteiner-kulturmanagement.com \n\nZur Person unserer Referentin:\n \n\nMEDI GASTEINER hat als gebürtige Salzburgerin schon als Kind die Festspiele besucht. Die  studierte Kulturmanagerin war viele Jahre international in der Schallplattenbranche tätig und als PR-Managerin für Sänger und Dirigenten. 1997-2001 war sie Orchestermanagerin des hr-Sinfonieorchesters Frankfurt und bis 2012 Musikredakteurin Oper beim Hessischen Rundfunk. Sie hält Musikvorträge (u.a. über 40 im Union International Club und im Grandhotel Hessischer Hof) und begleitet Musikreisen für Palco Reale und ZEIT-Reisen. Medi Gasteiner hat in mehr als 100 Opernhäusern weltweit über 500 verschiedene Opern gesehen. Sie spricht fließend englisch\, französisch und italienisch und etwas holländisch. \n\n\n\n\n—–\n\n\n\nAnmeldung und Kosten\nDie Teilnahme für Mitglieder der Academie Kloster Eberbach ist kostenlos. Von Nicht-Mitgliedern erbitten wir zur Deckung unserer Kosten einen Beitrag von 5\,- Euro vor Ort. Bitte melden Sie sich über untenstehenden Link an. \n\n\n—–\n\nAblauf\nDie Vorträge im Rahmen der Eberbacher Impulse beginnen um 19.00 Uhr und dauern ca. 1 Stunde. Anschließend gibt es die Möglichkeit zur Begegnung.\nVor den Vorträgen findet bei den Eberbacher Impulsen um 18.30 Uhr eine Schweige-Meditation statt\, ab 18.00 Uhr gibt es ein Vorgespräch zur Praxis der Meditation für Neueinsteiger oder generell an der Schweigemeditation Interessierte.\n\n\n—–\n\n\nAnfahrt\n\nDer Veranstaltungsraum ist in der Regel der Raum „Brauhaus“. Der Weg zum Veranstaltungsort ist vom Innenhof des Klosters aus beschildert. Die Anfahrt zum Innenhof finden Sie hier.\n\n\n—–\n\nEine Veranstaltung mit Unterstützung der Stiftung Kloster Eberbach.
URL:https://kloster-academie.de/event/eberbacher-impulse-2025-07/
LOCATION:Kloster Eberbach\, Kloster-Eberbach-Str. 1\, Eltville am Rhein\, Hessen\, 65346
CATEGORIES:Eberbacher Impulse,Highlights
ATTACH;FMTTYPE=image/png:https://kloster-academie.de/wp-content/uploads/2020/06/Eberbacher-Impulse.png
ORGANIZER;CN="Academie Kloster Eberbach":MAILTO:info@kloster-academie.de
END:VEVENT
END:VCALENDAR