BEGIN:VCALENDAR
VERSION:2.0
PRODID:-//Academie Kloster Eberbach - ECPv6.8.1//NONSGML v1.0//EN
CALSCALE:GREGORIAN
METHOD:PUBLISH
X-WR-CALNAME:Academie Kloster Eberbach
X-ORIGINAL-URL:https://kloster-academie.de
X-WR-CALDESC:Veranstaltungen für Academie Kloster Eberbach
REFRESH-INTERVAL;VALUE=DURATION:PT1H
X-Robots-Tag:noindex
X-PUBLISHED-TTL:PT1H
BEGIN:VTIMEZONE
TZID:Europe/Berlin
BEGIN:DAYLIGHT
TZOFFSETFROM:+0100
TZOFFSETTO:+0200
TZNAME:CEST
DTSTART:20250330T010000
END:DAYLIGHT
BEGIN:STANDARD
TZOFFSETFROM:+0200
TZOFFSETTO:+0100
TZNAME:CET
DTSTART:20251026T010000
END:STANDARD
END:VTIMEZONE
BEGIN:VEVENT
DTSTART;TZID=Europe/Berlin:20250507T183000
DTEND;TZID=Europe/Berlin:20250507T190000
DTSTAMP:20260421T122637
CREATED:20241227T122950Z
LAST-MODIFIED:20241227T122950Z
UID:5721-1746642600-1746644400@kloster-academie.de
SUMMARY:Schweige-Meditation
DESCRIPTION:„Aus dem Schweigen kommt alle Kraft.“\nBernhard von Clairvaux (1091 – 1153)\nKloster Eberbach ist auch ein Ort der Stille. Kommen Sie zur Ruhe in der abendlichen klösterlichen Abgeschiedenheit. \nMittwochs von 18.30 Uhr bis 19.00 Uhr bieten wir Ihnen nach einer kurzen Einführung eine Schweigemeditation im Geist des Klosters an. Hier öffnet sich die Tür zu einer Dimension\, die in unserem Alltag oft zu kurz kommt. \nMeditation ist nicht nur ein wirksames Mittel gegen\nStress. Sie kann Ihnen auch helfen:\n• wacher und achtsamer zu werden\,\n• klarer zu sehen\,\n• Selbsterkenntnis zu gewinnen\,\n• innere Stärke zu entfalten\n• und bewusster zu handeln\nVorerfahrungen sind nicht erforderlich\, es reicht ein offenes Herz und eine halbe Stunde Zeit in der neun Jahrhunderte alten Klosteranlage. Probieren Sie es aus! \nDer Weg zum Meditations-Raum ist vom Innenhof des Klosters aus beschildert. Eine Anfahrtsskizze finden Sie hier. \n  \nDie Teilnahme ist kostenfrei. Eine Anmeldung ist nicht erforderlich. \n 
URL:https://kloster-academie.de/event/schweige-meditation-41/
LOCATION:Kloster Eberbach\, Kloster-Eberbach-Str. 1\, Eltville am Rhein\, Hessen\, 65346
CATEGORIES:Meditation & Achtsamkeit
ATTACH;FMTTYPE=image/png:https://kloster-academie.de/wp-content/uploads/2020/06/Schweige-Meditation.png
ORGANIZER;CN="Academie Kloster Eberbach":MAILTO:info@kloster-academie.de
END:VEVENT
BEGIN:VEVENT
DTSTART;TZID=Europe/Berlin:20250507T190000
DTEND;TZID=Europe/Berlin:20250507T210000
DTSTAMP:20260421T122637
CREATED:20241227T135243Z
LAST-MODIFIED:20241227T140325Z
UID:5847-1746644400-1746651600@kloster-academie.de
SUMMARY:Eberbacher Impulse: Von der Gegenwart zum Urknall und zurück
DESCRIPTION:Einmal Urknall und zurück – Was wir aus der Evolution lernen und wie wir sie erkennen können\nReferent: Dr. Dieter Eversheim\, em. Privat-Dozent an der Math.-Nat. Fakultät der Universität Bonn \n———–\n\n\nZum Inhalt des Vortrags:\n\nDer Vortrag rankt sich um Georges Lemaitre\, Theologe und Priester\, Mathematiker und Astrophysiker\, der als Vater der Urknalltheorie (Big Bang) gilt. \nGeorges Lemaitre ein belgischer Theologe und Priester\, Mathematiker und Astrophysiker gilt als Vater der Urknall Theorie (Big Bang)\, die heute als allgemein akzeptierte Theorie am besten die\nEntwicklung des Weltalls erklären kann. Damit kippte Lemaitre die letzte Säule des aristotelischen Weltbildes\, das methodisch schon durch Kopernikus\, Galilei und Keppler ins Wanken geraten war. \nIn dem Vortrag wird der Referent auf das Wesen des neuen\, methodischen naturwissenschaftlichen Denkens seit Galilei eingehen. Dieses Denken mündet einerseits in einem der größten Rätsel –\nunserer physischen Existenz – andererseits kann es aber ein Beispiel sein für Handlungsstrategien\, um Probleme unserer Zeit einzuordnen und ggf. zu lösen. \n  \n\n\n\nZur Person unseres Referenten:\n\n\n \n\nDieter Eversheim promovierte und habilitierte sich in Bonn. Er ist ausgebildeter Kern- und Elementarteilchenphysiker. Forschungsaufenthalte waren am Lawrence Berkeley Laboratory in Kalifornien\, USA\, Brookhaven National Laboratory auf Long Island\, USA und am TRIUMF in Vancouver\, Kanada. Er experimentierte am Paul-Scherrer Institut in Villingen\, Schweiz\, CERN bei Genf\, Schweiz sowie den Kernforschungsanstalten in Jülich und Karlsruhe. Er lehrte In Bonn und leitete dort das Zyklotron und den Massenseparator zur Implantation radioaktiver Isotope. \n\n\n\n\n\n\n—–\n\n\n\nAnmeldung und Kosten\nDie Teilnahme für Mitglieder der Academie Kloster Eberbach ist kostenlos. Von Nicht-Mitgliedern erbitten wir zur Deckung unserer Kosten einen Beitrag von 5\,- Euro vor Ort. Bitte melden Sie sich über untenstehenden Link an. \n\n\n—–\n\nAblauf\nDie Vorträge im Rahmen der Eberbacher Impulse beginnen um 19.00 Uhr und dauern ca. 1 Stunde. Anschließend gibt es die Möglichkeit zur Begegnung.\nVor den Vorträgen findet bei den Eberbacher Impulsen um 18.30 Uhr eine Schweige-Meditation statt\, ab 18.00 Uhr gibt es ein Vorgespräch zur Praxis der Meditation für Neueinsteiger oder generell an der Schweigemeditation Interessierte.\n\n\n—–\n\n\nAnfahrt\n\nDer Veranstaltungsraum ist in der Regel der Raum „Brauhaus“. Der Weg zum Veranstaltungsort ist vom Innenhof des Klosters aus beschildert. Die Anfahrt zum Innenhof finden Sie hier.\n\n\n—–\n\nEine Veranstaltung mit Unterstützung der Stiftung Kloster Eberbach.
URL:https://kloster-academie.de/event/eberbacher-impulse-2025-05/
LOCATION:Kloster Eberbach\, Kloster-Eberbach-Str. 1\, Eltville am Rhein\, Hessen\, 65346
CATEGORIES:Eberbacher Impulse,Highlights
ATTACH;FMTTYPE=image/png:https://kloster-academie.de/wp-content/uploads/2020/06/Eberbacher-Impulse.png
ORGANIZER;CN="Academie Kloster Eberbach":MAILTO:info@kloster-academie.de
END:VEVENT
END:VCALENDAR