BEGIN:VCALENDAR
VERSION:2.0
PRODID:-//Academie Kloster Eberbach - ECPv6.8.1//NONSGML v1.0//EN
CALSCALE:GREGORIAN
METHOD:PUBLISH
X-WR-CALNAME:Academie Kloster Eberbach
X-ORIGINAL-URL:https://kloster-academie.de
X-WR-CALDESC:Veranstaltungen für Academie Kloster Eberbach
REFRESH-INTERVAL;VALUE=DURATION:PT1H
X-Robots-Tag:noindex
X-PUBLISHED-TTL:PT1H
BEGIN:VTIMEZONE
TZID:Europe/Berlin
BEGIN:DAYLIGHT
TZOFFSETFROM:+0100
TZOFFSETTO:+0200
TZNAME:CEST
DTSTART:20250330T010000
END:DAYLIGHT
BEGIN:STANDARD
TZOFFSETFROM:+0200
TZOFFSETTO:+0100
TZNAME:CET
DTSTART:20251026T010000
END:STANDARD
END:VTIMEZONE
BEGIN:VEVENT
DTSTART;TZID=Europe/Berlin:20250329T193000
DTEND;TZID=Europe/Berlin:20250330T070000
DTSTAMP:20260419T154720
CREATED:20241227T131542Z
LAST-MODIFIED:20250114T153433Z
UID:5833-1743276600-1743318000@kloster-academie.de
SUMMARY:Meditationsnacht im Kloster Eberbach
DESCRIPTION:„Die Mitte der Nacht ist der Anfang eines neuen Tages“\n\n\n\nNachts nehmen wir die Wirklichkeit anders wahr. Die Geräusche des Tages verstummen\, die Stille um mich wird zur besonderen Erfahrung der Gegenwart Gottes. In den Stunden der Nacht zu wachen\, die Geburt des Lichts aus der Dunkelheit mit allen Sinnen zu erfahren\, im gemeinsamen Vollzug seinen persönlichen Weg mit Gott zu gehen\, gibt dieser Weise des Meditierens und Betens eine intensive Qualität.\n\nHören-Schweigen-Beten-Singen-Gehen\n\nDie Meditation im schweigenden Sitzen und Gehen wechselt mit liturgischen Elementen. Die Zeit des Schweigens beginnt mit der Komplet und endet mit der Laudes und einem anschließenden Klosterfrühstück.\n\n\n\n—–\n\nTeilnahme\n\n\n\nVorerfahrung in Meditation ist nicht erforderlich. Entscheidend ist die Bereitschaft\, die Nacht (auch mit Pausen – es steht ein Raum zur Verfügung) im Kloster zu verbringen und sich darauf einzulassen. Die Dauer der Meditationsnacht kann nach eigenem Ermessen jederzeit beendet werden.\n\nStellen Sie sich bitte durch entsprechend warme Kleidung auf die besonderen Temperaturbedingungen des Klosters ein (ca. 20°C). Meditationsschemel\, bzw. Kissen sind mitzubringen\, ebenso Pausenverpflegung nach individuellem Bedarf. Für heiße Getränke ist gesorgt.\n\nFlyer zum Download\n\n\n—– \n\n\n\nAnmeldung und Kosten\nDie Teilnahmegebühr beträgt 40\,00 Euro inkl. Frühstück. Bitte melden Sie sich über untenstehenden Link an. \n\n\n\n—–\n\n\nAnfahrt\n\nDer Veranstaltungsraum ist das Laiendormitorium. Der Weg zum Veranstaltungsort ist vom Innenhof des Klosters aus beschildert. Die Anfahrt zum Innenhof finden Sie hier.\n\n\n—–\n\nEine Veranstaltung mit Unterstützung der Stiftung Kloster Eberbach.
URL:https://kloster-academie.de/event/meditationsnacht-im-kloster-eberbach/
LOCATION:Kloster Eberbach\, Kloster-Eberbach-Str. 1\, Eltville am Rhein\, Hessen\, 65346
CATEGORIES:Highlights,Meditation & Achtsamkeit
ATTACH;FMTTYPE=image/jpeg:https://kloster-academie.de/wp-content/uploads/2024/12/AKE-Website-Veranstaltungen-Titelbild.jpg
ORGANIZER;CN="Academie Kloster Eberbach":MAILTO:info@kloster-academie.de
END:VEVENT
END:VCALENDAR