BEGIN:VCALENDAR
VERSION:2.0
PRODID:-//Academie Kloster Eberbach - ECPv6.8.1//NONSGML v1.0//EN
CALSCALE:GREGORIAN
METHOD:PUBLISH
X-WR-CALNAME:Academie Kloster Eberbach
X-ORIGINAL-URL:https://kloster-academie.de
X-WR-CALDESC:Veranstaltungen für Academie Kloster Eberbach
REFRESH-INTERVAL;VALUE=DURATION:PT1H
X-Robots-Tag:noindex
X-PUBLISHED-TTL:PT1H
BEGIN:VTIMEZONE
TZID:Europe/Berlin
BEGIN:DAYLIGHT
TZOFFSETFROM:+0100
TZOFFSETTO:+0200
TZNAME:CEST
DTSTART:20250330T010000
END:DAYLIGHT
BEGIN:STANDARD
TZOFFSETFROM:+0200
TZOFFSETTO:+0100
TZNAME:CET
DTSTART:20251026T010000
END:STANDARD
END:VTIMEZONE
BEGIN:VEVENT
DTSTART;TZID=Europe/Berlin:20250320T183000
DTEND;TZID=Europe/Berlin:20250320T190000
DTSTAMP:20260419T170713
CREATED:20241227T104052Z
LAST-MODIFIED:20241227T104052Z
UID:5632-1742495400-1742497200@kloster-academie.de
SUMMARY:Online-Meditation
DESCRIPTION:Wir bieten Interessierten JEDEN Donnerstag um 18.30 Uhr die Gelegenheit zur Teilnahme an einer Online-Meditation anbieten. Sie soll in der gleichen\, schlichten Form wie die Meditationen im Kloster Eberbach stattfinden: Kurze Einführung (ca. 5 Minuten) und Meditationszeit von gut 20 Minuten\, sodass jeder nach einer halben Stunde wieder „frei“ ist. \nWir sind Michael Hüttner sehr dankbar\, dass er diese Treffen leiten wird. Er ist Gründungsmitglied der Academie und dem Thema „Meditation“ schon seit langer Zeit verbunden. Nach seiner Tätigkeit bei der Commerzbank in Frankfurt ist er schwerpunktmäßig auch mit dem Thema „Coaching“ befasst. \nWir bitten darum\, so zeitig beizutreten\, dass die Zeit der Schweigemeditation nicht gestört wird.\nDen Zugang hierzu finden Sie über den folgenden Link\, der für die Online-Meditationen auch künftig gelten wird: \nhttps://zoom.us/j/98374369404?pwd=aDZKNStZTFR1WjNvZTVVQTZkVmpLdz09\nMeeting-ID: 983 7436 9404\nKenncode: 846603
URL:https://kloster-academie.de/event/online-meditation-43/
LOCATION:Online per Zoom
CATEGORIES:Meditation & Achtsamkeit
ATTACH;FMTTYPE=image/png:https://kloster-academie.de/wp-content/uploads/2021/06/oeffentlicher-vortrag-1.png
ORGANIZER;CN="Academie Kloster Eberbach":MAILTO:info@kloster-academie.de
END:VEVENT
BEGIN:VEVENT
DTSTART;TZID=Europe/Berlin:20250320T193000
DTEND;TZID=Europe/Berlin:20250320T210000
DTSTAMP:20260419T170713
CREATED:20241229T093554Z
LAST-MODIFIED:20241229T093642Z
UID:5875-1742499000-1742504400@kloster-academie.de
SUMMARY:ACADEMIE to go: MEINE HAUT UND DEINE MEINUNG - Die Kunst der Offenen Gesellschaft
DESCRIPTION:Diese Veranstaltung wird per Zoom stattfinden. Den Link finden Sie hier: \nhttps://zoom.us/j/94412478221?pwd=c2FYTitTMFRxTlRKOE5kYlhCdnIzdz09 \nMeeting-ID: 944 1247 8221\n \nWo nur eine Meinung gilt\, will keiner in anderer Leute Haut stecken. Wer sich dazu keine Meinung bildet\, wird bald sein eignes Fell zu Markte tragen. \nKeine Anmeldung erforderlich\, Eintritt frei(willig) \n\n\nEine Veranstaltungsreihe der Academie Kloster Eberbach\n\nDauer: 90 Minuten
URL:https://kloster-academie.de/event/academie-to-go-2025-03-meinung/
LOCATION:Online per Zoom
CATEGORIES:ACADEMIE to go,Highlights,Spiritualität & Gesellschaft
ATTACH;FMTTYPE=image/png:https://kloster-academie.de/wp-content/uploads/2020/06/Academie-to-go.png
ORGANIZER;CN="Academie Kloster Eberbach":MAILTO:info@kloster-academie.de
END:VEVENT
END:VCALENDAR