BEGIN:VCALENDAR
VERSION:2.0
PRODID:-//Academie Kloster Eberbach - ECPv6.8.1//NONSGML v1.0//EN
CALSCALE:GREGORIAN
METHOD:PUBLISH
X-WR-CALNAME:Academie Kloster Eberbach
X-ORIGINAL-URL:https://kloster-academie.de
X-WR-CALDESC:Veranstaltungen für Academie Kloster Eberbach
REFRESH-INTERVAL;VALUE=DURATION:PT1H
X-Robots-Tag:noindex
X-PUBLISHED-TTL:PT1H
BEGIN:VTIMEZONE
TZID:Europe/Berlin
BEGIN:DAYLIGHT
TZOFFSETFROM:+0100
TZOFFSETTO:+0200
TZNAME:CEST
DTSTART:20250330T010000
END:DAYLIGHT
BEGIN:STANDARD
TZOFFSETFROM:+0200
TZOFFSETTO:+0100
TZNAME:CET
DTSTART:20251026T010000
END:STANDARD
END:VTIMEZONE
BEGIN:VEVENT
DTSTART;TZID=Europe/Berlin:20250205T183000
DTEND;TZID=Europe/Berlin:20250205T190000
DTSTAMP:20260421T122642
CREATED:20241227T122649Z
LAST-MODIFIED:20241227T122649Z
UID:5735-1738780200-1738782000@kloster-academie.de
SUMMARY:Schweige-Meditation
DESCRIPTION:„Aus dem Schweigen kommt alle Kraft.“\nBernhard von Clairvaux (1091 – 1153)\nKloster Eberbach ist auch ein Ort der Stille. Kommen Sie zur Ruhe in der abendlichen klösterlichen Abgeschiedenheit. \nMittwochs von 18.30 Uhr bis 19.00 Uhr bieten wir Ihnen nach einer kurzen Einführung eine Schweigemeditation im Geist des Klosters an. Hier öffnet sich die Tür zu einer Dimension\, die in unserem Alltag oft zu kurz kommt. \nMeditation ist nicht nur ein wirksames Mittel gegen\nStress. Sie kann Ihnen auch helfen:\n• wacher und achtsamer zu werden\,\n• klarer zu sehen\,\n• Selbsterkenntnis zu gewinnen\,\n• innere Stärke zu entfalten\n• und bewusster zu handeln\nVorerfahrungen sind nicht erforderlich\, es reicht ein offenes Herz und eine halbe Stunde Zeit in der neun Jahrhunderte alten Klosteranlage. Probieren Sie es aus! \nDer Weg zum Meditations-Raum ist vom Innenhof des Klosters aus beschildert. Eine Anfahrtsskizze finden Sie hier. \n  \nDie Teilnahme ist kostenfrei. Eine Anmeldung ist nicht erforderlich. \n 
URL:https://kloster-academie.de/event/schweige-meditation-3/
LOCATION:Kloster Eberbach\, Kloster-Eberbach-Str. 1\, Eltville am Rhein\, Hessen\, 65346
CATEGORIES:Meditation & Achtsamkeit
ATTACH;FMTTYPE=image/png:https://kloster-academie.de/wp-content/uploads/2020/06/Schweige-Meditation.png
ORGANIZER;CN="Academie Kloster Eberbach":MAILTO:info@kloster-academie.de
END:VEVENT
BEGIN:VEVENT
DTSTART;TZID=Europe/Berlin:20250205T190000
DTEND;TZID=Europe/Berlin:20250205T210000
DTSTAMP:20260421T122642
CREATED:20241227T134051Z
LAST-MODIFIED:20241230T135857Z
UID:5843-1738782000-1738789200@kloster-academie.de
SUMMARY:Eberbacher Impulse: Thomas Merton\,  Überlegungen zum 110. Geburtstag eines der ganz Großen der Meditation
DESCRIPTION:Thomas Merton\, Überlegungen zum 110. Geburtstag eines der ganz Großen der Meditation\nReferent: Dr. Dominiek Lootens\, Leiter des Centre for Dialogue am Campus Riedberg\, Frankfurt a. M. \n———–\n\n\nZum Inhalt des Vortrags:\n\nThomas Merton\, ein Mönch für das 21. Jahrhundert. \nThomas Merton wurde am 31. Januar vor 110 Jahren in Südfrankreich geboren. Seine Eltern waren beide Künstler. Er studierte Literatur in England und den USA. Er konvertierte zum Katholizismus und trat 1941 in ein Trappistenkloster in Kentucky ein. Dort schrieb er einen autobiografischen Bestseller\, Der Berg der sieben Stufen. \nMerton setzte sich dafür ein\, die Kontemplation für alle zugänglich zu machen. Er lebte seine Berufung als Autor\, Dichter\, Künstler und Fotograf. Als Novizenmeister entwickelte er ein Interesse an der Psychologie. Er pflegte einen intensiven Briefwechsel mit Freunden und Bekannten. Er schrieb über gesellschaftliche Themen wie Frieden\, Technologie\, Ökologie\, Rassismus und interreligiösen Dialog. \nIn diesem Vortrag werden wir mit Merton darüber nachdenken\, was es bedeutet\, in der heutigen Welt ein sinnvolles Leben zu führen. \n  \n\n\n\nZur Person unseres Referenten:\n\n \n\nDominiek Lootens is Head of the Centre for Dialogue at Campus Riedberg in Frankfurt a. M.\, Germany. For twenty years he worked as a pastoral educator and supervisor at Caritas Flanders. He is president of SIPCC (Düsseldorf\, Germany)\, and international advisor of ITMS (Louisville\, Kentucky). He currently lives in Schmitten im Taunus\, Germany\, together with his wife Nina and their dog Bonnie. \n>>> Curriculum Vitae \n\n\n\n\n—–\n\n\n\nAnmeldung und Kosten\nDie Teilnahme für Mitglieder der Academie Kloster Eberbach ist kostenlos. Von Nicht-Mitgliedern erbitten wir zur Deckung unserer Kosten einen Beitrag von 5\,- Euro vor Ort. Bitte melden Sie sich über untenstehenden Link an. \n\n\n—–\n\nAblauf\nDie Vorträge im Rahmen der Eberbacher Impulse beginnen um 19.00 Uhr und dauern ca. 1 Stunde. Anschließend gibt es die Möglichkeit zur Begegnung.\nVor den Vorträgen findet bei den Eberbacher Impulsen um 18.30 Uhr eine Schweige-Meditation statt\, ab 18.00 Uhr gibt es ein Vorgespräch zur Praxis der Meditation für Neueinsteiger oder generell an der Schweigemeditation Interessierte.\n\n\n—–\n\n\nAnfahrt\n\nDer Veranstaltungsraum ist in der Regel der Raum „Brauhaus“. Der Weg zum Veranstaltungsort ist vom Innenhof des Klosters aus beschildert. Die Anfahrt zum Innenhof finden Sie hier.\n\n\n—–\n\nEine Veranstaltung mit Unterstützung der Stiftung Kloster Eberbach.
URL:https://kloster-academie.de/event/eberbacher-impulse-februar/
LOCATION:Kloster Eberbach\, Kloster-Eberbach-Str. 1\, Eltville am Rhein\, Hessen\, 65346
CATEGORIES:Eberbacher Impulse,Highlights
ATTACH;FMTTYPE=image/png:https://kloster-academie.de/wp-content/uploads/2020/06/Eberbacher-Impulse.png
ORGANIZER;CN="Academie Kloster Eberbach":MAILTO:info@kloster-academie.de
END:VEVENT
END:VCALENDAR