BEGIN:VCALENDAR
VERSION:2.0
PRODID:-//Academie Kloster Eberbach - ECPv6.8.1//NONSGML v1.0//EN
CALSCALE:GREGORIAN
METHOD:PUBLISH
X-ORIGINAL-URL:https://kloster-academie.de
X-WR-CALDESC:Veranstaltungen für Academie Kloster Eberbach
REFRESH-INTERVAL;VALUE=DURATION:PT1H
X-Robots-Tag:noindex
X-PUBLISHED-TTL:PT1H
BEGIN:VTIMEZONE
TZID:Europe/Berlin
BEGIN:DAYLIGHT
TZOFFSETFROM:+0100
TZOFFSETTO:+0200
TZNAME:CEST
DTSTART:20240331T010000
END:DAYLIGHT
BEGIN:STANDARD
TZOFFSETFROM:+0200
TZOFFSETTO:+0100
TZNAME:CET
DTSTART:20241027T010000
END:STANDARD
END:VTIMEZONE
BEGIN:VEVENT
DTSTART;TZID=Europe/Berlin:20241121T183000
DTEND;TZID=Europe/Berlin:20241121T190000
DTSTAMP:20260421T152353
CREATED:20231227T132241Z
LAST-MODIFIED:20231227T132241Z
UID:4842-1732213800-1732215600@kloster-academie.de
SUMMARY:Online-Meditation
DESCRIPTION:Wir bieten Interessierten JEDEN Donnerstag um 18.30 Uhr die Gelegenheit zur Teilnahme an einer Online-Meditation anbieten. Sie soll in der gleichen\, schlichten Form wie die Meditationen im Kloster Eberbach stattfinden: Kurze Einführung (ca. 5 Minuten) und Meditationszeit von gut 20 Minuten\, sodass jeder nach einer halben Stunde wieder „frei“ ist. \nWir sind Michael Hüttner sehr dankbar\, dass er diese Treffen leiten wird. Er ist Gründungsmitglied der Academie und dem Thema „Meditation“ schon seit langer Zeit verbunden. Nach seiner Tätigkeit bei der Commerzbank in Frankfurt ist er schwerpunktmäßig auch mit dem Thema „Coaching“ befasst. \nWir bitten darum\, so zeitig beizutreten\, dass die Zeit der Schweigemeditation nicht gestört wird.\nDen Zugang hierzu finden Sie über den folgenden Link\, der für die Online-Meditationen auch künftig gelten wird: \nhttps://zoom.us/j/98374369404?pwd=aDZKNStZTFR1WjNvZTVVQTZkVmpLdz09\nMeeting-ID: 983 7436 9404\nKenncode: 846603
URL:https://kloster-academie.de/event/online-meditation-151/
LOCATION:Online per Zoom
CATEGORIES:Meditation & Achtsamkeit
ATTACH;FMTTYPE=image/png:https://kloster-academie.de/wp-content/uploads/2021/06/oeffentlicher-vortrag-1.png
ORGANIZER;CN="Academie Kloster Eberbach":MAILTO:info@kloster-academie.de
END:VEVENT
BEGIN:VEVENT
DTSTART;TZID=Europe/Berlin:20241121T193000
DTEND;TZID=Europe/Berlin:20241121T210000
DTSTAMP:20260421T152353
CREATED:20240107T120607Z
LAST-MODIFIED:20240107T120607Z
UID:4902-1732217400-1732222800@kloster-academie.de
SUMMARY:ACADEMIE to go: NICHT GANZ DA - Von der reinen Gegenwart
DESCRIPTION:Diese Veranstaltung wird per Zoom stattfinden. Den Link finden Sie hier: \nhttps://zoom.us/j/94412478221?pwd=c2FYTitTMFRxTlRKOE5kYlhCdnIzdz09 \nMeeting-ID: 944 1247 8221\n \nMenschen\, die nicht mehr viel von sich reden machen\, lenken uns kaum ab. Dement\, denken wir abwesend. Wenn wir wieder bei uns sind\, haben sie uns viel zu sagen. \nKeine Anmeldung erforderlich\, Eintritt frei(willig) \n\n\nEine Veranstaltungsreihe der Academie Kloster Eberbach\n\nDauer: 90 Minuten
URL:https://kloster-academie.de/event/academie-to-go-nicht-ganz-da-von-der-reinen-gegenwart/
LOCATION:Online per Zoom
CATEGORIES:ACADEMIE to go,Spiritualität & Gesellschaft
ATTACH;FMTTYPE=image/png:https://kloster-academie.de/wp-content/uploads/2020/06/Academie-to-go.png
ORGANIZER;CN="Academie Kloster Eberbach":MAILTO:info@kloster-academie.de
END:VEVENT
END:VCALENDAR