BEGIN:VCALENDAR
VERSION:2.0
PRODID:-//Academie Kloster Eberbach - ECPv6.8.1//NONSGML v1.0//EN
CALSCALE:GREGORIAN
METHOD:PUBLISH
X-WR-CALNAME:Academie Kloster Eberbach
X-ORIGINAL-URL:https://kloster-academie.de
X-WR-CALDESC:Veranstaltungen für Academie Kloster Eberbach
REFRESH-INTERVAL;VALUE=DURATION:PT1H
X-Robots-Tag:noindex
X-PUBLISHED-TTL:PT1H
BEGIN:VTIMEZONE
TZID:Europe/Berlin
BEGIN:DAYLIGHT
TZOFFSETFROM:+0100
TZOFFSETTO:+0200
TZNAME:CEST
DTSTART:20240331T010000
END:DAYLIGHT
BEGIN:STANDARD
TZOFFSETFROM:+0200
TZOFFSETTO:+0100
TZNAME:CET
DTSTART:20241027T010000
END:STANDARD
END:VTIMEZONE
BEGIN:VEVENT
DTSTART;TZID=Europe/Berlin:20241106T183000
DTEND;TZID=Europe/Berlin:20241106T190000
DTSTAMP:20260423T140514
CREATED:20240108T182413Z
LAST-MODIFIED:20240108T182413Z
UID:4962-1730917800-1730919600@kloster-academie.de
SUMMARY:Schweige-Meditation
DESCRIPTION:„Aus dem Schweigen kommt alle Kraft.“\nBernhard von Clairvaux (1091 – 1153)\nKloster Eberbach ist auch ein Ort der Stille. Kommen Sie zur Ruhe in der abendlichen klösterlichen Abgeschiedenheit. \nMittwochs von 18.30 Uhr bis 19.00 Uhr bieten wir Ihnen nach einer kurzen Einführung eine Schweigemeditation im Geist des Klosters an. Hier öffnet sich die Tür zu einer Dimension\, die in unserem Alltag oft zu kurz kommt. \nMeditation ist nicht nur ein wirksames Mittel gegen\nStress. Sie kann Ihnen auch helfen:\n• wacher und achtsamer zu werden\,\n• klarer zu sehen\,\n• Selbsterkenntnis zu gewinnen\,\n• innere Stärke zu entfalten\n• und bewusster zu handeln\nVorerfahrungen sind nicht erforderlich\, es reicht ein offenes Herz und eine halbe Stunde Zeit in der neun Jahrhunderte alten Klosteranlage. Probieren Sie es aus! \nDer Weg zum Meditations-Raum ist vom Innenhof des Klosters aus beschildert. Eine Anfahrtsskizze finden Sie hier. \n  \nDie Teilnahme ist kostenfrei. Eine Anmeldung ist nicht erforderlich. \n 
URL:https://kloster-academie.de/event/schweige-meditation-57/
LOCATION:Kloster Eberbach\, Kloster-Eberbach-Str. 1\, Eltville am Rhein\, Hessen\, 65346
CATEGORIES:Meditation & Achtsamkeit
ATTACH;FMTTYPE=image/png:https://kloster-academie.de/wp-content/uploads/2020/06/Schweige-Meditation.png
ORGANIZER;CN="Academie Kloster Eberbach":MAILTO:info@kloster-academie.de
END:VEVENT
BEGIN:VEVENT
DTSTART;TZID=Europe/Berlin:20241106T190000
DTEND;TZID=Europe/Berlin:20241106T210000
DTSTAMP:20260423T140514
CREATED:20240115T182140Z
LAST-MODIFIED:20240714T183831Z
UID:5021-1730919600-1730926800@kloster-academie.de
SUMMARY:Eberbacher Impulse: Gott sei Dank für die Trauer - Trauern und die Zukunft gewinnen
DESCRIPTION:Gott sei Dank für die Trauer – Trauern und die Zukunft gewinnen \nReferentin: Dr. Eva Maria Höller-Cladders\, Philosophin\, ehem. Managerin in internationalen Konzernen\, heute Beraterin für Sprache\, Strategie und Kommunikation \n\n\n\n———–\n\nZum Inhalt des Vortrags:\n\nHerbstzeit ist Trauerzeit. Während die Natur sich zurückzieht und sich aufs Schönste in eine Ruhephase hineinwandelt\, die doch kein Sterben ist…; und während wir als Individuen eine Tendenz haben\, uns verstärkt ins Innere zurückzuziehen\, rüsten auch Gesellschaft\, Kirchen und Politik zur Trauer: Allerseelen\, Buß- und Bettag\, Volkstrauertag\, Totensonntag. Ob individuelles Reagieren auf Schuld- oder Verlusterlebnisse oder ob ritualisiertes kollektives Gedenken: Trauern ist stets funktional. Auf der Nahtstelle zwischen  Vergangenheits­bewältigung und Zukunftsgestaltung markiert die Trauer eine oft ungeliebte\, manchmal sogar schamhaft versteckte\, dann wieder ostentativ zur Schau gestellte Zwischenphase der Bewältigung des Nicht-Mehr und des Noch-Nicht. Das gilt für Begebenheiten im Alten Testament ebenso wie für Krisen im modernen (Berufs-)Alltag. Der Vortrag geht auf Spurensuche in der Bibel und im heutigen (Berufs-)Leben und beleuchtet anhand ausgewählter Beispiele\, welche Produktivität Trauern freizusetzen vermag und so Zukunft allererst ermöglicht. \n\n\n\n\nZur Person unserer Referentin:\n\n\nDr. Eva Maria Höller-Cladders – \nBeraterin für Sprache\, Strategie und Kommunikation. Langjährige Führungsverantwortung in internationalen Konzernen (BMW\, Deutsche Bahn\, Bosch\, Deutschland und USA). Redenschreiberin in Politik & Verwaltung. Philosophin\, promovierte Anglistin. \n \n\n\n\n\n—–\n\n\n\nAnmeldung und Kosten\nDie Teilnahme für Mitglieder der Academie Kloster Eberbach ist kostenlos. Von Nicht-Mitgliedern erbitten wir zur Deckung unserer Kosten einen Beitrag von 5\,- Euro vor Ort. Bitte melden Sie sich über untenstehenden Link an. \n\n\n—–\n\nAblauf\nDie Vorträge im Rahmen der Eberbacher Impulse beginnen um 19.00 Uhr und dauern ca. 1 Stunde. Anschließend gibt es die Möglichkeit zur Begegnung.\nVor den Vorträgen findet bei den Eberbacher Impulsen um 18.30 Uhr eine Schweige-Meditation statt\, ab 18.00 Uhr gibt es ein Vorgespräch zur Praxis der Meditation für Neueinsteiger oder generell an der Schweigemeditation Interessierte.\n\n\n—–\n\n\nAnfahrt\n\nDer Veranstaltungsraum ist in der Regel der Raum „Brauhaus“. Der Weg zum Veranstaltungsort ist vom Innenhof des Klosters aus beschildert. Die Anfahrt zum Innenhof finden Sie hier.\n\n\n—–\n\nEine Veranstaltung mit Unterstützung der Stiftung Kloster Eberbach.
URL:https://kloster-academie.de/event/eberbacher-impulse-gott-sei-dank-fuer-die-trauer-trauern-und-die-zukunft-gewinnen/
LOCATION:Kloster Eberbach\, Kloster-Eberbach-Str. 1\, Eltville am Rhein\, Hessen\, 65346
CATEGORIES:Eberbacher Impulse,Highlights,Meditation & Achtsamkeit
ATTACH;FMTTYPE=image/png:https://kloster-academie.de/wp-content/uploads/2020/06/Eberbacher-Impulse.png
ORGANIZER;CN="Academie Kloster Eberbach":MAILTO:info@kloster-academie.de
END:VEVENT
END:VCALENDAR